BEGIN:VCALENDAR
VERSION:2.0
PRODID:-//Tělovýchovná jednota Bojkovice A ,z.s.78486//NONSGML kigkonsult.se iCalcreator 2.41.80//
CALSCALE:GREGORIAN
UID:33323734-3235-4066-b531-623563353231
BEGIN:VEVENT
UID:35376534-6132-4138-a533-393439653936
DTSTAMP:20260426T034128Z
DESCRIPTION:1/2 TJ Bojkovice 'A' - TJ Bojkovice 'B' 3:0 (16\,14\,12)
DTSTART;TZID=Europe/Berlin:20221014T180000
DTEND;TZID=Europe/Berlin:20221014T200000
LOCATION:ZŠ TGM Bojkovice\, Štefánikova 460 Bojkovice
SUMMARY:ZLK-M: TJ Bojkovice 'A'-TJ Bojkovice 'B'
END:VEVENT
BEGIN:VEVENT
UID:39656638-3130-4931-b166-316236343539
DTSTAMP:20260426T034128Z
DESCRIPTION:2/5 TJ Bojkovice 'A' - TJ Bojkovice 'B' 3:0 (18\,8\,14)
DTSTART;TZID=Europe/Berlin:20221014T200000
DTEND;TZID=Europe/Berlin:20221014T220000
LOCATION:ZŠ TGM Bojkovice\, Štefánikova 460 Bojkovice
SUMMARY:ZLK-M: TJ Bojkovice 'A'-TJ Bojkovice 'B'
END:VEVENT
BEGIN:VEVENT
UID:65613337-3033-4937-a164-373133336339
DTSTAMP:20260426T034128Z
DESCRIPTION:5/13 TJ Bojkovice 'A' - SK Kojetín \,\,C' 3:2 (19\,-21\,20\,-20
 \,7)
DTSTART;TZID=Europe/Berlin:20221105T160000
DTEND;TZID=Europe/Berlin:20221105T180000
LOCATION:ZŠ TGM Bojkovice\, Štefánikova 460 Bojkovice
SUMMARY:ZLK-M: TJ Bojkovice 'A'-SK Kojetín \,\,C'
END:VEVENT
BEGIN:VEVENT
UID:32366231-3231-4830-a365-333461333935
DTSTAMP:20260426T034128Z
DESCRIPTION:6/16 TJ Bojkovice 'A' - SK Kojetín \,\,C' 3:0 (18\,19\,19)
DTSTART;TZID=Europe/Berlin:20221105T190000
DTEND;TZID=Europe/Berlin:20221105T210000
LOCATION:ZŠ TGM Bojkovice\, Štefánikova 460 Bojkovice
SUMMARY:ZLK-M: TJ Bojkovice 'A'-SK Kojetín \,\,C'
END:VEVENT
BEGIN:VEVENT
UID:38343462-3333-4239-b561-363066313861
DTSTAMP:20260426T034128Z
DESCRIPTION:7/19 TJ Bojkovice 'A' - VK MEZ Vsetín 3:2 (20\,-20\,20\,-18\,11
 )
DTSTART;TZID=Europe/Berlin:20221119T160000
DTEND;TZID=Europe/Berlin:20221119T180000
LOCATION:ZŠ TGM Bojkovice\, Štefánikova 460 Bojkovice
SUMMARY:ZLK-M: TJ Bojkovice 'A'-VK MEZ Vsetín
END:VEVENT
BEGIN:VEVENT
UID:66346263-3832-4863-b837-396665613562
DTSTAMP:20260426T034128Z
DESCRIPTION:8/22 TJ Bojkovice 'A' - VK MEZ Vsetín 3:1 (21\,-14\,23\,25)
DTSTART;TZID=Europe/Berlin:20221119T190000
DTEND;TZID=Europe/Berlin:20221119T210000
LOCATION:ZŠ TGM Bojkovice\, Štefánikova 460 Bojkovice
SUMMARY:ZLK-M: TJ Bojkovice 'A'-VK MEZ Vsetín
END:VEVENT
BEGIN:VEVENT
UID:33343337-3730-4336-b232-343766656230
DTSTAMP:20260426T034128Z
DESCRIPTION:13/37 TJ Bojkovice 'A' - Holešov 0:3 (-20\,-16\,-21)
DTSTART;TZID=Europe/Berlin:20230120T180000
DTEND;TZID=Europe/Berlin:20230120T200000
LOCATION:ZŠ TGM Bojkovice\, Štefánikova 460 Bojkovice
SUMMARY:ZLK-M: TJ Bojkovice 'A'-Holešov
END:VEVENT
BEGIN:VEVENT
UID:64643561-3165-4031-a561-666432306432
DTSTAMP:20260426T034128Z
DESCRIPTION:14/40 TJ Bojkovice 'A' - Holešov 3:1 (-23\,23\,24\,24)
DTSTART;TZID=Europe/Berlin:20230120T210000
DTEND;TZID=Europe/Berlin:20230120T230000
LOCATION:ZŠ TGM Bojkovice\, Štefánikova 460 Bojkovice
SUMMARY:ZLK-M: TJ Bojkovice 'A'-Holešov
END:VEVENT
BEGIN:VEVENT
UID:36343839-6234-4135-b738-386438343333
DTSTAMP:20260426T034128Z
DESCRIPTION:19/56 TJ Bojkovice 'A' - VSK Staré Město 'B' 3:1 (23\,-17\,18\,
 24)
DTSTART;TZID=Europe/Berlin:20230318T160000
DTEND;TZID=Europe/Berlin:20230318T180000
LOCATION:ZŠ TGM Bojkovice\, Štefánikova 460 Bojkovice
SUMMARY:ZLK-M: TJ Bojkovice 'A'-VSK Staré Město 'B'
END:VEVENT
BEGIN:VEVENT
UID:62353935-6339-4462-b736-353538363264
DTSTAMP:20260426T034128Z
DESCRIPTION:20/59 TJ Bojkovice 'A' - VSK Staré Město 'B' 3:2 (-23\,22\,12\,
 -15\,7)
DTSTART;TZID=Europe/Berlin:20230318T190000
DTEND;TZID=Europe/Berlin:20230318T210000
LOCATION:ZŠ TGM Bojkovice\, Štefánikova 460 Bojkovice
SUMMARY:ZLK-M: TJ Bojkovice 'A'-VSK Staré Město 'B'
END:VEVENT
BEGIN:VEVENT
UID:64323133-6234-4635-b534-313361653761
DTSTAMP:20260426T034128Z
DESCRIPTION:3/7 Holešov - TJ Bojkovice 'A' 3:1 (18\,-23\,16\,14)
DTSTART;TZID=Europe/Berlin:20221029T150000
DTEND;TZID=Europe/Berlin:20221029T170000
LOCATION:SPŠ MV\, Zlínská 991 Holešov
SUMMARY:ZLK-M: Holešov-TJ Bojkovice 'A'
END:VEVENT
BEGIN:VEVENT
UID:39623461-3938-4365-b363-626362653838
DTSTAMP:20260426T034128Z
DESCRIPTION:4/10 Holešov - TJ Bojkovice 'A' 2:3 (-18\,21\,-13\,15\,-11)
DTSTART;TZID=Europe/Berlin:20221029T180000
DTEND;TZID=Europe/Berlin:20221029T200000
LOCATION:SPŠ MV\, Zlínská 991 Holešov
SUMMARY:ZLK-M: Holešov-TJ Bojkovice 'A'
END:VEVENT
BEGIN:VEVENT
UID:61626639-6530-4463-b462-656135636530
DTSTAMP:20260426T034128Z
DESCRIPTION:9/26 VSK Staré Město 'B' - TJ Bojkovice 'A' 3:2 (23\,-23\,22\,-
 18\,12)
DTSTART;TZID=Europe/Berlin:20230310T180000
DTEND;TZID=Europe/Berlin:20230310T200000
LOCATION:Městská sportovní hala Širůch\, Nad Hřištěm 1921 Staré Město
SUMMARY:ZLK-M: VSK Staré Město 'B'-TJ Bojkovice 'A'
END:VEVENT
BEGIN:VEVENT
UID:63636332-6234-4663-b736-333932626539
DTSTAMP:20260426T034128Z
DESCRIPTION:10/29 VSK Staré Město 'B' - TJ Bojkovice 'A' 3:2 (-22\,15\,22\,
 -17\,13)
DTSTART;TZID=Europe/Berlin:20230310T200000
DTEND;TZID=Europe/Berlin:20230310T220000
LOCATION:Městská sportovní hala Širůch\, Nad Hřištěm 1921 Staré Město
SUMMARY:ZLK-M: VSK Staré Město 'B'-TJ Bojkovice 'A'
END:VEVENT
BEGIN:VEVENT
UID:64313436-6162-4533-b936-376362633966
DTSTAMP:20260426T034128Z
DESCRIPTION:11/32 TJ Bojkovice 'B' - TJ Bojkovice 'A' 0:3 (-15\,-12\,-13)
DTSTART;TZID=Europe/Berlin:20230113T180000
DTEND;TZID=Europe/Berlin:20230113T200000
LOCATION:ZŠ TGM Bojkovice\, Štefánikova 460 Bojkovice
SUMMARY:ZLK-M: TJ Bojkovice 'B'-TJ Bojkovice 'A'
END:VEVENT
BEGIN:VEVENT
UID:35383336-3036-4338-b137-306266356237
DTSTAMP:20260426T034128Z
DESCRIPTION:12/35 TJ Bojkovice 'B' - TJ Bojkovice 'A' 0:3 (-17\,-13\,-14)
DTSTART;TZID=Europe/Berlin:20230113T200000
DTEND;TZID=Europe/Berlin:20230113T220000
LOCATION:ZŠ TGM Bojkovice\, Štefánikova 460 Bojkovice
SUMMARY:ZLK-M: TJ Bojkovice 'B'-TJ Bojkovice 'A'
END:VEVENT
BEGIN:VEVENT
UID:36623563-3733-4432-a661-663264643161
DTSTAMP:20260426T034128Z
DESCRIPTION:15/43 SK Kojetín \,\,C' - TJ Bojkovice 'A' 0:3 (-22\,-17\,-18)
DTSTART;TZID=Europe/Berlin:20230212T100000
DTEND;TZID=Europe/Berlin:20230212T120000
LOCATION:Městská sportovní hala\, Hanusíkova 1476 Kojetín - Kojetín I-Město
SUMMARY:ZLK-M: SK Kojetín \,\,C'-TJ Bojkovice 'A'
END:VEVENT
BEGIN:VEVENT
UID:63643763-6332-4563-b263-333066643431
DTSTAMP:20260426T034128Z
DESCRIPTION:16/46 SK Kojetín \,\,C' - TJ Bojkovice 'A' 1:3 (-21\,21\,-16\,-
 18)
DTSTART;TZID=Europe/Berlin:20230212T130000
DTEND;TZID=Europe/Berlin:20230212T150000
LOCATION:Městská sportovní hala\, Hanusíkova 1476 Kojetín - Kojetín I-Město
SUMMARY:ZLK-M: SK Kojetín \,\,C'-TJ Bojkovice 'A'
END:VEVENT
BEGIN:VEVENT
UID:64616536-3262-4138-b530-643332393735
DTSTAMP:20260426T034128Z
DESCRIPTION:17/49 VK MEZ Vsetín - TJ Bojkovice 'A' 3:1 (16\,14\,-16\,19)
DTSTART;TZID=Europe/Berlin:20230304T100000
DTEND;TZID=Europe/Berlin:20230304T120000
LOCATION:Sportovní hala Na Lapači\, Na Lapači 247 Vsetín - Rokytnice
SUMMARY:ZLK-M: VK MEZ Vsetín-TJ Bojkovice 'A'
END:VEVENT
BEGIN:VEVENT
UID:61393932-3735-4839-a431-656431373038
DTSTAMP:20260426T034128Z
DESCRIPTION:18/52 VK MEZ Vsetín - TJ Bojkovice 'A' 3:2 (-22\,22\,-20\,21\,1
 3)
DTSTART;TZID=Europe/Berlin:20230304T130000
DTEND;TZID=Europe/Berlin:20230304T150000
LOCATION:Sportovní hala Na Lapači\, Na Lapači 247 Vsetín - Rokytnice
SUMMARY:ZLK-M: VK MEZ Vsetín-TJ Bojkovice 'A'
END:VEVENT
END:VCALENDAR
