BEGIN:VCALENDAR
VERSION:2.0
PRODID:-//TĚLOVÝCHOVNÁ JEDNOTA NIVNICE z.s.78504//NONSGML kigkonsult.se iCalcreator 2.41.80//
CALSCALE:GREGORIAN
UID:33663761-6138-4931-b932-616563353737
BEGIN:VEVENT
UID:63623937-3764-4235-b433-623065306666
DTSTAMP:20260422T203417Z
DESCRIPTION:1/3 TJ NIVNICE - SK Slavičín 3:1 (-20\,16\,20\,22)
DTSTART;TZID=Europe/Berlin:20221009T100000
DTEND;TZID=Europe/Berlin:20221009T120000
LOCATION:Sportovní hala Nivnice\, Podohradí 888 Nivnice
SUMMARY:ZLK-U18Z: TJ NIVNICE-SK Slavičín
END:VEVENT
BEGIN:VEVENT
UID:62653031-6332-4231-b566-333465393664
DTSTAMP:20260422T203417Z
DESCRIPTION:2/6 TJ NIVNICE - SK Slavičín 3:0 (12\,20\,17)
DTSTART;TZID=Europe/Berlin:20221009T130000
DTEND;TZID=Europe/Berlin:20221009T150000
LOCATION:Sportovní hala Nivnice\, Podohradí 888 Nivnice
SUMMARY:ZLK-U18Z: TJ NIVNICE-SK Slavičín
END:VEVENT
BEGIN:VEVENT
UID:64616636-6665-4232-b265-313966386332
DTSTAMP:20260422T203417Z
DESCRIPTION:5/14 TJ NIVNICE - Kroměříž 0:3 (-13\,-9\,-24)
DTSTART;TZID=Europe/Berlin:20221023T100000
DTEND;TZID=Europe/Berlin:20221023T120000
LOCATION:Sportovní hala Nivnice\, Podohradí 888 Nivnice
SUMMARY:ZLK-U18Z: TJ NIVNICE-Kroměříž
END:VEVENT
BEGIN:VEVENT
UID:32636463-3062-4166-b336-633037353562
DTSTAMP:20260422T203417Z
DESCRIPTION:6/17 TJ NIVNICE - Kroměříž 0:3 (-14\,-22\,-14)
DTSTART;TZID=Europe/Berlin:20221023T130000
DTEND;TZID=Europe/Berlin:20221023T150000
LOCATION:Sportovní hala Nivnice\, Podohradí 888 Nivnice
SUMMARY:ZLK-U18Z: TJ NIVNICE-Kroměříž
END:VEVENT
BEGIN:VEVENT
UID:65326234-3964-4465-a338-623735336333
DTSTAMP:20260422T203417Z
DESCRIPTION:9/25 TJ NIVNICE - VK AUSTIN Vsetín 1:3 (-25\,-20\,20\,-22)
DTSTART;TZID=Europe/Berlin:20221113T100000
DTEND;TZID=Europe/Berlin:20221113T120000
LOCATION:Sportovní hala Nivnice\, Podohradí 888 Nivnice
SUMMARY:ZLK-U18Z: TJ NIVNICE-VK AUSTIN Vsetín
END:VEVENT
BEGIN:VEVENT
UID:35346430-3832-4561-b433-613931366565
DTSTAMP:20260422T203417Z
DESCRIPTION:10/28 TJ NIVNICE - VK AUSTIN Vsetín 3:0 (24\,17\,21)
DTSTART;TZID=Europe/Berlin:20221113T130000
DTEND;TZID=Europe/Berlin:20221113T150000
LOCATION:Sportovní hala Nivnice\, Podohradí 888 Nivnice
SUMMARY:ZLK-U18Z: TJ NIVNICE-VK AUSTIN Vsetín
END:VEVENT
BEGIN:VEVENT
UID:35353137-3861-4230-b963-363636353732
DTSTAMP:20260422T203417Z
DESCRIPTION:13/38 TJ NIVNICE - TJ Spartak Uherský Brod 3:1 (-21\,12\,13\,20
 )
DTSTART;TZID=Europe/Berlin:20230108T100000
DTEND;TZID=Europe/Berlin:20230108T120000
LOCATION:Sportovní hala Nivnice\, Podohradí 888 Nivnice
SUMMARY:ZLK-U18Z: TJ NIVNICE-TJ Spartak Uherský Brod
END:VEVENT
BEGIN:VEVENT
UID:63376435-3338-4464-b263-353830383439
DTSTAMP:20260422T203417Z
DESCRIPTION:14/41 TJ NIVNICE - TJ Spartak Uherský Brod 3:2 (-29\,17\,14\,-1
 6\,11)
DTSTART;TZID=Europe/Berlin:20230108T130000
DTEND;TZID=Europe/Berlin:20230108T150000
LOCATION:Sportovní hala Nivnice\, Podohradí 888 Nivnice
SUMMARY:ZLK-U18Z: TJ NIVNICE-TJ Spartak Uherský Brod
END:VEVENT
BEGIN:VEVENT
UID:31323065-6339-4539-b739-626336323261
DTSTAMP:20260422T203417Z
DESCRIPTION:17/51 TJ NIVNICE - TJ Slovácká Slavia UH 3:0 (15\,13\,11)
DTSTART;TZID=Europe/Berlin:20230122T100000
DTEND;TZID=Europe/Berlin:20230122T120000
LOCATION:Sportovní hala Nivnice\, Podohradí 888 Nivnice
SUMMARY:ZLK-U18Z: TJ NIVNICE-TJ Slovácká Slavia UH
END:VEVENT
BEGIN:VEVENT
UID:66646539-3161-4531-a638-623361653962
DTSTAMP:20260422T203417Z
DESCRIPTION:18/54 TJ NIVNICE - TJ Slovácká Slavia UH 3:1 (-17\,15\,6\,16)
DTSTART;TZID=Europe/Berlin:20230122T130000
DTEND;TZID=Europe/Berlin:20230122T150000
LOCATION:Sportovní hala Nivnice\, Podohradí 888 Nivnice
SUMMARY:ZLK-U18Z: TJ NIVNICE-TJ Slovácká Slavia UH
END:VEVENT
BEGIN:VEVENT
UID:31663666-3134-4661-b933-636639313366
DTSTAMP:20260422T203417Z
DESCRIPTION:3/8 TJ Spartak Uherský Brod - TJ NIVNICE 0:3 (-14\,-20\,-20)
DTSTART;TZID=Europe/Berlin:20221016T100000
DTEND;TZID=Europe/Berlin:20221016T120000
LOCATION:TJ SPARTAK UHERSKÝ BROD z.s.\, U Stadionu 2295 Uherský Brod
SUMMARY:ZLK-U18Z: TJ Spartak Uherský Brod-TJ NIVNICE
END:VEVENT
BEGIN:VEVENT
UID:36333238-6635-4435-b038-343636376438
DTSTAMP:20260422T203417Z
DESCRIPTION:4/11 TJ Spartak Uherský Brod - TJ NIVNICE 0:3 (-20\,-19\,-13)
DTSTART;TZID=Europe/Berlin:20221016T130000
DTEND;TZID=Europe/Berlin:20221016T150000
LOCATION:TJ SPARTAK UHERSKÝ BROD z.s.\, U Stadionu 2295 Uherský Brod
SUMMARY:ZLK-U18Z: TJ Spartak Uherský Brod-TJ NIVNICE
END:VEVENT
BEGIN:VEVENT
UID:38663633-3033-4839-b765-343766366538
DTSTAMP:20260422T203417Z
DESCRIPTION:7/21 TJ Slovácká Slavia UH - TJ NIVNICE 0:3 (-18\,-14\,-22)
DTSTART;TZID=Europe/Berlin:20221106T100000
DTEND;TZID=Europe/Berlin:20221106T120000
LOCATION:Městská sportovní hala\, Stonky 860 Uherské Hradiště
SUMMARY:ZLK-U18Z: TJ Slovácká Slavia UH-TJ NIVNICE
END:VEVENT
BEGIN:VEVENT
UID:31653633-6337-4532-b664-343035653939
DTSTAMP:20260422T203417Z
DESCRIPTION:8/24 TJ Slovácká Slavia UH - TJ NIVNICE 1:3 (15\,-17\,-13\,-18)
DTSTART;TZID=Europe/Berlin:20221106T130000
DTEND;TZID=Europe/Berlin:20221106T150000
LOCATION:Městská sportovní hala\, Stonky 860 Uherské Hradiště
SUMMARY:ZLK-U18Z: TJ Slovácká Slavia UH-TJ NIVNICE
END:VEVENT
BEGIN:VEVENT
UID:65383935-3533-4264-b764-306238306238
DTSTAMP:20260422T203417Z
DESCRIPTION:11/33 SK Slavičín - TJ NIVNICE 0:3 (-16\,-10\,-21)
DTSTART;TZID=Europe/Berlin:20221127T100000
DTEND;TZID=Europe/Berlin:20221127T120000
LOCATION:Sportovní hala Slavičín\, Školní 29 Slavičín
SUMMARY:ZLK-U18Z: SK Slavičín-TJ NIVNICE
END:VEVENT
BEGIN:VEVENT
UID:62636133-3437-4762-b861-643136666138
DTSTAMP:20260422T203417Z
DESCRIPTION:12/36 SK Slavičín - TJ NIVNICE 1:3 (19\,-19\,-17\,-20)
DTSTART;TZID=Europe/Berlin:20221127T130000
DTEND;TZID=Europe/Berlin:20221127T150000
LOCATION:Sportovní hala Slavičín\, Školní 29 Slavičín
SUMMARY:ZLK-U18Z: SK Slavičín-TJ NIVNICE
END:VEVENT
BEGIN:VEVENT
UID:38353465-3665-4330-b635-326231343766
DTSTAMP:20260422T203417Z
DESCRIPTION:15/44 Kroměříž - TJ NIVNICE 3:0 (16\,25\,19)
DTSTART;TZID=Europe/Berlin:20230115T100000
DTEND;TZID=Europe/Berlin:20230115T120000
LOCATION:ZŠ Slovan\, Zeyerova 3354 Kroměříž
SUMMARY:ZLK-U18Z: Kroměříž-TJ NIVNICE
END:VEVENT
BEGIN:VEVENT
UID:38343930-6538-4738-b833-663930646239
DTSTAMP:20260422T203417Z
DESCRIPTION:16/47 Kroměříž - TJ NIVNICE 3:1 (-25\,19\,17\,21)
DTSTART;TZID=Europe/Berlin:20230115T130000
DTEND;TZID=Europe/Berlin:20230115T150000
LOCATION:ZŠ Slovan\, Zeyerova 3354 Kroměříž
SUMMARY:ZLK-U18Z: Kroměříž-TJ NIVNICE
END:VEVENT
BEGIN:VEVENT
UID:38643135-3236-4430-a431-356631663837
DTSTAMP:20260422T203417Z
DESCRIPTION:19/55 VK AUSTIN Vsetín - TJ NIVNICE 1:3 (22\,-11\,-15\,-21)
DTSTART;TZID=Europe/Berlin:20230226T090000
DTEND;TZID=Europe/Berlin:20230226T110000
LOCATION:Sportovní hala Na Lapači\, Na Lapači 247 Vsetín - Rokytnice
SUMMARY:ZLK-U18Z: VK AUSTIN Vsetín-TJ NIVNICE
END:VEVENT
BEGIN:VEVENT
UID:61633139-6635-4962-b937-613563313933
DTSTAMP:20260422T203417Z
DESCRIPTION:20/58 VK AUSTIN Vsetín - TJ NIVNICE 0:3 (-17\,-21\,-24)
DTSTART;TZID=Europe/Berlin:20230226T120000
DTEND;TZID=Europe/Berlin:20230226T140000
LOCATION:Sportovní hala Na Lapači\, Na Lapači 247 Vsetín - Rokytnice
SUMMARY:ZLK-U18Z: VK AUSTIN Vsetín-TJ NIVNICE
END:VEVENT
BEGIN:VEVENT
UID:64383635-6436-4236-b438-633135346364
DTSTAMP:20260422T203417Z
DESCRIPTION:1/3 TJ NIVNICE - SK Slavičín 2:0 (22\,16)
DTSTART;TZID=Europe/Berlin:20220925T090000
DTEND;TZID=Europe/Berlin:20220925T110000
LOCATION:Sportovní hala Nivnice\, Podohradí 888 Nivnice
SUMMARY:PZLK-U18Z: TJ NIVNICE-SK Slavičín
END:VEVENT
BEGIN:VEVENT
UID:37663963-3062-4137-b038-303638373637
DTSTAMP:20260422T203417Z
DESCRIPTION:3/8 TJ NIVNICE - Kroměříž 0:2 (-21\,-15)
DTSTART;TZID=Europe/Berlin:20220925T120000
DTEND;TZID=Europe/Berlin:20220925T140000
LOCATION:Sportovní hala Nivnice\, Podohradí 888 Nivnice
SUMMARY:PZLK-U18Z: TJ NIVNICE-Kroměříž
END:VEVENT
BEGIN:VEVENT
UID:66363561-3363-4366-b639-613237313339
DTSTAMP:20260422T203417Z
DESCRIPTION:5/13 TJ NIVNICE - VK AUSTIN Vsetín 0:2 (-18\,-20)
DTSTART;TZID=Europe/Berlin:20220925T150000
DTEND;TZID=Europe/Berlin:20220925T170000
LOCATION:Sportovní hala Nivnice\, Podohradí 888 Nivnice
SUMMARY:PZLK-U18Z: TJ NIVNICE-VK AUSTIN Vsetín
END:VEVENT
BEGIN:VEVENT
UID:65623632-3533-4032-b139-303633316431
DTSTAMP:20260422T203417Z
DESCRIPTION:6/18 TJ NIVNICE - SK Slavičín 2:1 (-21\,21\,13)
DTSTART;TZID=Europe/Berlin:20230402T090000
DTEND;TZID=Europe/Berlin:20230402T110000
LOCATION:Sportovní hala Nivnice\, Podohradí 888 Nivnice
SUMMARY:PZLK-U18Z: TJ NIVNICE-SK Slavičín
END:VEVENT
BEGIN:VEVENT
UID:66363736-3239-4239-b531-306531343133
DTSTAMP:20260422T203417Z
DESCRIPTION:8/23 TJ NIVNICE - Kroměříž 0:2 (-21\,-16)
DTSTART;TZID=Europe/Berlin:20230402T120000
DTEND;TZID=Europe/Berlin:20230402T140000
LOCATION:Sportovní hala Nivnice\, Podohradí 888 Nivnice
SUMMARY:PZLK-U18Z: TJ NIVNICE-Kroměříž
END:VEVENT
BEGIN:VEVENT
UID:31316434-3766-4131-b766-373532336161
DTSTAMP:20260422T203417Z
DESCRIPTION:10/28 TJ NIVNICE - VK AUSTIN Vsetín 0:2 (-21\,-23)
DTSTART;TZID=Europe/Berlin:20230402T150000
DTEND;TZID=Europe/Berlin:20230402T170000
LOCATION:Sportovní hala Nivnice\, Podohradí 888 Nivnice
SUMMARY:PZLK-U18Z: TJ NIVNICE-VK AUSTIN Vsetín
END:VEVENT
BEGIN:VEVENT
UID:31633735-3738-4865-b462-343138643434
DTSTAMP:20260422T203417Z
DESCRIPTION:2/5 TJ Spartak Uherský Brod - TJ NIVNICE 2:1 (23\,-7\,12)
DTSTART;TZID=Europe/Berlin:20220925T103000
DTEND;TZID=Europe/Berlin:20220925T123000
LOCATION:TJ SPARTAK UHERSKÝ BROD z.s.\, U Stadionu 2295 Uherský Brod
SUMMARY:PZLK-U18Z: TJ Spartak Uherský Brod-TJ NIVNICE
END:VEVENT
BEGIN:VEVENT
UID:64353263-6135-4338-b039-346262363561
DTSTAMP:20260422T203417Z
DESCRIPTION:4/12 TJ Slovácká Slavia UH - TJ NIVNICE 0:2 (-0\,-0)
DTSTART;TZID=Europe/Berlin:20220925T133000
DTEND;TZID=Europe/Berlin:20220925T153000
LOCATION:Městská sportovní hala\, Stonky 860 Uherské Hradiště
SUMMARY:PZLK-U18Z: TJ Slovácká Slavia UH-TJ NIVNICE
END:VEVENT
BEGIN:VEVENT
UID:30613364-3663-4537-a233-626463333733
DTSTAMP:20260422T203417Z
DESCRIPTION:7/20 TJ Spartak Uherský Brod - TJ NIVNICE 0:2 (-17\,-21)
DTSTART;TZID=Europe/Berlin:20230402T103000
DTEND;TZID=Europe/Berlin:20230402T123000
LOCATION:TJ SPARTAK UHERSKÝ BROD z.s.\, U Stadionu 2295 Uherský Brod
SUMMARY:PZLK-U18Z: TJ Spartak Uherský Brod-TJ NIVNICE
END:VEVENT
BEGIN:VEVENT
UID:30333362-6631-4637-a435-363963333936
DTSTAMP:20260422T203417Z
DESCRIPTION:9/27 TJ Slovácká Slavia UH - TJ NIVNICE 2:0 (17\,22)
DTSTART;TZID=Europe/Berlin:20230402T133000
DTEND;TZID=Europe/Berlin:20230402T153000
LOCATION:Městská sportovní hala\, Stonky 860 Uherské Hradiště
SUMMARY:PZLK-U18Z: TJ Slovácká Slavia UH-TJ NIVNICE
END:VEVENT
END:VCALENDAR
