BEGIN:VCALENDAR
VERSION:2.0
PRODID:-//Volejbalový klub Litomyšl, z.s.78579//NONSGML kigkonsult.se iCalcreator 2.41.80//
CALSCALE:GREGORIAN
UID:33343864-3239-4238-b534-613438316433
BEGIN:VEVENT
UID:61353266-6465-4539-b461-646463633666
DTSTAMP:20260422T052726Z
DESCRIPTION:3/11 VK Litomyšl - TJ Sokol Kerhartice 2:3 (-18\,-19\,23\,11\,-
 14)
DTSTART;TZID=Europe/Berlin:20221105T110000
DTEND;TZID=Europe/Berlin:20221105T130000
LOCATION:Městská sportovní hala\, T. G. Masaryka 1145 Litomyšl - Litomyšl-M
 ěsto
SUMMARY:PA-M-1: VK Litomyšl-TJ Sokol Kerhartice
END:VEVENT
BEGIN:VEVENT
UID:32323762-3261-4638-b261-323331343834
DTSTAMP:20260422T052726Z
DESCRIPTION:4/15 VK Litomyšl - TJ Sokol Kerhartice 3:1 (20\,23\,-21\,25)
DTSTART;TZID=Europe/Berlin:20221105T140000
DTEND;TZID=Europe/Berlin:20221105T160000
LOCATION:Městská sportovní hala\, T. G. Masaryka 1145 Litomyšl - Litomyšl-M
 ěsto
SUMMARY:PA-M-1: VK Litomyšl-TJ Sokol Kerhartice
END:VEVENT
BEGIN:VEVENT
UID:61303438-3838-4332-a236-623562383730
DTSTAMP:20260422T052726Z
DESCRIPTION:7/26 VK Litomyšl - Rybník 3:2 (26\,-14\,21\,-17\,17)
DTSTART;TZID=Europe/Berlin:20221119T110000
DTEND;TZID=Europe/Berlin:20221119T130000
LOCATION:Městská sportovní hala\, T. G. Masaryka 1145 Litomyšl - Litomyšl-M
 ěsto
SUMMARY:PA-M-1: VK Litomyšl-Rybník
END:VEVENT
BEGIN:VEVENT
UID:32343238-3036-4638-a439-626232313132
DTSTAMP:20260422T052726Z
DESCRIPTION:8/30 VK Litomyšl - Rybník 0:3 (-21\,-19\,-22)
DTSTART;TZID=Europe/Berlin:20221119T140000
DTEND;TZID=Europe/Berlin:20221119T160000
LOCATION:Městská sportovní hala\, T. G. Masaryka 1145 Litomyšl - Litomyšl-M
 ěsto
SUMMARY:PA-M-1: VK Litomyšl-Rybník
END:VEVENT
BEGIN:VEVENT
UID:37313530-3061-4136-b130-656364353632
DTSTAMP:20260422T052726Z
DESCRIPTION:13/52 VK Litomyšl - TJ Svitavy 2:3 (21\,22\,-23\,-21\,-13)
DTSTART;TZID=Europe/Berlin:20221217T100000
DTEND;TZID=Europe/Berlin:20221217T120000
LOCATION:Městská sportovní hala\, T. G. Masaryka 1145 Litomyšl - Litomyšl-M
 ěsto
SUMMARY:PA-M-1: VK Litomyšl-TJ Svitavy
END:VEVENT
BEGIN:VEVENT
UID:30396263-6131-4663-a565-363939613336
DTSTAMP:20260422T052726Z
DESCRIPTION:14/56 VK Litomyšl - TJ Svitavy 0:3 (-22\,-20\,-17)
DTSTART;TZID=Europe/Berlin:20221217T130000
DTEND;TZID=Europe/Berlin:20221217T150000
LOCATION:Městská sportovní hala\, T. G. Masaryka 1145 Litomyšl - Litomyšl-M
 ěsto
SUMMARY:PA-M-1: VK Litomyšl-TJ Svitavy
END:VEVENT
BEGIN:VEVENT
UID:63666135-3335-4363-a231-353633616262
DTSTAMP:20260422T052726Z
DESCRIPTION:15/58 VK Litomyšl - TJ Energetik Chvaletice 3:2 (21\,22\,-21\,-
 21\,11)
DTSTART;TZID=Europe/Berlin:20230114T110000
DTEND;TZID=Europe/Berlin:20230114T130000
LOCATION:Městská sportovní hala\, T. G. Masaryka 1145 Litomyšl - Litomyšl-M
 ěsto
SUMMARY:PA-M-1: VK Litomyšl-TJ Energetik Chvaletice
END:VEVENT
BEGIN:VEVENT
UID:65303030-3537-4835-b666-616562353365
DTSTAMP:20260422T052726Z
DESCRIPTION:16/62 VK Litomyšl - TJ Energetik Chvaletice 2:3 (-20\,-20\,15\,
 24\,-9)
DTSTART;TZID=Europe/Berlin:20230114T140000
DTEND;TZID=Europe/Berlin:20230114T160000
LOCATION:Městská sportovní hala\, T. G. Masaryka 1145 Litomyšl - Litomyšl-M
 ěsto
SUMMARY:PA-M-1: VK Litomyšl-TJ Energetik Chvaletice
END:VEVENT
BEGIN:VEVENT
UID:34336534-3563-4332-b962-393235633031
DTSTAMP:20260422T052726Z
DESCRIPTION:19/75 VK Litomyšl - Hradec Králové B 0:3 (-18\,-17\,-26)
DTSTART;TZID=Europe/Berlin:20230128T110000
DTEND;TZID=Europe/Berlin:20230128T130000
LOCATION:Městská sportovní hala\, T. G. Masaryka 1145 Litomyšl - Litomyšl-M
 ěsto
SUMMARY:PA-M-1: VK Litomyšl-Hradec Králové B
END:VEVENT
BEGIN:VEVENT
UID:37316531-6361-4130-b161-366635633433
DTSTAMP:20260422T052726Z
DESCRIPTION:20/79 VK Litomyšl - Hradec Králové B 1:3 (16\,-14\,-22\,-21)
DTSTART;TZID=Europe/Berlin:20230128T140000
DTEND;TZID=Europe/Berlin:20230128T160000
LOCATION:Městská sportovní hala\, T. G. Masaryka 1145 Litomyšl - Litomyšl-M
 ěsto
SUMMARY:PA-M-1: VK Litomyšl-Hradec Králové B
END:VEVENT
BEGIN:VEVENT
UID:38613861-6366-4361-a365-303235353863
DTSTAMP:20260422T052726Z
DESCRIPTION:23/92 VK Litomyšl - Volejbal Červený Kostelec 3:0 (22\,20\,22)
DTSTART;TZID=Europe/Berlin:20230218T100000
DTEND;TZID=Europe/Berlin:20230218T120000
LOCATION:Městská sportovní hala\, T. G. Masaryka 1145 Litomyšl - Litomyšl-M
 ěsto
SUMMARY:PA-M-1: VK Litomyšl-Volejbal Červený Kostelec
END:VEVENT
BEGIN:VEVENT
UID:64336264-3436-4464-a537-653434323631
DTSTAMP:20260422T052726Z
DESCRIPTION:24/96 VK Litomyšl - Volejbal Červený Kostelec 3:0 (15\,17\,18)
DTSTART;TZID=Europe/Berlin:20230218T130000
DTEND;TZID=Europe/Berlin:20230218T150000
LOCATION:Městská sportovní hala\, T. G. Masaryka 1145 Litomyšl - Litomyšl-M
 ěsto
SUMMARY:PA-M-1: VK Litomyšl-Volejbal Červený Kostelec
END:VEVENT
BEGIN:VEVENT
UID:32346636-3433-4963-b038-356535356631
DTSTAMP:20260422T052726Z
DESCRIPTION:25/97 VK Litomyšl - TJ Sokol Česká Třebová II 3:0 (16\,17\,17)
DTSTART;TZID=Europe/Berlin:20230225T110000
DTEND;TZID=Europe/Berlin:20230225T130000
LOCATION:Městská sportovní hala\, T. G. Masaryka 1145 Litomyšl - Litomyšl-M
 ěsto
SUMMARY:PA-M-1: VK Litomyšl-TJ Sokol Česká Třebová II
END:VEVENT
BEGIN:VEVENT
UID:34616633-6336-4462-a234-343931353331
DTSTAMP:20260422T052726Z
DESCRIPTION:26/101 VK Litomyšl - TJ Sokol Česká Třebová II 3:1 (14\,21\,-19
 \,14)
DTSTART;TZID=Europe/Berlin:20230225T140000
DTEND;TZID=Europe/Berlin:20230225T160000
LOCATION:Městská sportovní hala\, T. G. Masaryka 1145 Litomyšl - Litomyšl-M
 ěsto
SUMMARY:PA-M-1: VK Litomyšl-TJ Sokol Česká Třebová II
END:VEVENT
BEGIN:VEVENT
UID:65653432-3062-4538-a664-373332653563
DTSTAMP:20260422T052726Z
DESCRIPTION:1/2 TJ Energetik Chvaletice - VK Litomyšl 1:3 (-15\,-17\,24\,-1
 9)
DTSTART;TZID=Europe/Berlin:20221022T100000
DTEND;TZID=Europe/Berlin:20221022T120000
LOCATION:ZŠ Chvaletice\, Spojovací 431 Chvaletice
SUMMARY:PA-M-1: TJ Energetik Chvaletice-VK Litomyšl
END:VEVENT
BEGIN:VEVENT
UID:30623438-6236-4265-a661-306565343864
DTSTAMP:20260422T052726Z
DESCRIPTION:2/6 TJ Energetik Chvaletice - VK Litomyšl 0:3 (-23\,-18\,-13)
DTSTART;TZID=Europe/Berlin:20221022T130000
DTEND;TZID=Europe/Berlin:20221022T150000
LOCATION:ZŠ Chvaletice\, Spojovací 431 Chvaletice
SUMMARY:PA-M-1: TJ Energetik Chvaletice-VK Litomyšl
END:VEVENT
BEGIN:VEVENT
UID:62313538-3338-4436-a538-613563306366
DTSTAMP:20260422T052726Z
DESCRIPTION:5/19 Hradec Králové B - VK Litomyšl 0:3 (-21\,-21\,-17)
DTSTART;TZID=Europe/Berlin:20221112T100000
DTEND;TZID=Europe/Berlin:20221112T120000
LOCATION:TJ Slavia Hradec Králové\, Víta Nejedlého 1216 Hradec Králové
SUMMARY:PA-M-1: Hradec Králové B-VK Litomyšl
END:VEVENT
BEGIN:VEVENT
UID:39346533-6432-4466-a432-646564303535
DTSTAMP:20260422T052726Z
DESCRIPTION:6/23 Hradec Králové B - VK Litomyšl 0:3 (-18\,-18\,-23)
DTSTART;TZID=Europe/Berlin:20221112T130000
DTEND;TZID=Europe/Berlin:20221112T150000
LOCATION:TJ Slavia Hradec Králové\, Víta Nejedlého 1216 Hradec Králové
SUMMARY:PA-M-1: Hradec Králové B-VK Litomyšl
END:VEVENT
BEGIN:VEVENT
UID:61376464-3335-4164-a434-303836626564
DTSTAMP:20260422T052726Z
DESCRIPTION:9/36 Volejbal Červený Kostelec - VK Litomyšl 0:3 (-19\,-16\,-20
 )
DTSTART;TZID=Europe/Berlin:20221126T100000
DTEND;TZID=Europe/Berlin:20221126T120000
LOCATION:Sportovní hala\, Palackého 1234 Červený Kostelec
SUMMARY:PA-M-1: Volejbal Červený Kostelec-VK Litomyšl
END:VEVENT
BEGIN:VEVENT
UID:37653832-3863-4238-b063-333662323438
DTSTAMP:20260422T052726Z
DESCRIPTION:10/40 Volejbal Červený Kostelec - VK Litomyšl 3:0 (23\,23\,22)
DTSTART;TZID=Europe/Berlin:20221126T130000
DTEND;TZID=Europe/Berlin:20221126T150000
LOCATION:Sportovní hala\, Palackého 1234 Červený Kostelec
SUMMARY:PA-M-1: Volejbal Červený Kostelec-VK Litomyšl
END:VEVENT
BEGIN:VEVENT
UID:37386630-3432-4066-b132-306132633739
DTSTAMP:20260422T052726Z
DESCRIPTION:11/41 TJ Sokol Česká Třebová II - VK Litomyšl 3:2 (24\,24\,-21\
 ,-13\,11)
DTSTART;TZID=Europe/Berlin:20221203T100000
DTEND;TZID=Europe/Berlin:20221203T120000
LOCATION:ZŠ Nádražní\, Nádražní 200 Česká Třebová
SUMMARY:PA-M-1: TJ Sokol Česká Třebová II-VK Litomyšl
END:VEVENT
BEGIN:VEVENT
UID:32666633-3034-4765-b435-323261333732
DTSTAMP:20260422T052726Z
DESCRIPTION:12/45 TJ Sokol Česká Třebová II - VK Litomyšl 2:3 (-21\,15\,-15
 \,25\,-8)
DTSTART;TZID=Europe/Berlin:20221203T130000
DTEND;TZID=Europe/Berlin:20221203T150000
LOCATION:ZŠ Nádražní\, Nádražní 200 Česká Třebová
SUMMARY:PA-M-1: TJ Sokol Česká Třebová II-VK Litomyšl
END:VEVENT
BEGIN:VEVENT
UID:64346335-6566-4362-b133-363965623961
DTSTAMP:20260422T052726Z
DESCRIPTION:17/67 TJ Sokol Kerhartice - VK Litomyšl 3:0 (19\,17\,22)
DTSTART;TZID=Europe/Berlin:20230121T100000
DTEND;TZID=Europe/Berlin:20230121T120000
LOCATION:Střední škola automobilní\, Dukelská 313 Ústí nad Orlicí - Hylváty
SUMMARY:PA-M-1: TJ Sokol Kerhartice-VK Litomyšl
END:VEVENT
BEGIN:VEVENT
UID:38643638-3736-4639-a136-646536376638
DTSTAMP:20260422T052726Z
DESCRIPTION:18/71 TJ Sokol Kerhartice - VK Litomyšl 3:0 (23\,25\,25)
DTSTART;TZID=Europe/Berlin:20230121T130000
DTEND;TZID=Europe/Berlin:20230121T150000
LOCATION:Střední škola automobilní\, Dukelská 313 Ústí nad Orlicí - Hylváty
SUMMARY:PA-M-1: TJ Sokol Kerhartice-VK Litomyšl
END:VEVENT
BEGIN:VEVENT
UID:66663266-3737-4366-a464-326663373930
DTSTAMP:20260422T052726Z
DESCRIPTION:21/82 Rybník - VK Litomyšl 3:0 (13\,22\,14)
DTSTART;TZID=Europe/Berlin:20230211T090000
DTEND;TZID=Europe/Berlin:20230211T110000
LOCATION:Základní škola Česká Třebová Habrmanova\, Na Skále\, Na Skále 566 
 Česká Třebová
SUMMARY:PA-M-1: Rybník-VK Litomyšl
END:VEVENT
BEGIN:VEVENT
UID:35316533-3839-4739-b834-653066343265
DTSTAMP:20260422T052726Z
DESCRIPTION:22/86 Rybník - VK Litomyšl 3:1 (20\,14\,-23\,16)
DTSTART;TZID=Europe/Berlin:20230211T130000
DTEND;TZID=Europe/Berlin:20230211T150000
LOCATION:Základní škola Česká Třebová Habrmanova\, Na Skále\, Na Skále 566 
 Česká Třebová
SUMMARY:PA-M-1: Rybník-VK Litomyšl
END:VEVENT
BEGIN:VEVENT
UID:35323139-3435-4266-b030-613833313435
DTSTAMP:20260422T052726Z
DESCRIPTION:27/108 TJ Svitavy - VK Litomyšl 3:0 (21\,12\,22)
DTSTART;TZID=Europe/Berlin:20230311T100000
DTEND;TZID=Europe/Berlin:20230311T120000
LOCATION:Sportovní hala Na Střelnici\, Pražská 2162 Svitavy - Předměstí
SUMMARY:PA-M-1: TJ Svitavy-VK Litomyšl
END:VEVENT
BEGIN:VEVENT
UID:39623664-3363-4132-a362-326164376132
DTSTAMP:20260422T052726Z
DESCRIPTION:28/112 TJ Svitavy - VK Litomyšl 3:0 (17\,17\,23)
DTSTART;TZID=Europe/Berlin:20230311T130000
DTEND;TZID=Europe/Berlin:20230311T150000
LOCATION:Sportovní hala Na Střelnici\, Pražská 2162 Svitavy - Předměstí
SUMMARY:PA-M-1: TJ Svitavy-VK Litomyšl
END:VEVENT
END:VCALENDAR
