BEGIN:VCALENDAR
VERSION:2.0
PRODID:-//SPORT KLUB VOLEJBAL Hošťálková, z.s.78593//NONSGML kigkonsult.se iCalcreator 2.41.80//
CALSCALE:GREGORIAN
UID:35666561-3834-4663-a431-653365316331
BEGIN:VEVENT
UID:33613564-3430-4939-b866-356131353730
DTSTAMP:20260425T145042Z
DESCRIPTION:3/6 SKV Hošťálková - TJ Bojkovice 0:2 (-14\,-20)
DTSTART;TZID=Europe/Berlin:20221023T110000
DTEND;TZID=Europe/Berlin:20221023T130000
LOCATION:ZŠ Hošťálková \,  Hošťálková380
SUMMARY:ZLK-U16Z-1C: SKV Hošťálková-TJ Bojkovice
END:VEVENT
BEGIN:VEVENT
UID:61633637-6233-4835-b165-323833666635
DTSTAMP:20260425T145042Z
DESCRIPTION:1/2 ŠSK Brumov-Bylnice - SKV Hošťálková 2:1 (-21\,21\,12)
DTSTART;TZID=Europe/Berlin:20221023T090000
DTEND;TZID=Europe/Berlin:20221023T110000
LOCATION:Sportovní hala Slavičín\, Školní 29 Slavičín
SUMMARY:ZLK-U16Z-1C: ŠSK Brumov-Bylnice-SKV Hošťálková
END:VEVENT
BEGIN:VEVENT
UID:63616239-3263-4630-b465-666564313437
DTSTAMP:20260425T145042Z
DESCRIPTION:2/3 VC Kroměříž 'B' - SKV Hošťálková 2:0 (9\,13)
DTSTART;TZID=Europe/Berlin:20221023T100000
DTEND;TZID=Europe/Berlin:20221023T120000
LOCATION:ZŠ Zachar\, Albertova 4062 Kroměříž
SUMMARY:ZLK-U16Z-1C: VC Kroměříž 'B'-SKV Hošťálková
END:VEVENT
BEGIN:VEVENT
UID:32373234-6333-4464-b731-343565396333
DTSTAMP:20260425T145042Z
DESCRIPTION:1/1 TJ Slovácká Slavia UH 'B' - SKV Hošťálková 2:0 (17\,24)
DTSTART;TZID=Europe/Berlin:20221113T090000
DTEND;TZID=Europe/Berlin:20221113T110000
LOCATION:Městská sportovní hala\, Stonky 860 Uherské Hradiště
SUMMARY:ZLK-U16Z-2C: TJ Slovácká Slavia UH 'B'-SKV Hošťálková
END:VEVENT
BEGIN:VEVENT
UID:33343662-3139-4437-b237-656337333035
DTSTAMP:20260425T145042Z
DESCRIPTION:2/4 VK Napajedla - SKV Hošťálková 1:2 (19\,-20\,-10)
DTSTART;TZID=Europe/Berlin:20221113T100000
DTEND;TZID=Europe/Berlin:20221113T120000
LOCATION:2.ZŠ Napajedla\, Komenského 298 Napajedla
SUMMARY:ZLK-U16Z-2C: VK Napajedla-SKV Hošťálková
END:VEVENT
BEGIN:VEVENT
UID:35303634-3939-4630-b466-333462373239
DTSTAMP:20260425T145042Z
DESCRIPTION:3/6 ŠSK Brumov-Bylnice - SKV Hošťálková 2:0 (9\,10)
DTSTART;TZID=Europe/Berlin:20221113T110000
DTEND;TZID=Europe/Berlin:20221113T130000
LOCATION:Sportovní hala Slavičín\, Školní 29 Slavičín
SUMMARY:ZLK-U16Z-2C: ŠSK Brumov-Bylnice-SKV Hošťálková
END:VEVENT
BEGIN:VEVENT
UID:38346639-3632-4231-b237-623336326139
DTSTAMP:20260425T145042Z
DESCRIPTION:1/2 SKV Hošťálková - VC Kroměříž 'B' 1:2 (14\,-12\,-12)
DTSTART;TZID=Europe/Berlin:20221203T090000
DTEND;TZID=Europe/Berlin:20221203T110000
LOCATION:ZŠ Hošťálková \,  Hošťálková380
SUMMARY:ZLK-U16Z-3C: SKV Hošťálková-VC Kroměříž 'B'
END:VEVENT
BEGIN:VEVENT
UID:31343134-3331-4236-b163-363365633339
DTSTAMP:20260425T145042Z
DESCRIPTION:2/4 SKV Hošťálková - TJ Bojkovice 1:2 (-10\,12\,-12)
DTSTART;TZID=Europe/Berlin:20221203T100000
DTEND;TZID=Europe/Berlin:20221203T120000
LOCATION:ZŠ Hošťálková \,  Hošťálková380
SUMMARY:ZLK-U16Z-3C: SKV Hošťálková-TJ Bojkovice
END:VEVENT
BEGIN:VEVENT
UID:62666263-3964-4365-b361-343565653466
DTSTAMP:20260425T145042Z
DESCRIPTION:3/5 VK Napajedla - SKV Hošťálková 2:1 (19\,-26\,11)
DTSTART;TZID=Europe/Berlin:20221203T110000
DTEND;TZID=Europe/Berlin:20221203T130000
LOCATION:2.ZŠ Napajedla\, Komenského 298 Napajedla
SUMMARY:ZLK-U16Z-3C: VK Napajedla-SKV Hošťálková
END:VEVENT
BEGIN:VEVENT
UID:31656338-3166-4438-b463-323032663164
DTSTAMP:20260425T145042Z
DESCRIPTION:1/1 TJ Bojkovice - SKV Hošťálková 2:0 (13\,24)
DTSTART;TZID=Europe/Berlin:20230115T090000
DTEND;TZID=Europe/Berlin:20230115T110000
LOCATION:ZŠ TGM Bojkovice\, Štefánikova 460 Bojkovice
SUMMARY:ZLK-U16Z-4C: TJ Bojkovice-SKV Hošťálková
END:VEVENT
BEGIN:VEVENT
UID:31326435-6139-4737-b535-663336383761
DTSTAMP:20260425T145042Z
DESCRIPTION:2/4 ŠSK Brumov-Bylnice - SKV Hošťálková 2:0 (19\,16)
DTSTART;TZID=Europe/Berlin:20230115T100000
DTEND;TZID=Europe/Berlin:20230115T120000
LOCATION:Sportovní hala Slavičín\, Školní 29 Slavičín
SUMMARY:ZLK-U16Z-4C: ŠSK Brumov-Bylnice-SKV Hošťálková
END:VEVENT
BEGIN:VEVENT
UID:66313663-6131-4263-a534-653963666335
DTSTAMP:20260425T145042Z
DESCRIPTION:3/6 TJ Slovácká Slavia UH 'B' - SKV Hošťálková 2:0 (21\,11)
DTSTART;TZID=Europe/Berlin:20230115T110000
DTEND;TZID=Europe/Berlin:20230115T130000
LOCATION:Městská sportovní hala\, Stonky 860 Uherské Hradiště
SUMMARY:ZLK-U16Z-4C: TJ Slovácká Slavia UH 'B'-SKV Hošťálková
END:VEVENT
BEGIN:VEVENT
UID:62356233-3935-4135-b964-313631313530
DTSTAMP:20260425T145042Z
DESCRIPTION:1/1 TJ Slovácká Slavia UH 'A' - SKV Hošťálková 2:0 (15\,11)
DTSTART;TZID=Europe/Berlin:20230226T090000
DTEND;TZID=Europe/Berlin:20230226T110000
LOCATION:Městská sportovní hala\, Stonky 860 Uherské Hradiště
SUMMARY:ZLK-U16Z-5C: TJ Slovácká Slavia UH 'A'-SKV Hošťálková
END:VEVENT
BEGIN:VEVENT
UID:33663664-6433-4133-a535-663262626361
DTSTAMP:20260425T145042Z
DESCRIPTION:2/4 VK Napajedla - SKV Hošťálková 2:0 (23\,13)
DTSTART;TZID=Europe/Berlin:20230226T100000
DTEND;TZID=Europe/Berlin:20230226T120000
LOCATION:2.ZŠ Napajedla\, Komenského 298 Napajedla
SUMMARY:ZLK-U16Z-5C: VK Napajedla-SKV Hošťálková
END:VEVENT
BEGIN:VEVENT
UID:35653065-3337-4563-b831-333036383931
DTSTAMP:20260425T145042Z
DESCRIPTION:3/6 ŠSK Brumov-Bylnice - SKV Hošťálková 2:1 (12\,-21\,8)
DTSTART;TZID=Europe/Berlin:20230226T110000
DTEND;TZID=Europe/Berlin:20230226T130000
LOCATION:Sportovní hala Slavičín\, Školní 29 Slavičín
SUMMARY:ZLK-U16Z-5C: ŠSK Brumov-Bylnice-SKV Hošťálková
END:VEVENT
BEGIN:VEVENT
UID:35373539-6233-4732-b137-356336653864
DTSTAMP:20260425T145042Z
DESCRIPTION:1/1 TJ Slovácká Slavia UH 'B' - SKV Hošťálková 2:0 (9\,12)
DTSTART;TZID=Europe/Berlin:20230318T090000
DTEND;TZID=Europe/Berlin:20230318T110000
LOCATION:Městská sportovní hala\, Stonky 860 Uherské Hradiště
SUMMARY:ZLK-U16Z-6C: TJ Slovácká Slavia UH 'B'-SKV Hošťálková
END:VEVENT
BEGIN:VEVENT
UID:61306563-3664-4738-a566-323738303061
DTSTAMP:20260425T145042Z
DESCRIPTION:2/4 TJ Rožnov p.R. - SKV Hošťálková 2:0 (22\,16)
DTSTART;TZID=Europe/Berlin:20230318T100000
DTEND;TZID=Europe/Berlin:20230318T120000
LOCATION:ZŠ POD SKALKOU\, Bezručova 293 Rožnov pod Radhoštěm
SUMMARY:ZLK-U16Z-6C: TJ Rožnov p.R.-SKV Hošťálková
END:VEVENT
BEGIN:VEVENT
UID:39616539-6562-4634-b035-383764326234
DTSTAMP:20260425T145042Z
DESCRIPTION:3/6 ŠSK Brumov-Bylnice - SKV Hošťálková 2:0 (20\,19)
DTSTART;TZID=Europe/Berlin:20230318T110000
DTEND;TZID=Europe/Berlin:20230318T130000
LOCATION:Sportovní hala Slavičín\, Školní 29 Slavičín
SUMMARY:ZLK-U16Z-6C: ŠSK Brumov-Bylnice-SKV Hošťálková
END:VEVENT
BEGIN:VEVENT
UID:31653530-3463-4162-b337-646238353934
DTSTAMP:20260425T145042Z
DESCRIPTION:1/1 SKV Hošťálková - TJ Rožnov p.R. 0:2 (-18\,-11)
DTSTART;TZID=Europe/Berlin:20230401T090000
DTEND;TZID=Europe/Berlin:20230401T110000
LOCATION:ZŠ Hošťálková \,  Hošťálková380
SUMMARY:PZLK-U16Z-2: SKV Hošťálková-TJ Rožnov p.R.
END:VEVENT
BEGIN:VEVENT
UID:36326464-3363-4338-a161-366163323330
DTSTAMP:20260425T145042Z
DESCRIPTION:5/9 SKV Hošťálková - VK Napajedla 1:2 (21\,-16\,-11)
DTSTART;TZID=Europe/Berlin:20230401T130000
DTEND;TZID=Europe/Berlin:20230401T150000
LOCATION:ZŠ Hošťálková \,  Hošťálková380
SUMMARY:PZLK-U16Z-2: SKV Hošťálková-VK Napajedla
END:VEVENT
BEGIN:VEVENT
UID:37306239-6339-4331-a132-626132326339
DTSTAMP:20260425T145042Z
DESCRIPTION:7/14 SKV Hošťálková - VC Kroměříž 'B' 0:2 (-12\,-11)
DTSTART;TZID=Europe/Berlin:20230401T150000
DTEND;TZID=Europe/Berlin:20230401T170000
LOCATION:ZŠ Hošťálková \,  Hošťálková380
SUMMARY:PZLK-U16Z-2: SKV Hošťálková-VC Kroměříž 'B'
END:VEVENT
BEGIN:VEVENT
UID:33353936-6537-4964-b562-306330313935
DTSTAMP:20260425T145042Z
DESCRIPTION:6/12 TJ Bojkovice - SKV Hošťálková 0:2 (-0\,-0)
DTSTART;TZID=Europe/Berlin:20230401T140000
DTEND;TZID=Europe/Berlin:20230401T160000
LOCATION:ZŠ TGM Bojkovice\, Štefánikova 460 Bojkovice
SUMMARY:PZLK-U16Z-2: TJ Bojkovice-SKV Hošťálková
END:VEVENT
BEGIN:VEVENT
UID:65313039-3066-4538-b234-653632653433
DTSTAMP:20260425T145042Z
DESCRIPTION:8/15 ŠSK Brumov-Bylnice - SKV Hošťálková 2:0 (21\,23)
DTSTART;TZID=Europe/Berlin:20230401T160000
DTEND;TZID=Europe/Berlin:20230401T180000
LOCATION:Sportovní hala Slavičín\, Školní 29 Slavičín
SUMMARY:PZLK-U16Z-2: ŠSK Brumov-Bylnice-SKV Hošťálková
END:VEVENT
END:VCALENDAR
