BEGIN:VCALENDAR
VERSION:2.0
PRODID:-//VK PFN Znojmo U2078618//NONSGML kigkonsult.se iCalcreator 2.41.80//
CALSCALE:GREGORIAN
UID:37383066-6135-4161-a166-633832623836
BEGIN:VEVENT
UID:61366637-3964-4332-b163-303634653134
DTSTAMP:20260423T030549Z
DESCRIPTION:3/3 VK Znojmo - Přímětice U20 - Vyškov 0:3 (-20\,-14\,-22)
DTSTART;TZID=Europe/Berlin:20220925T140000
DTEND;TZID=Europe/Berlin:20220925T160000
LOCATION:Tělocvična ZŠ Prokopa Diviše a MŠ\, Ke Škole 569 Znojmo - Přímětic
 e
SUMMARY:JM-U20M-KVB: VK Znojmo - Přímětice U20-Vyškov
END:VEVENT
BEGIN:VEVENT
UID:33366665-6433-4734-b530-363535356637
DTSTAMP:20260423T030549Z
DESCRIPTION:2/2 TJ TESLA BRNO z.s. U18 - VK Znojmo - Přímětice U20 0:3 (-21
 \,-23\,-23)
DTSTART;TZID=Europe/Berlin:20220925T113000
DTEND;TZID=Europe/Berlin:20220925T133000
LOCATION:TJ Tesla Brno\, Halasovo náměstí 826 Brno - Lesná
SUMMARY:JM-U20M-KVB: TJ TESLA BRNO z.s. U18-VK Znojmo - Přímětice U20
END:VEVENT
BEGIN:VEVENT
UID:38613130-3938-4366-b630-643765623232
DTSTAMP:20260423T030549Z
DESCRIPTION:1/1 VK Znojmo - Přímětice U20 - VK Brno\, z.s. U20 0:3 (-24\,-1
 9\,-20)
DTSTART;TZID=Europe/Berlin:20221016T090000
DTEND;TZID=Europe/Berlin:20221016T110000
LOCATION:Tělocvična ZŠ Prokopa Diviše a MŠ\, Ke Škole 569 Znojmo - Přímětic
 e
SUMMARY:JM-U20M-IB: VK Znojmo - Přímětice U20-VK Brno\, z.s. U20
END:VEVENT
BEGIN:VEVENT
UID:64323638-6230-4362-b661-333631623562
DTSTAMP:20260423T030549Z
DESCRIPTION:3/3 Šlapanice U20 - VK Znojmo - Přímětice U20 3:1 (17\,-23\,22\
 ,21)
DTSTART;TZID=Europe/Berlin:20221016T140000
DTEND;TZID=Europe/Berlin:20221016T160000
LOCATION:Tělocvična ZŠ Šlapanice\, Masarykovo náměstí 1594 Šlapanice
SUMMARY:JM-U20M-IB: Šlapanice U20-VK Znojmo - Přímětice U20
END:VEVENT
BEGIN:VEVENT
UID:39376538-3034-4764-b730-393164616336
DTSTAMP:20260423T030549Z
DESCRIPTION:3/3 VK Znojmo - Přímětice U20 - TJ Sokol Bučovice U18 2:3 (-23\
 ,19\,-22\,18\,-14)
DTSTART;TZID=Europe/Berlin:20221030T140000
DTEND;TZID=Europe/Berlin:20221030T160000
LOCATION:Tělocvična ZŠ Prokopa Diviše a MŠ\, Ke Škole 569 Znojmo - Přímětic
 e
SUMMARY:JM-U20M-IIC: VK Znojmo - Přímětice U20-TJ Sokol Bučovice U18
END:VEVENT
BEGIN:VEVENT
UID:30376666-6534-4464-b263-393538656334
DTSTAMP:20260423T030549Z
DESCRIPTION:2/2 START B6 U18 - VK Znojmo - Přímětice U20 3:0 (22\,23\,17)
DTSTART;TZID=Europe/Berlin:20221030T113000
DTEND;TZID=Europe/Berlin:20221030T133000
LOCATION:Základní škola Brno\, Sirotkova 36\, Sirotkova 371 Brno - Žabovřes
 ky
SUMMARY:JM-U20M-IIC: START B6 U18-VK Znojmo - Přímětice U20
END:VEVENT
BEGIN:VEVENT
UID:64643536-6462-4636-b636-373563653132
DTSTAMP:20260423T030549Z
DESCRIPTION:1/1 VK Znojmo - Přímětice U20 - TJ Sokol Bučovice U18 3:0 (18\,
 23\,18)
DTSTART;TZID=Europe/Berlin:20221120T090000
DTEND;TZID=Europe/Berlin:20221120T110000
LOCATION:Tělocvična ZŠ Prokopa Diviše a MŠ\, Ke Škole 569 Znojmo - Přímětic
 e
SUMMARY:JM-U20M-IIIC: VK Znojmo - Přímětice U20-TJ Sokol Bučovice U18
END:VEVENT
BEGIN:VEVENT
UID:61373232-3663-4463-b430-376233383065
DTSTAMP:20260423T030549Z
DESCRIPTION:3/3 TJ Sokol Veselí nad Moravou U20 - VK Znojmo - Přímětice U20
  3:0 (19\,19\,18)
DTSTART;TZID=Europe/Berlin:20221120T140000
DTEND;TZID=Europe/Berlin:20221120T160000
LOCATION:Církevní ZŠ Veselí nad Moravou\, Školní 698 Veselí nad Moravou
SUMMARY:JM-U20M-IIIC: TJ Sokol Veselí nad Moravou U20-VK Znojmo - Přímětice
  U20
END:VEVENT
BEGIN:VEVENT
UID:32343031-6365-4639-b735-303538636339
DTSTAMP:20260423T030549Z
DESCRIPTION:1/1 VK Znojmo - Přímětice U20 - TJ Sokol Bučovice U18 3:X
DTSTART;TZID=Europe/Berlin:20221218T090000
DTEND;TZID=Europe/Berlin:20221218T110000
LOCATION:Tělocvična ZŠ Prokopa Diviše a MŠ\, Ke Škole 569 Znojmo - Přímětic
 e
SUMMARY:JM-U20M-IVC: VK Znojmo - Přímětice U20-TJ Sokol Bučovice U18
END:VEVENT
BEGIN:VEVENT
UID:66636239-6437-4639-a339-333637646330
DTSTAMP:20260423T030549Z
DESCRIPTION:3/3 START B6 U18 - VK Znojmo - Přímětice U20 X:3
DTSTART;TZID=Europe/Berlin:20221218T140000
DTEND;TZID=Europe/Berlin:20221218T160000
LOCATION:Základní škola Brno\, Sirotkova 36\, Sirotkova 371 Brno - Žabovřes
 ky
SUMMARY:JM-U20M-IVC: START B6 U18-VK Znojmo - Přímětice U20
END:VEVENT
BEGIN:VEVENT
UID:63303766-3838-4136-a236-336131366634
DTSTAMP:20260423T030549Z
DESCRIPTION:2/2 VK Znojmo - Přímětice U20 - TJ Sokol Veselí nad Moravou U20
  3:2 (-24\,23\,22\,-17\,9)
DTSTART;TZID=Europe/Berlin:20230108T113000
DTEND;TZID=Europe/Berlin:20230108T133000
LOCATION:Tělocvična ZŠ Prokopa Diviše a MŠ\, Ke Škole 569 Znojmo - Přímětic
 e
SUMMARY:JM-U20M-VB: VK Znojmo - Přímětice U20-TJ Sokol Veselí nad Moravou U
 20
END:VEVENT
BEGIN:VEVENT
UID:34333364-3532-4238-b233-343839366163
DTSTAMP:20260423T030549Z
DESCRIPTION:1/1 Šlapanice U20 - VK Znojmo - Přímětice U20 3:1 (22\,15\,-15\
 ,23)
DTSTART;TZID=Europe/Berlin:20230108T090000
DTEND;TZID=Europe/Berlin:20230108T110000
LOCATION:Tělocvična ZŠ Šlapanice\, Masarykovo náměstí 1594 Šlapanice
SUMMARY:JM-U20M-VB: Šlapanice U20-VK Znojmo - Přímětice U20
END:VEVENT
BEGIN:VEVENT
UID:37353435-3131-4765-b334-636661306433
DTSTAMP:20260423T030549Z
DESCRIPTION:1/1 VK Znojmo - Přímětice U20 - TJ TESLA BRNO z.s. U18 0:3 (-12
 \,-21\,-12)
DTSTART;TZID=Europe/Berlin:20230122T090000
DTEND;TZID=Europe/Berlin:20230122T110000
LOCATION:Tělocvična ZŠ Prokopa Diviše a MŠ\, Ke Škole 569 Znojmo - Přímětic
 e
SUMMARY:JM-U20M-VIB: VK Znojmo - Přímětice U20-TJ TESLA BRNO z.s. U18
END:VEVENT
BEGIN:VEVENT
UID:37333464-3736-4132-b731-313130646362
DTSTAMP:20260423T030549Z
DESCRIPTION:2/2 VK Znojmo - Přímětice U20 - TJ SOKOL LETOVICE\, z.s. U20 0:
 3 (-24\,-15\,-17)
DTSTART;TZID=Europe/Berlin:20230122T113000
DTEND;TZID=Europe/Berlin:20230122T133000
LOCATION:Tělocvična ZŠ Prokopa Diviše a MŠ\, Ke Škole 569 Znojmo - Přímětic
 e
SUMMARY:JM-U20M-VIB: VK Znojmo - Přímětice U20-TJ SOKOL LETOVICE\, z.s. U20
END:VEVENT
BEGIN:VEVENT
UID:66653766-6233-4439-a663-653766373861
DTSTAMP:20260423T030549Z
DESCRIPTION:3/3 VK Znojmo - Přímětice U20 - TJ Sokol Bučovice U18 3:0 (18\,
 15\,8)
DTSTART;TZID=Europe/Berlin:20230205T140000
DTEND;TZID=Europe/Berlin:20230205T160000
LOCATION:Tělocvična ZŠ Prokopa Diviše a MŠ\, Ke Škole 569 Znojmo - Přímětic
 e
SUMMARY:JM-U20M-VIIC: VK Znojmo - Přímětice U20-TJ Sokol Bučovice U18
END:VEVENT
BEGIN:VEVENT
UID:30383263-6436-4237-a532-383564313339
DTSTAMP:20260423T030549Z
DESCRIPTION:2/2 START B6 U18 - VK Znojmo - Přímětice U20 3:1 (13\,19\,-8\,1
 9)
DTSTART;TZID=Europe/Berlin:20230205T113000
DTEND;TZID=Europe/Berlin:20230205T133000
LOCATION:Základní škola Brno\, Sirotkova 36\, Sirotkova 371 Brno - Žabovřes
 ky
SUMMARY:JM-U20M-VIIC: START B6 U18-VK Znojmo - Přímětice U20
END:VEVENT
BEGIN:VEVENT
UID:38376339-6135-4235-a537-373461383031
DTSTAMP:20260423T030549Z
DESCRIPTION:3/3 VK Znojmo - Přímětice U20 - TJ Sokol Veselí nad Moravou U20
  1:3 (-26\,21\,-19\,-15)
DTSTART;TZID=Europe/Berlin:20230305T140000
DTEND;TZID=Europe/Berlin:20230305T160000
LOCATION:Tělocvična ZŠ Prokopa Diviše a MŠ\, Ke Škole 569 Znojmo - Přímětic
 e
SUMMARY:JM-U20M-VIIIC: VK Znojmo - Přímětice U20-TJ Sokol Veselí nad Moravo
 u U20
END:VEVENT
BEGIN:VEVENT
UID:36643763-3262-4731-b562-316333616232
DTSTAMP:20260423T030549Z
DESCRIPTION:2/2 TJ Sokol Bučovice U18 - VK Znojmo - Přímětice U20 1:3 (-17\
 ,24\,-13\,-9)
DTSTART;TZID=Europe/Berlin:20230305T113000
DTEND;TZID=Europe/Berlin:20230305T133000
LOCATION:ZŠ Bučovice 710\, Školní 710 Bučovice
SUMMARY:JM-U20M-VIIIC: TJ Sokol Bučovice U18-VK Znojmo - Přímětice U20
END:VEVENT
BEGIN:VEVENT
UID:31316365-3662-4261-a439-366535633336
DTSTAMP:20260423T030549Z
DESCRIPTION:3/6 VK Znojmo - Přímětice U20 - TJ Sokol Veselí nad Moravou U20
  2:1 (14\,-17\,13)\nL2 vs L3 Kurt 2
DTSTART;TZID=Europe/Berlin:20230402T114500
DTEND;TZID=Europe/Berlin:20230402T134500
LOCATION:Tělocvična ZŠ Prokopa Diviše a MŠ\, Ke Škole 569 Znojmo - Přímětic
 e
SUMMARY:JM-U20M-F: VK Znojmo - Přímětice U20-TJ Sokol Veselí nad Moravou U2
 0
END:VEVENT
BEGIN:VEVENT
UID:34633336-6164-4338-b333-353534363034
DTSTAMP:20260423T030549Z
DESCRIPTION:1/2 Vyškov - VK Znojmo - Přímětice U20 2:0 (21\,15)\n2. vs 7. K
 urt 2
DTSTART;TZID=Europe/Berlin:20230402T090000
DTEND;TZID=Europe/Berlin:20230402T110000
LOCATION:Sportovní hala\, Mlýnská 737 Vyškov - Dědice
SUMMARY:JM-U20M-F: Vyškov-VK Znojmo - Přímětice U20
END:VEVENT
BEGIN:VEVENT
UID:37613535-6434-4935-b137-656461393762
DTSTAMP:20260423T030549Z
DESCRIPTION:5/10 TJ TESLA BRNO z.s. U18 - VK Znojmo - Přímětice U20 2:0 (19
 \,13)\nW5 vs W6 Kurt 1
DTSTART;TZID=Europe/Berlin:20230402T141500
DTEND;TZID=Europe/Berlin:20230402T161500
LOCATION:TJ Tesla Brno\, Halasovo náměstí 826 Brno - Lesná
SUMMARY:JM-U20M-F: TJ TESLA BRNO z.s. U18-VK Znojmo - Přímětice U20
END:VEVENT
END:VCALENDAR
