BEGIN:VCALENDAR
VERSION:2.0
PRODID:-//VO TJ Lanškroun78636//NONSGML kigkonsult.se iCalcreator 2.41.80//
CALSCALE:GREGORIAN
UID:66356563-6466-4136-b465-316135303064
BEGIN:VEVENT
UID:38393766-3631-4264-b334-306334663837
DTSTAMP:20260426T013727Z
DESCRIPTION:1/1 Lanškroun - TJ Spartak Polička\, z.s. 2:0 (17\,11)
DTSTART;TZID=Europe/Berlin:20220918T090000
DTEND;TZID=Europe/Berlin:20220918T110000
LOCATION:SOŠ a SOU Lanškroun\, Sokolská 288 Lanškroun - Ostrovské Předměstí
SUMMARY:PA-U16Z-KVAL-A: Lanškroun-TJ Spartak Polička\, z.s.
END:VEVENT
BEGIN:VEVENT
UID:39356233-3737-4832-b638-343832316638
DTSTAMP:20260426T013727Z
DESCRIPTION:1/3 Lanškroun - TJ Svitavy B 2:0 (13\,16)
DTSTART;TZID=Europe/Berlin:20220918T090000
DTEND;TZID=Europe/Berlin:20220918T110000
LOCATION:SOŠ a SOU Lanškroun\, Sokolská 288 Lanškroun - Ostrovské Předměstí
SUMMARY:PA-U16Z-KVAL-A: Lanškroun-TJ Svitavy B
END:VEVENT
BEGIN:VEVENT
UID:64346435-3531-4136-a634-373463613631
DTSTAMP:20260426T013727Z
DESCRIPTION:1/7 Lanškroun - Volejbalový klub Choceň\, z.s. 2:0 (13\,25)
DTSTART;TZID=Europe/Berlin:20220918T090000
DTEND;TZID=Europe/Berlin:20220918T110000
LOCATION:SOŠ a SOU Lanškroun\, Sokolská 288 Lanškroun - Ostrovské Předměstí
SUMMARY:PA-U16Z-KVAL-A: Lanškroun-Volejbalový klub Choceň\, z.s.
END:VEVENT
BEGIN:VEVENT
UID:35613431-6363-4534-b866-643036316437
DTSTAMP:20260426T013727Z
DESCRIPTION:1/11 Lanškroun - Letohrad 2:0 (16\,21)
DTSTART;TZID=Europe/Berlin:20220918T090000
DTEND;TZID=Europe/Berlin:20220918T110000
LOCATION:SOŠ a SOU Lanškroun\, Sokolská 288 Lanškroun - Ostrovské Předměstí
SUMMARY:PA-U16Z-KVAL-A: Lanškroun-Letohrad
END:VEVENT
BEGIN:VEVENT
UID:65343538-3438-4135-a334-646130363063
DTSTAMP:20260426T013727Z
DESCRIPTION:1/15 Lanškroun - TJ Slovan Moravská Třebová\, z.s. 2:0 (10\,21)
DTSTART;TZID=Europe/Berlin:20220918T090000
DTEND;TZID=Europe/Berlin:20220918T110000
LOCATION:SOŠ a SOU Lanškroun\, Sokolská 288 Lanškroun - Ostrovské Předměstí
SUMMARY:PA-U16Z-KVAL-A: Lanškroun-TJ Slovan Moravská Třebová\, z.s.
END:VEVENT
BEGIN:VEVENT
UID:39646634-6633-4261-b731-383031646365
DTSTAMP:20260426T013727Z
DESCRIPTION:1/1 Lanškroun - Tělocvičná jednota Sokol Pardubice I. 2:0 (4\,1
 2)
DTSTART;TZID=Europe/Berlin:20221009T090000
DTEND;TZID=Europe/Berlin:20221009T110000
LOCATION:SOŠ a SOU Lanškroun\, Sokolská 288 Lanškroun - Ostrovské Předměstí
SUMMARY:PA-U16Z-1KOLO-A: Lanškroun-Tělocvičná jednota Sokol Pardubice I.
END:VEVENT
BEGIN:VEVENT
UID:36333862-6639-4532-a338-353132623964
DTSTAMP:20260426T013727Z
DESCRIPTION:1/4 Lanškroun - Letohrad 1:2 (17\,-12\,-15)
DTSTART;TZID=Europe/Berlin:20221009T090000
DTEND;TZID=Europe/Berlin:20221009T110000
LOCATION:SOŠ a SOU Lanškroun\, Sokolská 288 Lanškroun - Ostrovské Předměstí
SUMMARY:PA-U16Z-1KOLO-A: Lanškroun-Letohrad
END:VEVENT
BEGIN:VEVENT
UID:37386662-6362-4738-b738-636466623261
DTSTAMP:20260426T013727Z
DESCRIPTION:1/6 TJ Svitavy A - Lanškroun 1:2 (23\,-12\,-13)
DTSTART;TZID=Europe/Berlin:20221009T090000
DTEND;TZID=Europe/Berlin:20221009T110000
LOCATION:SOŠ a SOU Lanškroun\, Sokolská 288 Lanškroun - Ostrovské Předměstí
SUMMARY:PA-U16Z-1KOLO-A: TJ Svitavy A-Lanškroun
END:VEVENT
BEGIN:VEVENT
UID:30366665-6166-4461-b961-633034303933
DTSTAMP:20260426T013727Z
DESCRIPTION:1/2 Lanškroun - TJ Svitavy A 2:0 (25\,14)
DTSTART;TZID=Europe/Berlin:20221125T161500
DTEND;TZID=Europe/Berlin:20221125T181500
LOCATION:TJ Spartak Polička\, z.s. \, nábř. Svobody 447 Polička - Horní Pře
 dměstí
SUMMARY:PA-U16Z-2KOLO-A: Lanškroun-TJ Svitavy A
END:VEVENT
BEGIN:VEVENT
UID:34663836-6266-4264-b261-666530653765
DTSTAMP:20260426T013727Z
DESCRIPTION:1/5 Lanškroun - Letohrad 1:2 (-31\,20\,-12)
DTSTART;TZID=Europe/Berlin:20221123T170000
DTEND;TZID=Europe/Berlin:20221123T190000
LOCATION:TJ Spartak Polička\, z.s. \, nábř. Svobody 447 Polička - Horní Pře
 dměstí
SUMMARY:PA-U16Z-2KOLO-A: Lanškroun-Letohrad
END:VEVENT
BEGIN:VEVENT
UID:62343731-6331-4766-b437-346461376366
DTSTAMP:20260426T013727Z
DESCRIPTION:1/4 TJ Spartak Polička\, z.s. - Lanškroun 1:2 (10\,-18\,-10)
DTSTART;TZID=Europe/Berlin:20221114T160000
DTEND;TZID=Europe/Berlin:20221114T180000
LOCATION:TJ Spartak Polička\, z.s. \, nábř. Svobody 447 Polička - Horní Pře
 dměstí
SUMMARY:PA-U16Z-2KOLO-A: TJ Spartak Polička\, z.s.-Lanškroun
END:VEVENT
BEGIN:VEVENT
UID:37643839-6264-4236-a137-333937356466
DTSTAMP:20260426T013727Z
DESCRIPTION:1/2 Lanškroun - TJ Spartak Polička\, z.s. 2:0 (12\,23)\ntělocvi
 čna ZŠ U Dvora náhradní za
DTSTART;TZID=Europe/Berlin:20221204T133000
DTEND;TZID=Europe/Berlin:20221204T153000
LOCATION:TJ Spartak Letohrad\, Jilemnického 341 Letohrad
SUMMARY:PA-U16Z-3KOLO-A: Lanškroun-TJ Spartak Polička\, z.s.
END:VEVENT
BEGIN:VEVENT
UID:31376165-3736-4331-b032-383234393866
DTSTAMP:20260426T013727Z
DESCRIPTION:1/6 Lanškroun - Tělocvičná jednota Sokol Pardubice I. 2:0 (14\,
 17)\ntělocvična ZŠ U Dvora náhradní za
DTSTART;TZID=Europe/Berlin:20221204T133000
DTEND;TZID=Europe/Berlin:20221204T153000
LOCATION:TJ Spartak Letohrad\, Jilemnického 341 Letohrad
SUMMARY:PA-U16Z-3KOLO-A: Lanškroun-Tělocvičná jednota Sokol Pardubice I.
END:VEVENT
BEGIN:VEVENT
UID:37633261-3137-4231-a233-343462303665
DTSTAMP:20260426T013727Z
DESCRIPTION:1/3 Letohrad - Lanškroun 1:2 (-11\,19\,-8)
DTSTART;TZID=Europe/Berlin:20221204T133000
DTEND;TZID=Europe/Berlin:20221204T153000
LOCATION:TJ Spartak Letohrad\, Jilemnického 341 Letohrad
SUMMARY:PA-U16Z-3KOLO-A: Letohrad-Lanškroun
END:VEVENT
BEGIN:VEVENT
UID:64313332-6133-4263-a162-626461613939
DTSTAMP:20260426T013727Z
DESCRIPTION:1/1 Lanškroun - TJ Svitavy A 2:1 (-18\,21\,11)
DTSTART;TZID=Europe/Berlin:20230108T090000
DTEND;TZID=Europe/Berlin:20230108T110000
LOCATION:Sportovní areál Univerzity Pardubice\, Studentská 95 Pardubice - P
 olabiny
SUMMARY:PA-U16Z-4KOLO-A: Lanškroun-TJ Svitavy A
END:VEVENT
BEGIN:VEVENT
UID:32363538-3462-4265-b939-633832663164
DTSTAMP:20260426T013727Z
DESCRIPTION:1/4 Lanškroun - Letohrad 1:2 (19\,-21\,-15)
DTSTART;TZID=Europe/Berlin:20230108T100000
DTEND;TZID=Europe/Berlin:20230108T120000
LOCATION:Sportovní areál Univerzity Pardubice\, Studentská 95 Pardubice - P
 olabiny
SUMMARY:PA-U16Z-4KOLO-A: Lanškroun-Letohrad
END:VEVENT
BEGIN:VEVENT
UID:62383333-3861-4562-b163-313733373933
DTSTAMP:20260426T013727Z
DESCRIPTION:1/6 Tělocvičná jednota Sokol Pardubice I. - Lanškroun 2:1 (12\,
 -23\,11)
DTSTART;TZID=Europe/Berlin:20230108T110000
DTEND;TZID=Europe/Berlin:20230108T130000
LOCATION:Sportovní areál Univerzity Pardubice\, Studentská 95 Pardubice - P
 olabiny
SUMMARY:PA-U16Z-4KOLO-A: Tělocvičná jednota Sokol Pardubice I.-Lanškroun
END:VEVENT
BEGIN:VEVENT
UID:63626432-3566-4436-b161-323937323630
DTSTAMP:20260426T013727Z
DESCRIPTION:1/6 Lanškroun - Letohrad 0:2 (-16\,-18)
DTSTART;TZID=Europe/Berlin:20230129T090000
DTEND;TZID=Europe/Berlin:20230129T110000
LOCATION:SOŠ a SOU Lanškroun Sokolská 288 Lanškroun - Ostrovské Předměstí
SUMMARY:PA-U16Z-5KOLO-A: Lanškroun-Letohrad
END:VEVENT
BEGIN:VEVENT
UID:30666566-6435-4333-b631-326135643634
DTSTAMP:20260426T013727Z
DESCRIPTION:1/2 TJ Svitavy A - Lanškroun 2:0 (8\,19)
DTSTART;TZID=Europe/Berlin:20230129T090000
DTEND;TZID=Europe/Berlin:20230129T110000
LOCATION:Sportovní hala Na Střelnici Pražská 2162 Svitavy - Předměstí
SUMMARY:PA-U16Z-5KOLO-A: TJ Svitavy A-Lanškroun
END:VEVENT
BEGIN:VEVENT
UID:34326461-3537-4761-a665-613435336336
DTSTAMP:20260426T013727Z
DESCRIPTION:1/3 TJ Spartak Polička\, z.s. - Lanškroun 0:2 (-8\,-14)
DTSTART;TZID=Europe/Berlin:20230129T090000
DTEND;TZID=Europe/Berlin:20230129T110000
LOCATION:TJ Spartak Polička\, z.s.  nábř. Svobody 447 Polička - Horní Předm
 ěstí
SUMMARY:PA-U16Z-5KOLO-A: TJ Spartak Polička\, z.s.-Lanškroun
END:VEVENT
BEGIN:VEVENT
UID:64313933-6332-4532-b765-633431623565
DTSTAMP:20260426T013727Z
DESCRIPTION:1/6 Lanškroun - Tělocvičná jednota Sokol Česká Třebová 2:0 (11\
 ,14)
DTSTART;TZID=Europe/Berlin:20230212T110000
DTEND;TZID=Europe/Berlin:20230212T130000
LOCATION:Sportovní hala Na Střelnici\, Pražská 2162 Svitavy - Předměstí
SUMMARY:PA-U16Z-6KOLO-A: Lanškroun-Tělocvičná jednota Sokol Česká Třebová
END:VEVENT
BEGIN:VEVENT
UID:63393137-6362-4337-b837-646561386561
DTSTAMP:20260426T013727Z
DESCRIPTION:1/1 TJ Svitavy A - Lanškroun 1:2 (20\,-14\,-15)
DTSTART;TZID=Europe/Berlin:20230212T090000
DTEND;TZID=Europe/Berlin:20230212T110000
LOCATION:Sportovní hala Na Střelnici\, Pražská 2162 Svitavy - Předměstí
SUMMARY:PA-U16Z-6KOLO-A: TJ Svitavy A-Lanškroun
END:VEVENT
BEGIN:VEVENT
UID:30326230-3630-4435-b738-626533306364
DTSTAMP:20260426T013727Z
DESCRIPTION:1/4 Letohrad - Lanškroun 2:1 (18\,-15\,11)
DTSTART;TZID=Europe/Berlin:20230212T100000
DTEND;TZID=Europe/Berlin:20230212T120000
LOCATION:Sportovní hala Na Střelnici\, Pražská 2162 Svitavy - Předměstí
SUMMARY:PA-U16Z-6KOLO-A: Letohrad-Lanškroun
END:VEVENT
BEGIN:VEVENT
UID:66393535-6565-4935-a335-313936623233
DTSTAMP:20260426T013727Z
DESCRIPTION:1/2 Lanškroun - Letohrad 0:2 (-10\,-20)
DTSTART;TZID=Europe/Berlin:20230401T090000
DTEND;TZID=Europe/Berlin:20230401T110000
LOCATION:Tělocvična ZŠ\, Felberova 669 Svitavy - Lány
SUMMARY:PA-U16Z-7KOLO-A: Lanškroun-Letohrad
END:VEVENT
BEGIN:VEVENT
UID:30356565-6561-4166-a639-663032636232
DTSTAMP:20260426T013727Z
DESCRIPTION:1/5 Lanškroun - Volejbalový klub Choceň\, z.s. 2:0 (21\,13)
DTSTART;TZID=Europe/Berlin:20230401T090000
DTEND;TZID=Europe/Berlin:20230401T110000
LOCATION:Tělocvična ZŠ\, Felberova 669 Svitavy - Lány
SUMMARY:PA-U16Z-7KOLO-A: Lanškroun-Volejbalový klub Choceň\, z.s.
END:VEVENT
BEGIN:VEVENT
UID:63346334-3837-4034-b137-343131653637
DTSTAMP:20260426T013727Z
DESCRIPTION:1/4 TJ Svitavy A - Lanškroun 1:2 (-20\,21\,-12)
DTSTART;TZID=Europe/Berlin:20230401T090000
DTEND;TZID=Europe/Berlin:20230401T110000
LOCATION:Tělocvična ZŠ\, Felberova 669 Svitavy - Lány
SUMMARY:PA-U16Z-7KOLO-A: TJ Svitavy A-Lanškroun
END:VEVENT
BEGIN:VEVENT
UID:61393238-6666-4863-b864-386163396665
DTSTAMP:20260426T013727Z
DESCRIPTION:2/4 Lanškroun - Rtyně v P. 2:0 (22\,26)
DTSTART;TZID=Europe/Berlin:20230429T122000
DTEND;TZID=Europe/Berlin:20230429T142000
LOCATION:ZŠ Pionýrů 400 Frýdek-Místek\, Pionýrů 400 Frýdek-Místek - Místek
SUMMARY:MCR-U16Z-C: Lanškroun-Rtyně v P.
END:VEVENT
BEGIN:VEVENT
UID:64326361-3536-4431-b766-623236373862
DTSTAMP:20260426T013727Z
DESCRIPTION:5/14 Lanškroun - Přerov 2:1 (23\,-26\,7)
DTSTART;TZID=Europe/Berlin:20230429T162000
DTEND;TZID=Europe/Berlin:20230429T182000
LOCATION:ZŠ Pionýrů 400 Frýdek-Místek\, Pionýrů 400 Frýdek-Místek - Místek
SUMMARY:MCR-U16Z-C: Lanškroun-Přerov
END:VEVENT
BEGIN:VEVENT
UID:62626361-3930-4161-b130-636231653063
DTSTAMP:20260426T013727Z
DESCRIPTION:7/18 Lanškroun - Bedřichov 0:2 (-15\,-19)
DTSTART;TZID=Europe/Berlin:20230430T093000
DTEND;TZID=Europe/Berlin:20230430T113000
LOCATION:ZŠ Pionýrů 400 Frýdek-Místek\, Pionýrů 400 Frýdek-Místek - Místek
SUMMARY:MCR-U16Z-C: Lanškroun-Bedřichov
END:VEVENT
BEGIN:VEVENT
UID:32363038-6161-4162-b535-346664373036
DTSTAMP:20260426T013727Z
DESCRIPTION:8/21 Lanškroun - Kralupy 0:2 (-8\,-23)
DTSTART;TZID=Europe/Berlin:20230430T105000
DTEND;TZID=Europe/Berlin:20230430T125000
LOCATION:ZŠ Pionýrů 400 Frýdek-Místek\, Pionýrů 400 Frýdek-Místek - Místek
SUMMARY:MCR-U16Z-C: Lanškroun-Kralupy
END:VEVENT
BEGIN:VEVENT
UID:38303438-6165-4466-b132-646335363834
DTSTAMP:20260426T013727Z
DESCRIPTION:1/1 Frýdek - Místek - Lanškroun 2:0 (24\,19)
DTSTART;TZID=Europe/Berlin:20230429T110000
DTEND;TZID=Europe/Berlin:20230429T130000
LOCATION:ZŠ Pionýrů 400 Frýdek-Místek\, Pionýrů 400 Frýdek-Místek - Místek
SUMMARY:MCR-U16Z-C: Frýdek - Místek-Lanškroun
END:VEVENT
BEGIN:VEVENT
UID:33653761-3661-4138-b239-633830636662
DTSTAMP:20260426T013727Z
DESCRIPTION:4/10 Znojmo - Lanškroun 1:2 (-17\,12\,-8)
DTSTART;TZID=Europe/Berlin:20230429T150000
DTEND;TZID=Europe/Berlin:20230429T170000
LOCATION:ZŠ Pionýrů 400 Frýdek-Místek\, Pionýrů 400 Frýdek-Místek - Místek
SUMMARY:MCR-U16Z-C: Znojmo-Lanškroun
END:VEVENT
BEGIN:VEVENT
UID:66366461-3462-4161-b139-623235653933
DTSTAMP:20260426T013727Z
DESCRIPTION:10/26 Valašské Meziříčí - Lanškroun 0:2 (-18\,-20)
DTSTART;TZID=Europe/Berlin:20230430T133000
DTEND;TZID=Europe/Berlin:20230430T153000
LOCATION:ZŠ Pionýrů 400 Frýdek-Místek\, Pionýrů 400 Frýdek-Místek - Místek
SUMMARY:MCR-U16Z-C: Valašské Meziříčí-Lanškroun
END:VEVENT
END:VCALENDAR
