BEGIN:VCALENDAR
VERSION:2.0
PRODID:-//Orel Letohrad78639//NONSGML kigkonsult.se iCalcreator 2.41.80//
CALSCALE:GREGORIAN
UID:30653334-3330-4933-b463-393966306138
BEGIN:VEVENT
UID:65663764-3437-4338-a363-386437393135
DTSTAMP:20260421T223035Z
DESCRIPTION:1/2 Letohrad - Velké Meziříčí
DTSTART;TZID=Europe/Berlin:20220911T090000
DTEND;TZID=Europe/Berlin:20220911T110000
LOCATION:TJ Spartak Letohrad\, Jilemnického 341 Letohrad
SUMMARY:PA-U16M-KVALIFIK: Letohrad-Velké Meziříčí
END:VEVENT
BEGIN:VEVENT
UID:37363763-3533-4639-b338-373266666661
DTSTAMP:20260421T223035Z
DESCRIPTION:3/9 Letohrad - Litomyšl
DTSTART;TZID=Europe/Berlin:20220911T101500
DTEND;TZID=Europe/Berlin:20220911T121500
LOCATION:TJ Spartak Letohrad\, Jilemnického 341 Letohrad
SUMMARY:PA-U16M-KVALIFIK: Letohrad-Litomyšl
END:VEVENT
BEGIN:VEVENT
UID:63643164-3066-4661-b734-343539373334
DTSTAMP:20260421T223035Z
DESCRIPTION:6/24 Letohrad - Česká Třebová
DTSTART;TZID=Europe/Berlin:20220911T120000
DTEND;TZID=Europe/Berlin:20220911T140000
LOCATION:TJ Spartak Letohrad\, Jilemnického 341 Letohrad
SUMMARY:PA-U16M-KVALIFIK: Letohrad-Česká Třebová
END:VEVENT
BEGIN:VEVENT
UID:38323261-3336-4461-b030-613563333063
DTSTAMP:20260421T223035Z
DESCRIPTION:8/31 Letohrad - Svitavy B
DTSTART;TZID=Europe/Berlin:20220911T131500
DTEND;TZID=Europe/Berlin:20220911T151500
LOCATION:TJ Spartak Letohrad\, Jilemnického 341 Letohrad
SUMMARY:PA-U16M-KVALIFIK: Letohrad-Svitavy B
END:VEVENT
BEGIN:VEVENT
UID:63383439-3462-4661-a135-343639343031
DTSTAMP:20260421T223035Z
DESCRIPTION:2/7 Havlíčkův Brod - Letohrad
DTSTART;TZID=Europe/Berlin:20220911T094500
DTEND;TZID=Europe/Berlin:20220911T114500
SUMMARY:PA-U16M-KVALIFIK: Havlíčkův Brod-Letohrad
END:VEVENT
BEGIN:VEVENT
UID:31383733-6436-4864-b562-636663386336
DTSTAMP:20260421T223035Z
DESCRIPTION:4/16 Choceň - Letohrad
DTSTART;TZID=Europe/Berlin:20220911T110000
DTEND;TZID=Europe/Berlin:20220911T130000
LOCATION:Volejbalová hala \, U Koupaliště 1734 Choceň
SUMMARY:PA-U16M-KVALIFIK: Choceň-Letohrad
END:VEVENT
BEGIN:VEVENT
UID:61386430-6338-4264-a531-633766393835
DTSTAMP:20260421T223035Z
DESCRIPTION:7/25 Svitavy - Letohrad
DTSTART;TZID=Europe/Berlin:20220911T123000
DTEND;TZID=Europe/Berlin:20220911T143000
LOCATION:Sportovní hala Na Střelnici\, Pražská 2162 Svitavy - Předměstí
SUMMARY:PA-U16M-KVALIFIK: Svitavy-Letohrad
END:VEVENT
BEGIN:VEVENT
UID:34323164-3732-4465-b639-373034656466
DTSTAMP:20260421T223035Z
DESCRIPTION:9/34 Polička - U18 - Letohrad
DTSTART;TZID=Europe/Berlin:20220911T140000
DTEND;TZID=Europe/Berlin:20220911T160000
SUMMARY:PA-U16M-KVALIFIK: Polička - U18-Letohrad
END:VEVENT
END:VCALENDAR
