BEGIN:VCALENDAR
VERSION:2.0
PRODID:-//TJ Sokol Geodézie Česká Třebová78645//NONSGML kigkonsult.se iCalcreator 2.41.80//
CALSCALE:GREGORIAN
UID:33303362-3766-4735-a136-343637343732
BEGIN:VEVENT
UID:62373435-3063-4963-b238-383933363165
DTSTAMP:20260421T210106Z
DESCRIPTION:1/3 Česká Třebová - Polička - U18
DTSTART;TZID=Europe/Berlin:20220911T090000
DTEND;TZID=Europe/Berlin:20220911T110000
LOCATION:Tělocvična VDA\, Habrmanova 1540 Česká Třebová
SUMMARY:PA-U16M-KVALIFIK: Česká Třebová-Polička - U18
END:VEVENT
BEGIN:VEVENT
UID:66616235-6661-4066-b932-336136373735
DTSTAMP:20260421T210106Z
DESCRIPTION:3/10 Česká Třebová - Havlíčkův Brod
DTSTART;TZID=Europe/Berlin:20220911T101500
DTEND;TZID=Europe/Berlin:20220911T121500
LOCATION:Tělocvična VDA\, Habrmanova 1540 Česká Třebová
SUMMARY:PA-U16M-KVALIFIK: Česká Třebová-Havlíčkův Brod
END:VEVENT
BEGIN:VEVENT
UID:62633934-3737-4634-b635-383462343531
DTSTAMP:20260421T210106Z
DESCRIPTION:5/17 Česká Třebová - Choceň
DTSTART;TZID=Europe/Berlin:20220911T113000
DTEND;TZID=Europe/Berlin:20220911T133000
LOCATION:Tělocvična VDA\, Habrmanova 1540 Česká Třebová
SUMMARY:PA-U16M-KVALIFIK: Česká Třebová-Choceň
END:VEVENT
BEGIN:VEVENT
UID:35303166-3363-4939-b333-316639666163
DTSTAMP:20260421T210106Z
DESCRIPTION:8/32 Česká Třebová - Svitavy
DTSTART;TZID=Europe/Berlin:20220911T131500
DTEND;TZID=Europe/Berlin:20220911T151500
LOCATION:Tělocvična VDA\, Habrmanova 1540 Česká Třebová
SUMMARY:PA-U16M-KVALIFIK: Česká Třebová-Svitavy
END:VEVENT
BEGIN:VEVENT
UID:30623236-3438-4832-b364-653631356266
DTSTAMP:20260421T210106Z
DESCRIPTION:2/6 Velké Meziříčí - Česká Třebová
DTSTART;TZID=Europe/Berlin:20220911T094500
DTEND;TZID=Europe/Berlin:20220911T114500
SUMMARY:PA-U16M-KVALIFIK: Velké Meziříčí-Česká Třebová
END:VEVENT
BEGIN:VEVENT
UID:64633937-3338-4534-b032-376533303063
DTSTAMP:20260421T210106Z
DESCRIPTION:4/15 Litomyšl - Česká Třebová
DTSTART;TZID=Europe/Berlin:20220911T110000
DTEND;TZID=Europe/Berlin:20220911T130000
LOCATION:Městská sportovní hala\, T. G. Masaryka 1145 Litomyšl - Litomyšl-M
 ěsto
SUMMARY:PA-U16M-KVALIFIK: Litomyšl-Česká Třebová
END:VEVENT
BEGIN:VEVENT
UID:37333262-3332-4562-b466-313639346135
DTSTAMP:20260421T210106Z
DESCRIPTION:6/24 Letohrad - Česká Třebová
DTSTART;TZID=Europe/Berlin:20220911T120000
DTEND;TZID=Europe/Berlin:20220911T140000
LOCATION:TJ Spartak Letohrad\, Jilemnického 341 Letohrad
SUMMARY:PA-U16M-KVALIFIK: Letohrad-Česká Třebová
END:VEVENT
BEGIN:VEVENT
UID:61633665-3935-4431-b931-643930303463
DTSTAMP:20260421T210106Z
DESCRIPTION:9/33 Svitavy B - Česká Třebová
DTSTART;TZID=Europe/Berlin:20220911T140000
DTEND;TZID=Europe/Berlin:20220911T160000
LOCATION:Sportovní hala Na Střelnici\, Pražská 2162 Svitavy - Předměstí
SUMMARY:PA-U16M-KVALIFIK: Svitavy B-Česká Třebová
END:VEVENT
BEGIN:VEVENT
UID:39663737-3236-4165-b733-376532306632
DTSTAMP:20260421T210106Z
DESCRIPTION:1/2 Česká Třebová - Svitavy 0:2 (-17\,-16)
DTSTART;TZID=Europe/Berlin:20230501T100000
DTEND;TZID=Europe/Berlin:20230501T120000
LOCATION:Sportovní hala TJ Jiskra\, Ledečská 3028 Havlíčkův Brod
SUMMARY:MCR-U16M-B: Česká Třebová-Svitavy
END:VEVENT
BEGIN:VEVENT
UID:62626361-3830-4661-a665-653030373633
DTSTAMP:20260421T210106Z
DESCRIPTION:3/5 Česká Třebová - Frýdek-Místek 0:2 (-14\,-14)
DTSTART;TZID=Europe/Berlin:20230501T130000
DTEND;TZID=Europe/Berlin:20230501T150000
LOCATION:Sportovní hala TJ Jiskra\, Ledečská 3028 Havlíčkův Brod
SUMMARY:MCR-U16M-B: Česká Třebová-Frýdek-Místek
END:VEVENT
BEGIN:VEVENT
UID:37653131-6135-4564-b566-343436393835
DTSTAMP:20260421T210106Z
DESCRIPTION:2/3 Havlíčkův Brod - Česká Třebová 2:0 (18\,14)
DTSTART;TZID=Europe/Berlin:20230501T113000
DTEND;TZID=Europe/Berlin:20230501T133000
LOCATION:Sportovní hala TJ Jiskra\, Ledečská 3028 Havlíčkův Brod
SUMMARY:MCR-U16M-B: Havlíčkův Brod-Česká Třebová
END:VEVENT
BEGIN:VEVENT
UID:35373965-3036-4939-b561-353335363434
DTSTAMP:20260421T210106Z
DESCRIPTION:4/8 Nymburk - Česká Třebová 2:0 (7\,10)
DTSTART;TZID=Europe/Berlin:20230501T150000
DTEND;TZID=Europe/Berlin:20230501T170000
LOCATION:Sportovní hala TJ Jiskra\, Ledečská 3028 Havlíčkův Brod
SUMMARY:MCR-U16M-B: Nymburk-Česká Třebová
END:VEVENT
END:VCALENDAR
