BEGIN:VCALENDAR
VERSION:2.0
PRODID:-//TJ Energetik Chvaletice z.s.78652//NONSGML kigkonsult.se iCalcreator 2.41.80//
CALSCALE:GREGORIAN
UID:34316638-3263-4932-b934-306462336130
BEGIN:VEVENT
UID:65363234-3836-4666-b465-353865616364
DTSTAMP:20260423T154627Z
DESCRIPTION:1/3 Chvaletice PA - Trutnov 0:3 (-15\,-10\,-16)
DTSTART;TZID=Europe/Berlin:20221002T100000
DTEND;TZID=Europe/Berlin:20221002T120000
LOCATION:ZŠ Chvaletice\, Spojovací 431 Chvaletice
SUMMARY:HK-U22Z: Chvaletice PA-Trutnov
END:VEVENT
BEGIN:VEVENT
UID:65383262-3639-4131-b133-386635633633
DTSTAMP:20260423T154627Z
DESCRIPTION:2/6 Chvaletice PA - Trutnov 0:3 (-12\,-17\,-16)
DTSTART;TZID=Europe/Berlin:20221002T130000
DTEND;TZID=Europe/Berlin:20221002T150000
LOCATION:ZŠ Chvaletice\, Spojovací 431 Chvaletice
SUMMARY:HK-U22Z: Chvaletice PA-Trutnov
END:VEVENT
BEGIN:VEVENT
UID:37336565-3261-4436-a130-613739663830
DTSTAMP:20260423T154627Z
DESCRIPTION:5/14 Chvaletice PA - Chlumec n.C. 0:3 (-10\,-23\,-10)
DTSTART;TZID=Europe/Berlin:20221030T100000
DTEND;TZID=Europe/Berlin:20221030T120000
LOCATION:ZŠ Chvaletice\, Spojovací 431 Chvaletice
SUMMARY:HK-U22Z: Chvaletice PA-Chlumec n.C.
END:VEVENT
BEGIN:VEVENT
UID:37616534-3862-4464-b138-313861623065
DTSTAMP:20260423T154627Z
DESCRIPTION:6/17 Chvaletice PA - Chlumec n.C. 0:3 (-13\,-16\,-14)
DTSTART;TZID=Europe/Berlin:20221030T130000
DTEND;TZID=Europe/Berlin:20221030T150000
LOCATION:ZŠ Chvaletice\, Spojovací 431 Chvaletice
SUMMARY:HK-U22Z: Chvaletice PA-Chlumec n.C.
END:VEVENT
BEGIN:VEVENT
UID:35636462-3561-4336-a266-643166323437
DTSTAMP:20260423T154627Z
DESCRIPTION:7/19 Chvaletice PA - Č.Kostelec 0:3 (-15\,-13\,-19)
DTSTART;TZID=Europe/Berlin:20221106T100000
DTEND;TZID=Europe/Berlin:20221106T120000
LOCATION:ZŠ Chvaletice\, Spojovací 431 Chvaletice
SUMMARY:HK-U22Z: Chvaletice PA-Č.Kostelec
END:VEVENT
BEGIN:VEVENT
UID:61613832-6134-4535-b163-333764336630
DTSTAMP:20260423T154627Z
DESCRIPTION:8/22 Chvaletice PA - Č.Kostelec 0:3 (-22\,-17\,-12)
DTSTART;TZID=Europe/Berlin:20221106T130000
DTEND;TZID=Europe/Berlin:20221106T150000
LOCATION:ZŠ Chvaletice\, Spojovací 431 Chvaletice
SUMMARY:HK-U22Z: Chvaletice PA-Č.Kostelec
END:VEVENT
BEGIN:VEVENT
UID:32383430-6162-4762-b931-613738386432
DTSTAMP:20260423T154627Z
DESCRIPTION:17/49 Chvaletice PA - RÉMA  Rychnov U20 0:3 (-12\,-19\,-15)
DTSTART;TZID=Europe/Berlin:20230115T100000
DTEND;TZID=Europe/Berlin:20230115T120000
LOCATION:ZŠ Chvaletice\, Spojovací 431 Chvaletice
SUMMARY:HK-U22Z: Chvaletice PA-RÉMA  Rychnov U20
END:VEVENT
BEGIN:VEVENT
UID:38353234-3037-4736-a537-373561633363
DTSTAMP:20260423T154627Z
DESCRIPTION:18/52 Chvaletice PA - RÉMA  Rychnov U20 0:3 (-15\,-19\,-17)
DTSTART;TZID=Europe/Berlin:20230115T130000
DTEND;TZID=Europe/Berlin:20230115T150000
LOCATION:ZŠ Chvaletice\, Spojovací 431 Chvaletice
SUMMARY:HK-U22Z: Chvaletice PA-RÉMA  Rychnov U20
END:VEVENT
BEGIN:VEVENT
UID:39623965-3234-4832-b630-386437333334
DTSTAMP:20260423T154627Z
DESCRIPTION:21/62 Chvaletice PA - Nechanice 3:0 (14\,9\,3)
DTSTART;TZID=Europe/Berlin:20230205T100000
DTEND;TZID=Europe/Berlin:20230205T120000
LOCATION:ZŠ Chvaletice\, Spojovací 431 Chvaletice
SUMMARY:HK-U22Z: Chvaletice PA-Nechanice
END:VEVENT
BEGIN:VEVENT
UID:63333230-3538-4330-b239-626661356639
DTSTAMP:20260423T154627Z
DESCRIPTION:22/65 Chvaletice PA - Nechanice 3:0 (9\,9\,15)
DTSTART;TZID=Europe/Berlin:20230205T130000
DTEND;TZID=Europe/Berlin:20230205T150000
LOCATION:ZŠ Chvaletice\, Spojovací 431 Chvaletice
SUMMARY:HK-U22Z: Chvaletice PA-Nechanice
END:VEVENT
BEGIN:VEVENT
UID:62383438-3361-4963-a463-313263363133
DTSTAMP:20260423T154627Z
DESCRIPTION:25/75 Chvaletice PA - Choceň 0:3 (-18\,-14\,-20)
DTSTART;TZID=Europe/Berlin:20230319T100000
DTEND;TZID=Europe/Berlin:20230319T120000
LOCATION:ZŠ Chvaletice\, Spojovací 431 Chvaletice
SUMMARY:HK-U22Z: Chvaletice PA-Choceň
END:VEVENT
BEGIN:VEVENT
UID:63633639-3566-4366-b131-323462623163
DTSTAMP:20260423T154627Z
DESCRIPTION:26/78 Chvaletice PA - Choceň 1:3 (-24\,23\,-19\,-23)
DTSTART;TZID=Europe/Berlin:20230319T130000
DTEND;TZID=Europe/Berlin:20230319T150000
LOCATION:ZŠ Chvaletice\, Spojovací 431 Chvaletice
SUMMARY:HK-U22Z: Chvaletice PA-Choceň
END:VEVENT
BEGIN:VEVENT
UID:63386531-3738-4830-b034-353239386561
DTSTAMP:20260423T154627Z
DESCRIPTION:3/7 RÉMA  Rychnov U20 - Chvaletice PA 3:2 (21\,-16\,-23\,13\,9)
DTSTART;TZID=Europe/Berlin:20221008T090000
DTEND;TZID=Europe/Berlin:20221008T110000
LOCATION:Hala VOŠ a SPŠS\, U Stadionu 1166 Rychnov nad Kněžnou
SUMMARY:HK-U22Z: RÉMA  Rychnov U20-Chvaletice PA
END:VEVENT
BEGIN:VEVENT
UID:61393339-6264-4531-a433-303937393562
DTSTAMP:20260423T154627Z
DESCRIPTION:4/10 RÉMA  Rychnov U20 - Chvaletice PA 3:0 (13\,11\,24)
DTSTART;TZID=Europe/Berlin:20221008T130000
DTEND;TZID=Europe/Berlin:20221008T150000
LOCATION:Hala VOŠ a SPŠS\, U Stadionu 1166 Rychnov nad Kněžnou
SUMMARY:HK-U22Z: RÉMA  Rychnov U20-Chvaletice PA
END:VEVENT
BEGIN:VEVENT
UID:32323162-3134-4136-b462-393064353263
DTSTAMP:20260423T154627Z
DESCRIPTION:9/26 Nechanice - Chvaletice PA 0:3 (-15\,-20\,-24)
DTSTART;TZID=Europe/Berlin:20221113T100000
DTEND;TZID=Europe/Berlin:20221113T120000
LOCATION:Tělocvičná jednota Sokol Nechanice\, Školská 348 Nechanice
SUMMARY:HK-U22Z: Nechanice-Chvaletice PA
END:VEVENT
BEGIN:VEVENT
UID:32346435-3065-4565-b964-663632653963
DTSTAMP:20260423T154627Z
DESCRIPTION:10/29 Nechanice - Chvaletice PA 0:3 (-10\,-6\,-17)
DTSTART;TZID=Europe/Berlin:20221113T130000
DTEND;TZID=Europe/Berlin:20221113T150000
LOCATION:Tělocvičná jednota Sokol Nechanice\, Školská 348 Nechanice
SUMMARY:HK-U22Z: Nechanice-Chvaletice PA
END:VEVENT
BEGIN:VEVENT
UID:36643638-3633-4363-b265-386532356538
DTSTAMP:20260423T154627Z
DESCRIPTION:11/33 Choceň - Chvaletice PA 3:0 (11\,15\,15)
DTSTART;TZID=Europe/Berlin:20221204T100000
DTEND;TZID=Europe/Berlin:20221204T120000
LOCATION:Volejbalová hala \, U Koupaliště 1734 Choceň
SUMMARY:HK-U22Z: Choceň-Chvaletice PA
END:VEVENT
BEGIN:VEVENT
UID:65646164-6666-4835-b638-323532656165
DTSTAMP:20260423T154627Z
DESCRIPTION:12/36 Choceň - Chvaletice PA 3:0 (10\,8\,22)
DTSTART;TZID=Europe/Berlin:20221204T130000
DTEND;TZID=Europe/Berlin:20221204T150000
LOCATION:Volejbalová hala \, U Koupaliště 1734 Choceň
SUMMARY:HK-U22Z: Choceň-Chvaletice PA
END:VEVENT
BEGIN:VEVENT
UID:37303338-6261-4830-b033-646335313561
DTSTAMP:20260423T154627Z
DESCRIPTION:15/45 Trutnov - Chvaletice PA 3:2 (11\,-22\,-17\,23\,13)
DTSTART;TZID=Europe/Berlin:20221218T100000
DTEND;TZID=Europe/Berlin:20221218T120000
LOCATION:Základní škola. Trutnov\, V Domcích 488\, V Domcích 488 Trutnov - 
 Horní Předměstí
SUMMARY:HK-U22Z: Trutnov-Chvaletice PA
END:VEVENT
BEGIN:VEVENT
UID:30323465-3764-4530-b166-633739616135
DTSTAMP:20260423T154627Z
DESCRIPTION:16/48 Trutnov - Chvaletice PA 3:1 (23\,18\,-21\,13)
DTSTART;TZID=Europe/Berlin:20221218T130000
DTEND;TZID=Europe/Berlin:20221218T150000
LOCATION:Základní škola. Trutnov\, V Domcích 488\, V Domcích 488 Trutnov - 
 Horní Předměstí
SUMMARY:HK-U22Z: Trutnov-Chvaletice PA
END:VEVENT
BEGIN:VEVENT
UID:63313334-3736-4362-a563-343265323438
DTSTAMP:20260423T154627Z
DESCRIPTION:19/56 Chlumec n.C. - Chvaletice PA 3:0 (19\,14\,13)
DTSTART;TZID=Europe/Berlin:20230129T100000
DTEND;TZID=Europe/Berlin:20230129T120000
LOCATION:Slavíčkova hala\, Sokolská 795 Chlumec nad Cidlinou - Chlumec nad 
 Cidlinou IV
SUMMARY:HK-U22Z: Chlumec n.C.-Chvaletice PA
END:VEVENT
BEGIN:VEVENT
UID:62666633-3935-4261-b735-643738643762
DTSTAMP:20260423T154627Z
DESCRIPTION:20/59 Chlumec n.C. - Chvaletice PA 3:0 (21\,16\,16)
DTSTART;TZID=Europe/Berlin:20230129T130000
DTEND;TZID=Europe/Berlin:20230129T150000
LOCATION:Slavíčkova hala\, Sokolská 795 Chlumec nad Cidlinou - Chlumec nad 
 Cidlinou IV
SUMMARY:HK-U22Z: Chlumec n.C.-Chvaletice PA
END:VEVENT
BEGIN:VEVENT
UID:34316237-3961-4262-b964-373561323634
DTSTAMP:20260423T154627Z
DESCRIPTION:23/67 Č.Kostelec - Chvaletice PA 3:0 (7\,17\,15)
DTSTART;TZID=Europe/Berlin:20230212T100000
DTEND;TZID=Europe/Berlin:20230212T120000
LOCATION:Sportovní hala\, Palackého 1234 Červený Kostelec
SUMMARY:HK-U22Z: Č.Kostelec-Chvaletice PA
END:VEVENT
BEGIN:VEVENT
UID:36633362-6462-4364-a331-356138353338
DTSTAMP:20260423T154627Z
DESCRIPTION:24/70 Č.Kostelec - Chvaletice PA 3:0 (9\,9\,8)
DTSTART;TZID=Europe/Berlin:20230212T130000
DTEND;TZID=Europe/Berlin:20230212T150000
LOCATION:Sportovní hala\, Palackého 1234 Červený Kostelec
SUMMARY:HK-U22Z: Č.Kostelec-Chvaletice PA
END:VEVENT
END:VCALENDAR
