BEGIN:VCALENDAR
VERSION:2.0
PRODID:-//TJ Svitavy B78654//NONSGML kigkonsult.se iCalcreator 2.41.80//
CALSCALE:GREGORIAN
UID:63616433-3734-4062-b636-306362386163
BEGIN:VEVENT
UID:35623830-6631-4635-b662-336435373664
DTSTAMP:20260421T153346Z
DESCRIPTION:3/12 Svitavy B - Polička - U18
DTSTART;TZID=Europe/Berlin:20220911T101500
DTEND;TZID=Europe/Berlin:20220911T121500
LOCATION:Sportovní hala Na Střelnici\, Pražská 2162 Svitavy - Předměstí
SUMMARY:PA-U16M-KVALIFIK: Svitavy B-Polička - U18
END:VEVENT
BEGIN:VEVENT
UID:36366134-3035-4839-a237-396465633738
DTSTAMP:20260421T153346Z
DESCRIPTION:5/19 Svitavy B - Havlíčkův Brod
DTSTART;TZID=Europe/Berlin:20220911T113000
DTEND;TZID=Europe/Berlin:20220911T133000
LOCATION:Sportovní hala Na Střelnici\, Pražská 2162 Svitavy - Předměstí
SUMMARY:PA-U16M-KVALIFIK: Svitavy B-Havlíčkův Brod
END:VEVENT
BEGIN:VEVENT
UID:36333730-3166-4563-a630-393838353063
DTSTAMP:20260421T153346Z
DESCRIPTION:7/26 Svitavy B - Choceň
DTSTART;TZID=Europe/Berlin:20220911T123000
DTEND;TZID=Europe/Berlin:20220911T143000
LOCATION:Sportovní hala Na Střelnici\, Pražská 2162 Svitavy - Předměstí
SUMMARY:PA-U16M-KVALIFIK: Svitavy B-Choceň
END:VEVENT
BEGIN:VEVENT
UID:62393231-3233-4962-a234-373232633364
DTSTAMP:20260421T153346Z
DESCRIPTION:9/33 Svitavy B - Česká Třebová
DTSTART;TZID=Europe/Berlin:20220911T140000
DTEND;TZID=Europe/Berlin:20220911T160000
LOCATION:Sportovní hala Na Střelnici\, Pražská 2162 Svitavy - Předměstí
SUMMARY:PA-U16M-KVALIFIK: Svitavy B-Česká Třebová
END:VEVENT
BEGIN:VEVENT
UID:37323566-6330-4030-b062-326437346366
DTSTAMP:20260421T153346Z
DESCRIPTION:1/4 Svitavy - Svitavy B
DTSTART;TZID=Europe/Berlin:20220911T090000
DTEND;TZID=Europe/Berlin:20220911T110000
LOCATION:Sportovní hala Na Střelnici\, Pražská 2162 Svitavy - Předměstí
SUMMARY:PA-U16M-KVALIFIK: Svitavy-Svitavy B
END:VEVENT
BEGIN:VEVENT
UID:34383738-6237-4762-a631-666461343032
DTSTAMP:20260421T153346Z
DESCRIPTION:4/13 Velké Meziříčí - Svitavy B
DTSTART;TZID=Europe/Berlin:20220911T110000
DTEND;TZID=Europe/Berlin:20220911T130000
SUMMARY:PA-U16M-KVALIFIK: Velké Meziříčí-Svitavy B
END:VEVENT
BEGIN:VEVENT
UID:39643934-3762-4261-b035-613434326639
DTSTAMP:20260421T153346Z
DESCRIPTION:6/22 Litomyšl - Svitavy B
DTSTART;TZID=Europe/Berlin:20220911T120000
DTEND;TZID=Europe/Berlin:20220911T140000
LOCATION:Městská sportovní hala\, T. G. Masaryka 1145 Litomyšl - Litomyšl-M
 ěsto
SUMMARY:PA-U16M-KVALIFIK: Litomyšl-Svitavy B
END:VEVENT
BEGIN:VEVENT
UID:66663030-3064-4366-a230-623561383536
DTSTAMP:20260421T153346Z
DESCRIPTION:8/31 Letohrad - Svitavy B
DTSTART;TZID=Europe/Berlin:20220911T131500
DTEND;TZID=Europe/Berlin:20220911T151500
LOCATION:TJ Spartak Letohrad\, Jilemnického 341 Letohrad
SUMMARY:PA-U16M-KVALIFIK: Letohrad-Svitavy B
END:VEVENT
END:VCALENDAR
