BEGIN:VCALENDAR
VERSION:2.0
PRODID:-//TJ Slovan Moravská Třebová, z.s.78662//NONSGML kigkonsult.se iCalcreator 2.41.80//
CALSCALE:GREGORIAN
UID:32356565-3531-4532-a138-633766626131
BEGIN:VEVENT
UID:62323062-3533-4438-b831-656433336564
DTSTAMP:20260425T160115Z
DESCRIPTION:1/4 TJ Slovan Moravská Třebová\, z.s. - TJ Spartak Polička\, z.
 s. 0:2 (-18\,-14)
DTSTART;TZID=Europe/Berlin:20220918T090000
DTEND;TZID=Europe/Berlin:20220918T110000
LOCATION:SOŠ a SOU Lanškroun\, Sokolská 288 Lanškroun - Ostrovské Předměstí
SUMMARY:PA-U16Z-KVAL-A: TJ Slovan Moravská Třebová\, z.s.-TJ Spartak Poličk
 a\, z.s.
END:VEVENT
BEGIN:VEVENT
UID:32306432-6366-4735-a536-353330363134
DTSTAMP:20260425T160115Z
DESCRIPTION:1/6 TJ Slovan Moravská Třebová\, z.s. - Volejbalový klub Choceň
 \, z.s. 0:2 (-21\,-16)
DTSTART;TZID=Europe/Berlin:20220918T090000
DTEND;TZID=Europe/Berlin:20220918T110000
LOCATION:SOŠ a SOU Lanškroun\, Sokolská 288 Lanškroun - Ostrovské Předměstí
SUMMARY:PA-U16Z-KVAL-A: TJ Slovan Moravská Třebová\, z.s.-Volejbalový klub 
 Choceň\, z.s.
END:VEVENT
BEGIN:VEVENT
UID:31336531-3764-4635-b066-623535356163
DTSTAMP:20260425T160115Z
DESCRIPTION:1/9 Letohrad - TJ Slovan Moravská Třebová\, z.s. 2:0 (9\,11)
DTSTART;TZID=Europe/Berlin:20220918T090000
DTEND;TZID=Europe/Berlin:20220918T110000
LOCATION:SOŠ a SOU Lanškroun\, Sokolská 288 Lanškroun - Ostrovské Předměstí
SUMMARY:PA-U16Z-KVAL-A: Letohrad-TJ Slovan Moravská Třebová\, z.s.
END:VEVENT
BEGIN:VEVENT
UID:61333662-6437-4663-b237-316236643134
DTSTAMP:20260425T160115Z
DESCRIPTION:1/12 TJ Svitavy B - TJ Slovan Moravská Třebová\, z.s. 1:1 (-16\
 ,20)
DTSTART;TZID=Europe/Berlin:20220918T090000
DTEND;TZID=Europe/Berlin:20220918T110000
LOCATION:SOŠ a SOU Lanškroun\, Sokolská 288 Lanškroun - Ostrovské Předměstí
SUMMARY:PA-U16Z-KVAL-A: TJ Svitavy B-TJ Slovan Moravská Třebová\, z.s.
END:VEVENT
BEGIN:VEVENT
UID:62373132-3837-4639-b561-653561313762
DTSTAMP:20260425T160115Z
DESCRIPTION:1/15 Lanškroun - TJ Slovan Moravská Třebová\, z.s. 2:0 (10\,21)
DTSTART;TZID=Europe/Berlin:20220918T090000
DTEND;TZID=Europe/Berlin:20220918T110000
LOCATION:SOŠ a SOU Lanškroun\, Sokolská 288 Lanškroun - Ostrovské Předměstí
SUMMARY:PA-U16Z-KVAL-A: Lanškroun-TJ Slovan Moravská Třebová\, z.s.
END:VEVENT
BEGIN:VEVENT
UID:66313034-3764-4031-b634-633630353337
DTSTAMP:20260425T160115Z
DESCRIPTION:1/1 TJ Slovan Moravská Třebová\, z.s. - TJ Svitavy B 3:1 (18\,1
 8\,-22\,17)
DTSTART;TZID=Europe/Berlin:20221009T090000
DTEND;TZID=Europe/Berlin:20221009T110000
LOCATION:Sportovní hala SOŠ OU\, J. K. Tyla 1275 Moravská Třebová - Předměs
 tí
SUMMARY:PA-U16Z-1KOLO-C: TJ Slovan Moravská Třebová\, z.s.-TJ Svitavy B
END:VEVENT
BEGIN:VEVENT
UID:63353666-3838-4234-b639-636337333735
DTSTAMP:20260425T160115Z
DESCRIPTION:1/3 TJ Slovan Moravská Třebová\, z.s. - Volejbalový klub Litomy
 šl\, z.s. 3:2 (-25\,-15\,18\,20\,8)
DTSTART;TZID=Europe/Berlin:20221009T090000
DTEND;TZID=Europe/Berlin:20221009T110000
LOCATION:Sportovní hala SOŠ OU\, J. K. Tyla 1275 Moravská Třebová - Předměs
 tí
SUMMARY:PA-U16Z-1KOLO-C: TJ Slovan Moravská Třebová\, z.s.-Volejbalový klub
  Litomyšl\, z.s.
END:VEVENT
BEGIN:VEVENT
UID:32666139-3235-4634-b537-623936313332
DTSTAMP:20260425T160115Z
DESCRIPTION:1/6 TJ Slovan Moravská Třebová\, z.s. - Tělocvičná jednota Soko
 l Pardubice I. 0:2 (-15\,-19)
DTSTART;TZID=Europe/Berlin:20221106T133000
DTEND;TZID=Europe/Berlin:20221106T153000
LOCATION:Sportovní hala Na Střelnici\, Pražská 2162 Svitavy - Předměstí
SUMMARY:PA-U16Z-2KOLO-B: TJ Slovan Moravská Třebová\, z.s.-Tělocvičná jedno
 ta Sokol Pardubice I.
END:VEVENT
BEGIN:VEVENT
UID:62353734-3662-4537-b263-633834613235
DTSTAMP:20260425T160115Z
DESCRIPTION:1/2 Tělocvičná jednota Sokol Česká Třebová - TJ Slovan Moravská
  Třebová\, z.s. 2:1 (-23\,12\,12)
DTSTART;TZID=Europe/Berlin:20221106T133000
DTEND;TZID=Europe/Berlin:20221106T153000
LOCATION:Sportovní hala Na Střelnici\, Pražská 2162 Svitavy - Předměstí
SUMMARY:PA-U16Z-2KOLO-B: Tělocvičná jednota Sokol Česká Třebová-TJ Slovan M
 oravská Třebová\, z.s.
END:VEVENT
BEGIN:VEVENT
UID:65653332-6637-4461-b430-386132303538
DTSTAMP:20260425T160115Z
DESCRIPTION:1/3 TJ Svitavy B - TJ Slovan Moravská Třebová\, z.s. 0:2 (-19\,
 -21)
DTSTART;TZID=Europe/Berlin:20221106T133000
DTEND;TZID=Europe/Berlin:20221106T153000
LOCATION:Sportovní hala Na Střelnici\, Pražská 2162 Svitavy - Předměstí
SUMMARY:PA-U16Z-2KOLO-B: TJ Svitavy B-TJ Slovan Moravská Třebová\, z.s.
END:VEVENT
BEGIN:VEVENT
UID:39336565-6333-4337-a137-633833346164
DTSTAMP:20260425T160115Z
DESCRIPTION:1/2 Volejbalový klub Litomyšl\, z.s. - TJ Slovan Moravská Třebo
 vá\, z.s. 2:3 (-15\,23\,-11\,16\,-7)
DTSTART;TZID=Europe/Berlin:20221204T103000
DTEND;TZID=Europe/Berlin:20221204T123000
LOCATION:Tělocvična OA\, T. G. Masaryka 164 Svitavy - Město
SUMMARY:PA-U16Z-3KOLO-C: Volejbalový klub Litomyšl\, z.s.-TJ Slovan Moravsk
 á Třebová\, z.s.
END:VEVENT
BEGIN:VEVENT
UID:38316130-6235-4066-b937-663633323864
DTSTAMP:20260425T160115Z
DESCRIPTION:1/3 TJ Svitavy B - TJ Slovan Moravská Třebová\, z.s. 1:3 (-23\,
 -23\,17\,-13)
DTSTART;TZID=Europe/Berlin:20221204T120000
DTEND;TZID=Europe/Berlin:20221204T140000
LOCATION:Tělocvična OA\, T. G. Masaryka 164 Svitavy - Město
SUMMARY:PA-U16Z-3KOLO-C: TJ Svitavy B-TJ Slovan Moravská Třebová\, z.s.
END:VEVENT
BEGIN:VEVENT
UID:37666664-3636-4865-a365-373231376530
DTSTAMP:20260425T160115Z
DESCRIPTION:1/2 TJ Slovan Moravská Třebová\, z.s. - TJ Svitavy B 2:0 (15\,1
 7)
DTSTART;TZID=Europe/Berlin:20230108T100000
DTEND;TZID=Europe/Berlin:20230108T120000
LOCATION:VDA u Billy\, Habrmanova 2096 Česká Třebová
SUMMARY:PA-U16Z-4KOLO-B: TJ Slovan Moravská Třebová\, z.s.-TJ Svitavy B
END:VEVENT
BEGIN:VEVENT
UID:63313931-6134-4333-b165-663939316434
DTSTAMP:20260425T160115Z
DESCRIPTION:1/4 TJ Slovan Moravská Třebová\, z.s. - Tělocvičná jednota Soko
 l Česká Třebová 0:2 (-20\,-14)
DTSTART;TZID=Europe/Berlin:20230108T113000
DTEND;TZID=Europe/Berlin:20230108T133000
LOCATION:VDA u Billy\, Habrmanova 2096 Česká Třebová
SUMMARY:PA-U16Z-4KOLO-B: TJ Slovan Moravská Třebová\, z.s.-Tělocvičná jedno
 ta Sokol Česká Třebová
END:VEVENT
BEGIN:VEVENT
UID:34373163-6464-4563-b339-643631326539
DTSTAMP:20260425T160115Z
DESCRIPTION:1/5 TJ Slovan Moravská Třebová\, z.s. - TJ Spartak Polička\, z.
 s. 0:2 (-11\,-10)
DTSTART;TZID=Europe/Berlin:20230108T121500
DTEND;TZID=Europe/Berlin:20230108T141500
LOCATION:VDA u Billy\, Habrmanova 2096 Česká Třebová
SUMMARY:PA-U16Z-4KOLO-B: TJ Slovan Moravská Třebová\, z.s.-TJ Spartak Polič
 ka\, z.s.
END:VEVENT
BEGIN:VEVENT
UID:34313231-6363-4135-a336-373464303661
DTSTAMP:20260425T160115Z
DESCRIPTION:1/1 TJ Slovan Moravská Třebová\, z.s. - TJ Svitavy B 1:3 (-19\,
 -16\,13\,-20)
DTSTART;TZID=Europe/Berlin:20230129T090000
DTEND;TZID=Europe/Berlin:20230129T110000
LOCATION:Sportovní hala SOŠ OU\, J. K. Tyla 1275 Moravská Třebová - Předměs
 tí
SUMMARY:PA-U16Z-5KOLO-C: TJ Slovan Moravská Třebová\, z.s.-TJ Svitavy B
END:VEVENT
BEGIN:VEVENT
UID:34663734-3461-4037-b038-353430366238
DTSTAMP:20260425T160115Z
DESCRIPTION:1/2 TJ Slovan Moravská Třebová\, z.s. - TJ Energetik Chvaletice
  z.s. 1:3 (22\,-16\,-23\,-9)
DTSTART;TZID=Europe/Berlin:20230129T090000
DTEND;TZID=Europe/Berlin:20230129T110000
LOCATION:Sportovní hala SOŠ OU\, J. K. Tyla 1275 Moravská Třebová - Předměs
 tí
SUMMARY:PA-U16Z-5KOLO-C: TJ Slovan Moravská Třebová\, z.s.-TJ Energetik Chv
 aletice z.s.
END:VEVENT
BEGIN:VEVENT
UID:38383439-3764-4166-b763-366366663336
DTSTAMP:20260425T160115Z
DESCRIPTION:1/3 TJ Slovan Moravská Třebová\, z.s. - Tělocvičná jednota Soko
 l Pardubice I. 1:3 (16\,-12\,-7\,-14)
DTSTART;TZID=Europe/Berlin:20230212T090000
DTEND;TZID=Europe/Berlin:20230212T110000
LOCATION:Sportovní hala SOŠ OU\, J. K. Tyla 1275 Moravská Třebová - Předměs
 tí
SUMMARY:PA-U16Z-6KOLO-C: TJ Slovan Moravská Třebová\, z.s.-Tělocvičná jedno
 ta Sokol Pardubice I.
END:VEVENT
BEGIN:VEVENT
UID:35663162-6166-4665-a434-666438316430
DTSTAMP:20260425T160115Z
DESCRIPTION:1/2 Volejbalový klub Litomyšl\, z.s. - TJ Slovan Moravská Třebo
 vá\, z.s. 0:3 (-0\,-0\,-0)
DTSTART;TZID=Europe/Berlin:20230212T090000
DTEND;TZID=Europe/Berlin:20230212T110000
LOCATION:Městská sportovní hala\, T. G. Masaryka 1145 Litomyšl - Litomyšl-M
 ěsto
SUMMARY:PA-U16Z-6KOLO-C: Volejbalový klub Litomyšl\, z.s.-TJ Slovan Moravsk
 á Třebová\, z.s.
END:VEVENT
BEGIN:VEVENT
UID:62373132-3064-4238-b439-386333356331
DTSTAMP:20260425T160115Z
DESCRIPTION:1/3 TJ Slovan Moravská Třebová\, z.s. - Tělocvičná jednota Soko
 l Pardubice I. 0:2 (-8\,-15)
DTSTART;TZID=Europe/Berlin:20230401T090000
DTEND;TZID=Europe/Berlin:20230401T110000
LOCATION:Sportovní hala SOŠ OU\, J. K. Tyla 1275 Moravská Třebová - Předměs
 tí
SUMMARY:PA-U16Z-7KOLO-B: TJ Slovan Moravská Třebová\, z.s.-Tělocvičná jedno
 ta Sokol Pardubice I.
END:VEVENT
BEGIN:VEVENT
UID:32333366-3434-4634-a663-616336663237
DTSTAMP:20260425T160115Z
DESCRIPTION:1/1 Tělocvičná jednota Sokol Česká Třebová - TJ Slovan Moravská
  Třebová\, z.s. 2:0 (7\,18)
DTSTART;TZID=Europe/Berlin:20230401T090000
DTEND;TZID=Europe/Berlin:20230401T110000
LOCATION:Sportovní hala SOŠ OU\, J. K. Tyla 1275 Moravská Třebová - Předměs
 tí
SUMMARY:PA-U16Z-7KOLO-B: Tělocvičná jednota Sokol Česká Třebová-TJ Slovan M
 oravská Třebová\, z.s.
END:VEVENT
BEGIN:VEVENT
UID:30383965-6130-4261-b236-396130626436
DTSTAMP:20260425T160115Z
DESCRIPTION:1/5 TJ Spartak Polička\, z.s. - TJ Slovan Moravská Třebová\, z.
 s. 2:0 (5\,14)
DTSTART;TZID=Europe/Berlin:20230401T090000
DTEND;TZID=Europe/Berlin:20230401T110000
LOCATION:Sportovní hala SOŠ OU\, J. K. Tyla 1275 Moravská Třebová - Předměs
 tí
SUMMARY:PA-U16Z-7KOLO-B: TJ Spartak Polička\, z.s.-TJ Slovan Moravská Třebo
 vá\, z.s.
END:VEVENT
END:VCALENDAR
