BEGIN:VCALENDAR
VERSION:2.0
PRODID:-//TJ Slavia Liberec78670//NONSGML kigkonsult.se iCalcreator 2.41.80//
CALSCALE:GREGORIAN
UID:35393165-3262-4931-a530-346631323131
BEGIN:VEVENT
UID:65613738-3239-4364-b666-396362383631
DTSTAMP:20260422T231845Z
DESCRIPTION:2/4 Liberec - VK Dukla Liberec 2:1 (27\,-21\,11)\nHala Mn.Hradi
 ště
DTSTART;TZID=Europe/Berlin:20220925T100000
DTEND;TZID=Europe/Berlin:20220925T120000
LOCATION:Základní škola\, Liberec\, Sokolovská \, Sokolovská 328 Liberec - 
 Liberec XIII-Nové Pavlovice
SUMMARY:LIB-U16M: Liberec-VK Dukla Liberec
END:VEVENT
BEGIN:VEVENT
UID:34353930-3036-4235-b130-306534363033
DTSTAMP:20260422T231845Z
DESCRIPTION:4/10 Liberec - Tělovýchovná jednota Jiskra Nový Bor\, z.s. 2:0 
 (10\,19)\nHala Mn.Hradiště
DTSTART;TZID=Europe/Berlin:20220925T130000
DTEND;TZID=Europe/Berlin:20220925T150000
LOCATION:Základní škola\, Liberec\, Sokolovská \, Sokolovská 328 Liberec - 
 Liberec XIII-Nové Pavlovice
SUMMARY:LIB-U16M: Liberec-Tělovýchovná jednota Jiskra Nový Bor\, z.s.
END:VEVENT
BEGIN:VEVENT
UID:32663137-3063-4530-b564-313235376335
DTSTAMP:20260422T231845Z
DESCRIPTION:5/14 Liberec - Tělovýchovná jednota Jiskra Nový Bor\, z.s. 2:0 
 (15\,21)
DTSTART;TZID=Europe/Berlin:20221008T100000
DTEND;TZID=Europe/Berlin:20221008T120000
LOCATION:Základní škola\, Liberec\, Sokolovská \, Sokolovská 328 Liberec - 
 Liberec XIII-Nové Pavlovice
SUMMARY:LIB-U16M: Liberec-Tělovýchovná jednota Jiskra Nový Bor\, z.s.
END:VEVENT
BEGIN:VEVENT
UID:63383630-3639-4362-b137-343064386438
DTSTAMP:20260422T231845Z
DESCRIPTION:7/19 Liberec - TJ Lokomotiva Česká Lípa\, z.s. 2:0 (14\,19)
DTSTART;TZID=Europe/Berlin:20221008T130000
DTEND;TZID=Europe/Berlin:20221008T150000
LOCATION:Základní škola\, Liberec\, Sokolovská \, Sokolovská 328 Liberec - 
 Liberec XIII-Nové Pavlovice
SUMMARY:LIB-U16M: Liberec-TJ Lokomotiva Česká Lípa\, z.s.
END:VEVENT
BEGIN:VEVENT
UID:34613135-3633-4232-b066-333137306265
DTSTAMP:20260422T231845Z
DESCRIPTION:7/21 Liberec - TJ Lokomotiva Česká Lípa\, z.s. 2:0 (22\,11)\nZŠ
  Sokolovská LBC
DTSTART;TZID=Europe/Berlin:20221112T090000
DTEND;TZID=Europe/Berlin:20221112T110000
LOCATION:Základní škola\, Liberec\, Sokolovská \, Sokolovská 328 Liberec - 
 Liberec XIII-Nové Pavlovice
SUMMARY:LIB-U16M: Liberec-TJ Lokomotiva Česká Lípa\, z.s.
END:VEVENT
BEGIN:VEVENT
UID:65623039-3238-4864-b364-356236663931
DTSTAMP:20260422T231845Z
DESCRIPTION:9/27 Liberec - VK Dukla Liberec 2:0 (22\,3)\nZŠ Sokolovská LBC
DTSTART;TZID=Europe/Berlin:20221112T120000
DTEND;TZID=Europe/Berlin:20221112T140000
LOCATION:Základní škola\, Liberec\, Sokolovská \, Sokolovská 328 Liberec - 
 Liberec XIII-Nové Pavlovice
SUMMARY:LIB-U16M: Liberec-VK Dukla Liberec
END:VEVENT
BEGIN:VEVENT
UID:62623737-3461-4433-a661-393439356532
DTSTAMP:20260422T231845Z
DESCRIPTION:11/32 Liberec - Mnichovo Hradiště 0:2 (-19\,-11)\nZŠ Lada ČL
DTSTART;TZID=Europe/Berlin:20230114T090000
DTEND;TZID=Europe/Berlin:20230114T110000
LOCATION:Základní škola\, Liberec\, Sokolovská \, Sokolovská 328 Liberec - 
 Liberec XIII-Nové Pavlovice
SUMMARY:LIB-U16M: Liberec-Mnichovo Hradiště
END:VEVENT
BEGIN:VEVENT
UID:38343135-6634-4930-b935-303466326534
DTSTAMP:20260422T231845Z
DESCRIPTION:12/36 Liberec - Tělovýchovná jednota Jiskra Nový Bor\, z.s. 2:0
  (18\,11)\nZŠ Lada ČL
DTSTART;TZID=Europe/Berlin:20230114T110000
DTEND;TZID=Europe/Berlin:20230114T130000
LOCATION:Základní škola\, Liberec\, Sokolovská \, Sokolovská 328 Liberec - 
 Liberec XIII-Nové Pavlovice
SUMMARY:LIB-U16M: Liberec-Tělovýchovná jednota Jiskra Nový Bor\, z.s.
END:VEVENT
BEGIN:VEVENT
UID:33646462-3237-4535-b234-313863336163
DTSTAMP:20260422T231845Z
DESCRIPTION:14/42 Liberec - TJ Lokomotiva Česká Lípa\, z.s. 2:0 (19\,21)\nH
 ala Dukla
DTSTART;TZID=Europe/Berlin:20230205T090000
DTEND;TZID=Europe/Berlin:20230205T110000
LOCATION:Základní škola\, Liberec\, Sokolovská \, Sokolovská 328 Liberec - 
 Liberec XIII-Nové Pavlovice
SUMMARY:LIB-U16M: Liberec-TJ Lokomotiva Česká Lípa\, z.s.
END:VEVENT
BEGIN:VEVENT
UID:30306361-3035-4436-b934-363932353938
DTSTAMP:20260422T231845Z
DESCRIPTION:15/43 Liberec - VK Dukla Liberec 0:2 (-14\,-15)\nHala Dukla
DTSTART;TZID=Europe/Berlin:20230205T100000
DTEND;TZID=Europe/Berlin:20230205T120000
LOCATION:Základní škola\, Liberec\, Sokolovská \, Sokolovská 328 Liberec - 
 Liberec XIII-Nové Pavlovice
SUMMARY:LIB-U16M: Liberec-VK Dukla Liberec
END:VEVENT
BEGIN:VEVENT
UID:66346137-3835-4133-b036-613333623763
DTSTAMP:20260422T231845Z
DESCRIPTION:20/60 Liberec - Tělovýchovná jednota Jiskra Nový Bor\, z.s. 2:1
  (-24\,17\,11)\nHala N. Bor
DTSTART;TZID=Europe/Berlin:20230312T130000
DTEND;TZID=Europe/Berlin:20230312T150000
LOCATION:Základní škola\, Liberec\, Sokolovská \, Sokolovská 328 Liberec - 
 Liberec XIII-Nové Pavlovice
SUMMARY:LIB-U16M: Liberec-Tělovýchovná jednota Jiskra Nový Bor\, z.s.
END:VEVENT
BEGIN:VEVENT
UID:61336562-6364-4237-a461-633562396262
DTSTAMP:20260422T231845Z
DESCRIPTION:1/1 Mnichovo Hradiště - Liberec 1:2 (14\,-23\,-7)\nHala Mn.Hrad
 iště
DTSTART;TZID=Europe/Berlin:20220925T090000
DTEND;TZID=Europe/Berlin:20220925T110000
LOCATION:Sportovní hala BIOS\, Sokolovská 254 Mnichovo Hradiště
SUMMARY:LIB-U16M: Mnichovo Hradiště-Liberec
END:VEVENT
BEGIN:VEVENT
UID:38356632-6431-4137-b034-623865343465
DTSTAMP:20260422T231845Z
DESCRIPTION:3/7 TJ Lokomotiva Česká Lípa\, z.s. - Liberec 0:2 (-14\,-19)\nH
 ala Mn.Hradiště
DTSTART;TZID=Europe/Berlin:20220925T120000
DTEND;TZID=Europe/Berlin:20220925T140000
LOCATION:ZŠ Lada\, Šluknovská 2904 Česká Lípa
SUMMARY:LIB-U16M: TJ Lokomotiva Česká Lípa\, z.s.-Liberec
END:VEVENT
BEGIN:VEVENT
UID:66393065-3533-4237-b266-623261643334
DTSTAMP:20260422T231845Z
DESCRIPTION:6/16 Mnichovo Hradiště - Liberec 2:0 (18\,27)
DTSTART;TZID=Europe/Berlin:20221008T110000
DTEND;TZID=Europe/Berlin:20221008T130000
LOCATION:Sportovní hala BIOS\, Sokolovská 254 Mnichovo Hradiště
SUMMARY:LIB-U16M: Mnichovo Hradiště-Liberec
END:VEVENT
BEGIN:VEVENT
UID:64373166-3065-4435-b239-383037376132
DTSTAMP:20260422T231845Z
DESCRIPTION:6/18 VK Dukla Liberec - Liberec 0:2 (-25\,-13)
DTSTART;TZID=Europe/Berlin:20221008T120000
DTEND;TZID=Europe/Berlin:20221008T140000
LOCATION:Dukla Liberec\, Jeronýmova 558 Liberec - Liberec VII-Horní Růžodol
SUMMARY:LIB-U16M: VK Dukla Liberec-Liberec
END:VEVENT
BEGIN:VEVENT
UID:62373039-6534-4566-b239-383937613836
DTSTAMP:20260422T231845Z
DESCRIPTION:8/23 Tělovýchovná jednota Jiskra Nový Bor\, z.s. - Liberec 0:2 
 (-9\,-14)\nZŠ Sokolovská LBC
DTSTART;TZID=Europe/Berlin:20221112T100000
DTEND;TZID=Europe/Berlin:20221112T120000
LOCATION:Sportovní hala Františka Arnošta Nový Bor\, U hřiště 1391 Nový Bor
SUMMARY:LIB-U16M: Tělovýchovná jednota Jiskra Nový Bor\, z.s.-Liberec
END:VEVENT
BEGIN:VEVENT
UID:63313039-3065-4563-b435-373432346135
DTSTAMP:20260422T231845Z
DESCRIPTION:10/30 Mnichovo Hradiště - Liberec 2:0 (14\,26)\nZŠ Sokolovská L
 BC
DTSTART;TZID=Europe/Berlin:20221112T130000
DTEND;TZID=Europe/Berlin:20221112T150000
LOCATION:Sportovní hala BIOS\, Sokolovská 254 Mnichovo Hradiště
SUMMARY:LIB-U16M: Mnichovo Hradiště-Liberec
END:VEVENT
BEGIN:VEVENT
UID:61343837-3163-4534-b333-333164323438
DTSTAMP:20260422T231845Z
DESCRIPTION:11/33 VK Dukla Liberec - Liberec 0:2 (-16\,-21)\nZŠ Lada ČL
DTSTART;TZID=Europe/Berlin:20230114T100000
DTEND;TZID=Europe/Berlin:20230114T120000
LOCATION:Dukla Liberec\, Jeronýmova 558 Liberec - Liberec VII-Horní Růžodol
SUMMARY:LIB-U16M: VK Dukla Liberec-Liberec
END:VEVENT
BEGIN:VEVENT
UID:34356533-6133-4166-b834-323939323038
DTSTAMP:20260422T231845Z
DESCRIPTION:13/37 TJ Lokomotiva Česká Lípa\, z.s. - Liberec 0:2 (-10\,-18)
 \nZŠ Lada ČL
DTSTART;TZID=Europe/Berlin:20230114T120000
DTEND;TZID=Europe/Berlin:20230114T140000
LOCATION:ZŠ Lada\, Šluknovská 2904 Česká Lípa
SUMMARY:LIB-U16M: TJ Lokomotiva Česká Lípa\, z.s.-Liberec
END:VEVENT
BEGIN:VEVENT
UID:30346633-3037-4166-b765-303563333831
DTSTAMP:20260422T231845Z
DESCRIPTION:16/46 Mnichovo Hradiště - Liberec 2:0 (19\,19)\nHala Dukla
DTSTART;TZID=Europe/Berlin:20230205T110000
DTEND;TZID=Europe/Berlin:20230205T130000
LOCATION:Sportovní hala BIOS\, Sokolovská 254 Mnichovo Hradiště
SUMMARY:LIB-U16M: Mnichovo Hradiště-Liberec
END:VEVENT
BEGIN:VEVENT
UID:63633033-3839-4661-b934-343330396239
DTSTAMP:20260422T231845Z
DESCRIPTION:17/50 Tělovýchovná jednota Jiskra Nový Bor\, z.s. - Liberec 2:0
  (26\,20)\nHala Dukla
DTSTART;TZID=Europe/Berlin:20230205T130000
DTEND;TZID=Europe/Berlin:20230205T150000
LOCATION:Sportovní hala Františka Arnošta Nový Bor\, U hřiště 1391 Nový Bor
SUMMARY:LIB-U16M: Tělovýchovná jednota Jiskra Nový Bor\, z.s.-Liberec
END:VEVENT
BEGIN:VEVENT
UID:63383162-3832-4266-a236-356663363138
DTSTAMP:20260422T231845Z
DESCRIPTION:18/52 TJ Lokomotiva Česká Lípa\, z.s. - Liberec 0:2 (-12\,-7)\n
 Hala N. Bor
DTSTART;TZID=Europe/Berlin:20230312T090000
DTEND;TZID=Europe/Berlin:20230312T110000
LOCATION:ZŠ Lada\, Šluknovská 2904 Česká Lípa
SUMMARY:LIB-U16M: TJ Lokomotiva Česká Lípa\, z.s.-Liberec
END:VEVENT
BEGIN:VEVENT
UID:64323134-6434-4266-b837-623064353536
DTSTAMP:20260422T231845Z
DESCRIPTION:19/56 VK Dukla Liberec - Liberec 0:2 (-21\,-23)\nHala N. Bor
DTSTART;TZID=Europe/Berlin:20230312T110000
DTEND;TZID=Europe/Berlin:20230312T130000
LOCATION:Dukla Liberec\, Jeronýmova 558 Liberec - Liberec VII-Horní Růžodol
SUMMARY:LIB-U16M: VK Dukla Liberec-Liberec
END:VEVENT
BEGIN:VEVENT
UID:61376435-3032-4266-b131-303732666265
DTSTAMP:20260422T231845Z
DESCRIPTION:20/58 Mnichovo Hradiště - Liberec 1:2 (14\,-23\,-7)\nHala N. Bo
 r
DTSTART;TZID=Europe/Berlin:20230312T120000
DTEND;TZID=Europe/Berlin:20230312T140000
LOCATION:Sportovní hala BIOS\, Sokolovská 254 Mnichovo Hradiště
SUMMARY:LIB-U16M: Mnichovo Hradiště-Liberec
END:VEVENT
BEGIN:VEVENT
UID:62366634-6562-4334-a163-626133356265
DTSTAMP:20260422T231845Z
DESCRIPTION:2/4 Liberec - Jirkov 0:2 (-7\,-13)
DTSTART;TZID=Europe/Berlin:20230501T113000
DTEND;TZID=Europe/Berlin:20230501T133000
LOCATION:Kladenská sportovní hala\, Sportovců 817 Kladno - Rozdělov
SUMMARY:MCR-U16M-C: Liberec-Jirkov
END:VEVENT
BEGIN:VEVENT
UID:63303139-3339-4763-b363-353566373230
DTSTAMP:20260422T231845Z
DESCRIPTION:4/7 Liberec - Lvi Praha 0:2 (-24\,-15)
DTSTART;TZID=Europe/Berlin:20230501T150000
DTEND;TZID=Europe/Berlin:20230501T170000
LOCATION:Kladenská sportovní hala\, Sportovců 817 Kladno - Rozdělov
SUMMARY:MCR-U16M-C: Liberec-Lvi Praha
END:VEVENT
BEGIN:VEVENT
UID:31313130-3936-4932-b264-346361373264
DTSTAMP:20260422T231845Z
DESCRIPTION:3/5 Sokolov - Liberec 2:1 (23\,-19\,3)
DTSTART;TZID=Europe/Berlin:20230501T130000
DTEND;TZID=Europe/Berlin:20230501T150000
LOCATION:Kladenská sportovní hala\, Sportovců 817 Kladno - Rozdělov
SUMMARY:MCR-U16M-C: Sokolov-Liberec
END:VEVENT
BEGIN:VEVENT
UID:63636636-3365-4237-a236-653033323462
DTSTAMP:20260422T231845Z
DESCRIPTION:5/10 Kladno - Liberec 2:0 (12\,6)
DTSTART;TZID=Europe/Berlin:20230501T163000
DTEND;TZID=Europe/Berlin:20230501T183000
LOCATION:Kladenská sportovní hala\, Sportovců 817 Kladno - Rozdělov
SUMMARY:MCR-U16M-C: Kladno-Liberec
END:VEVENT
END:VCALENDAR
