BEGIN:VCALENDAR
VERSION:2.0
PRODID:-//Volejbal Rudolfov78678//NONSGML kigkonsult.se iCalcreator 2.41.80//
CALSCALE:GREGORIAN
UID:39363865-3264-4537-a537-383939346266
BEGIN:VEVENT
UID:38363930-6632-4666-b530-656137343566
DTSTAMP:20260423T075028Z
DESCRIPTION:1/1 Volejbal Rudolfov - VSK Slavia JU ČB 2:0 (20\,7)
DTSTART;TZID=Europe/Berlin:20220925T090000
DTEND;TZID=Europe/Berlin:20220925T110000
LOCATION:Sportovní hala Rudolfov\, Adamovská 511 Rudolfov
SUMMARY:JC-U20Z-1A: Volejbal Rudolfov-VSK Slavia JU ČB
END:VEVENT
BEGIN:VEVENT
UID:39393831-6537-4439-b031-323233353034
DTSTAMP:20260423T075028Z
DESCRIPTION:1/3 Volejbal Rudolfov - VK Madeta C 0:2 (-21\,-14)
DTSTART;TZID=Europe/Berlin:20220925T110000
DTEND;TZID=Europe/Berlin:20220925T130000
LOCATION:Sportovní hala Rudolfov\, Adamovská 511 Rudolfov
SUMMARY:JC-U20Z-1A: Volejbal Rudolfov-VK Madeta C
END:VEVENT
BEGIN:VEVENT
UID:38336336-3564-4237-b661-326230323730
DTSTAMP:20260423T075028Z
DESCRIPTION:1/6 Volejbal Rudolfov - Strakonice 2:0 (16\,16)
DTSTART;TZID=Europe/Berlin:20220925T140000
DTEND;TZID=Europe/Berlin:20220925T160000
LOCATION:Sportovní hala Rudolfov\, Adamovská 511 Rudolfov
SUMMARY:JC-U20Z-1A: Volejbal Rudolfov-Strakonice
END:VEVENT
BEGIN:VEVENT
UID:32646664-6361-4763-b962-613032656235
DTSTAMP:20260423T075028Z
DESCRIPTION:1/2 Volejbal Rudolfov - VK Madeta D 2:0 (12\,4)
DTSTART;TZID=Europe/Berlin:20221120T100000
DTEND;TZID=Europe/Berlin:20221120T120000
LOCATION:Sportovní hala Rudolfov\, Adamovská 511 Rudolfov
SUMMARY:JC-U20Z-2A: Volejbal Rudolfov-VK Madeta D
END:VEVENT
BEGIN:VEVENT
UID:62343937-3832-4639-a437-333738646561
DTSTAMP:20260423T075028Z
DESCRIPTION:1/3 VK Madeta C - Volejbal Rudolfov 2:0 (23\,19)
DTSTART;TZID=Europe/Berlin:20221120T110000
DTEND;TZID=Europe/Berlin:20221120T130000
LOCATION:Sportovní hala\, Stromovka 1216 České Budějovice - České Budějovic
 e 2
SUMMARY:JC-U20Z-2A: VK Madeta C-Volejbal Rudolfov
END:VEVENT
BEGIN:VEVENT
UID:62643432-3536-4232-a264-386661336430
DTSTAMP:20260423T075028Z
DESCRIPTION:1/5 Strakonice - Volejbal Rudolfov 0:2 (-9\,-14)
DTSTART;TZID=Europe/Berlin:20221120T130000
DTEND;TZID=Europe/Berlin:20221120T150000
LOCATION:Hala TJ ČZ Strakonice\, Máchova 108 Strakonice - Strakonice I
SUMMARY:JC-U20Z-2A: Strakonice-Volejbal Rudolfov
END:VEVENT
BEGIN:VEVENT
UID:34383965-3135-4866-b236-323537656332
DTSTAMP:20260423T075028Z
DESCRIPTION:1/1 Volejbal Rudolfov - VK Madeta C 0:2 (-12\,-13)\nTábor
DTSTART;TZID=Europe/Berlin:20230122T090000
DTEND;TZID=Europe/Berlin:20230122T110000
LOCATION:Sportovní hala Rudolfov\, Adamovská 511 Rudolfov
SUMMARY:JC-U20Z-3A: Volejbal Rudolfov-VK Madeta C
END:VEVENT
BEGIN:VEVENT
UID:31313962-6665-4734-b934-643866316332
DTSTAMP:20260423T075028Z
DESCRIPTION:1/4 Volejbal Rudolfov - VSK Český Krumlov 1:2 (21\,-15\,-7)\nTá
 bor
DTSTART;TZID=Europe/Berlin:20230122T120000
DTEND;TZID=Europe/Berlin:20230122T140000
LOCATION:Sportovní hala Rudolfov\, Adamovská 511 Rudolfov
SUMMARY:JC-U20Z-3A: Volejbal Rudolfov-VSK Český Krumlov
END:VEVENT
BEGIN:VEVENT
UID:31383335-6330-4462-a330-393365373134
DTSTAMP:20260423T075028Z
DESCRIPTION:1/6 Volejbal Rudolfov - Strakonice 0:2 (-17\,-13)\nTábor
DTSTART;TZID=Europe/Berlin:20230122T140000
DTEND;TZID=Europe/Berlin:20230122T160000
LOCATION:Sportovní hala Rudolfov\, Adamovská 511 Rudolfov
SUMMARY:JC-U20Z-3A: Volejbal Rudolfov-Strakonice
END:VEVENT
BEGIN:VEVENT
UID:31363034-3636-4133-b434-353038656364
DTSTAMP:20260423T075028Z
DESCRIPTION:1/2 Volejbal Rudolfov - Volejbal Tábor B 2:1 (13\,-23\,13)
DTSTART;TZID=Europe/Berlin:20230319T103000
DTEND;TZID=Europe/Berlin:20230319T123000
LOCATION:Sportovní hala Rudolfov\, Adamovská 511 Rudolfov
SUMMARY:JC-U20Z-4B: Volejbal Rudolfov-Volejbal Tábor B
END:VEVENT
BEGIN:VEVENT
UID:37316233-3564-4534-b461-636230313862
DTSTAMP:20260423T075028Z
DESCRIPTION:1/1 VSK Slavia JU ČB - Volejbal Rudolfov 0:2 (-14\,-8)
DTSTART;TZID=Europe/Berlin:20230319T090000
DTEND;TZID=Europe/Berlin:20230319T110000
LOCATION:Sportovní hala Jihočeské univerzity\, Na Sádkách 305 České Budějov
 ice - České Budějovice 2
SUMMARY:JC-U20Z-4B: VSK Slavia JU ČB-Volejbal Rudolfov
END:VEVENT
END:VCALENDAR
