BEGIN:VCALENDAR
VERSION:2.0
PRODID:-//VK PRASYL Mladá Boleslav78794//NONSGML kigkonsult.se iCalcreator 2.41.80//
CALSCALE:GREGORIAN
UID:65663366-3134-4566-b931-303132303238
BEGIN:VEVENT
UID:61323465-3535-4633-a164-306565613063
DTSTAMP:20260421T120723Z
DESCRIPTION:1/17 Mladá Boleslav - Benátky nad Jizerou B 2:1 (20\,-25\,9)
DTSTART;TZID=Europe/Berlin:20221009T090000
DTEND;TZID=Europe/Berlin:20221009T110000
LOCATION:7. Základní škola\, Václavkova 1082 Mladá Boleslav - Mladá Bolesla
 v II
SUMMARY:ST-U14M-21C: Mladá Boleslav-Benátky nad Jizerou B
END:VEVENT
BEGIN:VEVENT
UID:63643535-3738-4037-a239-376631393637
DTSTAMP:20260421T120723Z
DESCRIPTION:1/4 Odolena Voda B - Mladá Boleslav 2:0 (21\,17)
DTSTART;TZID=Europe/Berlin:20221009T090000
DTEND;TZID=Europe/Berlin:20221009T110000
LOCATION:Sportovní hala\, Ke Stadionu 375 Odolena Voda
SUMMARY:ST-U14M-21C: Odolena Voda B-Mladá Boleslav
END:VEVENT
BEGIN:VEVENT
UID:61653533-3232-4461-b339-303739653136
DTSTAMP:20260421T120723Z
DESCRIPTION:1/11 Plzeň - Mladá Boleslav 2:1 (22\,-20\,9)
DTSTART;TZID=Europe/Berlin:20221009T090000
DTEND;TZID=Europe/Berlin:20221009T110000
LOCATION:Bolevecká základní škola ( 18.ZŠ)\, náměstí Odboje 550 Plzeň - Bol
 evec
SUMMARY:ST-U14M-21C: Plzeň-Mladá Boleslav
END:VEVENT
BEGIN:VEVENT
UID:36363435-3430-4035-b536-336636346362
DTSTAMP:20260421T120723Z
DESCRIPTION:1/26 Mladá Boleslav - Odolena Voda D 1:2 (-22\,20\,-11)
DTSTART;TZID=Europe/Berlin:20221009T090000
DTEND;TZID=Europe/Berlin:20221009T110000
LOCATION:7. Základní škola\, Václavkova 1082 Mladá Boleslav - Mladá Bolesla
 v II
SUMMARY:ST-U14M-21P1: Mladá Boleslav-Odolena Voda D
END:VEVENT
BEGIN:VEVENT
UID:66306633-3266-4634-b431-343334646338
DTSTAMP:20260421T120723Z
DESCRIPTION:1/32 Králův Dvůr - Mladá Boleslav 1:2 (-23\,18\,-12)
DTSTART;TZID=Europe/Berlin:20221009T090000
DTEND;TZID=Europe/Berlin:20221009T110000
LOCATION:Tělocvičná jednota Sokol Králův Dvůr\, Okružní 1404 Beroun - Berou
 n-Město
SUMMARY:ST-U14M-21P2: Králův Dvůr-Mladá Boleslav
END:VEVENT
BEGIN:VEVENT
UID:33316130-3666-4333-a137-616562393330
DTSTAMP:20260421T120723Z
DESCRIPTION:1/40 Mladá Boleslav - Benátky nad Jizerou A 1:2 (-11\,16\,-13)
DTSTART;TZID=Europe/Berlin:20221009T090000
DTEND;TZID=Europe/Berlin:20221009T110000
LOCATION:7. Základní škola\, Václavkova 1082 Mladá Boleslav - Mladá Bolesla
 v II
SUMMARY:ST-U14M-21P3: Mladá Boleslav-Benátky nad Jizerou A
END:VEVENT
BEGIN:VEVENT
UID:31663939-6537-4230-b735-326439623439
DTSTAMP:20260421T120723Z
DESCRIPTION:1/11 Mladá Boleslav - Odolena Voda E 2:0 (21\,17)
DTSTART;TZID=Europe/Berlin:20221120T090000
DTEND;TZID=Europe/Berlin:20221120T110000
LOCATION:7. Základní škola\, Václavkova 1082 Mladá Boleslav - Mladá Bolesla
 v II
SUMMARY:ST-U14M-22C: Mladá Boleslav-Odolena Voda E
END:VEVENT
BEGIN:VEVENT
UID:61336266-6632-4537-b366-396562336362
DTSTAMP:20260421T120723Z
DESCRIPTION:1/2 Benátky nad Jizerou B - Mladá Boleslav 2:0 (15\,16)
DTSTART;TZID=Europe/Berlin:20221120T090000
DTEND;TZID=Europe/Berlin:20221120T110000
LOCATION:Nibe aréna\, městská sportovní hala\, 5. května 746 Benátky nad Ji
 zerou - Benátky nad Jizerou II
SUMMARY:ST-U14M-22C: Benátky nad Jizerou B-Mladá Boleslav
END:VEVENT
BEGIN:VEVENT
UID:39333536-3933-4866-a439-303930313763
DTSTAMP:20260421T120723Z
DESCRIPTION:1/17 Kladno B - Mladá Boleslav 2:0 (17\,21)
DTSTART;TZID=Europe/Berlin:20221120T090000
DTEND;TZID=Europe/Berlin:20221120T110000
LOCATION:Kladenská sportovní hala\, Sportovců 817 Kladno - Rozdělov
SUMMARY:ST-U14M-22C: Kladno B-Mladá Boleslav
END:VEVENT
BEGIN:VEVENT
UID:39313062-6132-4334-b439-663539356431
DTSTAMP:20260421T120723Z
DESCRIPTION:1/22 Mladá Boleslav - PODĚS 2:0 (17\,21)
DTSTART;TZID=Europe/Berlin:20221120T090000
DTEND;TZID=Europe/Berlin:20221120T110000
LOCATION:7. Základní škola\, Václavkova 1082 Mladá Boleslav - Mladá Bolesla
 v II
SUMMARY:ST-U14M-22P13: Mladá Boleslav-PODĚS
END:VEVENT
BEGIN:VEVENT
UID:62373464-6538-4064-b534-356362306537
DTSTAMP:20260421T120723Z
DESCRIPTION:1/34 Kladno A - Mladá Boleslav 0:2 (-10\,-10)
DTSTART;TZID=Europe/Berlin:20221120T090000
DTEND;TZID=Europe/Berlin:20221120T110000
LOCATION:Kladenská sportovní hala\, Sportovců 817 Kladno - Rozdělov
SUMMARY:ST-U14M-22P13: Kladno A-Mladá Boleslav
END:VEVENT
BEGIN:VEVENT
UID:66613135-6465-4638-b730-613530373031
DTSTAMP:20260421T120723Z
DESCRIPTION:1/3 Mladá Boleslav - Odolena Voda C 0:2 (-25\,-15)
DTSTART;TZID=Europe/Berlin:20230122T090000
DTEND;TZID=Europe/Berlin:20230122T110000
LOCATION:7. Základní škola\, Václavkova 1082 Mladá Boleslav - Mladá Bolesla
 v II
SUMMARY:ST-U14M-23D: Mladá Boleslav-Odolena Voda C
END:VEVENT
BEGIN:VEVENT
UID:61643366-6465-4939-b463-613433323036
DTSTAMP:20260421T120723Z
DESCRIPTION:1/14 Mladá Boleslav - Odolena Voda E 2:0 (4\,4)
DTSTART;TZID=Europe/Berlin:20230122T090000
DTEND;TZID=Europe/Berlin:20230122T110000
LOCATION:7. Základní škola\, Václavkova 1082 Mladá Boleslav - Mladá Bolesla
 v II
SUMMARY:ST-U14M-23D: Mladá Boleslav-Odolena Voda E
END:VEVENT
BEGIN:VEVENT
UID:38303263-6664-4739-a365-613334663931
DTSTAMP:20260421T120723Z
DESCRIPTION:1/9 Odolena Voda D - Mladá Boleslav 2:0 (21\,20)
DTSTART;TZID=Europe/Berlin:20230122T090000
DTEND;TZID=Europe/Berlin:20230122T110000
LOCATION:Sportovní hala\, Ke Stadionu 375 Odolena Voda
SUMMARY:ST-U14M-23D: Odolena Voda D-Mladá Boleslav
END:VEVENT
BEGIN:VEVENT
UID:32323235-3932-4430-b737-613335383361
DTSTAMP:20260421T120723Z
DESCRIPTION:1/19 Benátky nad Jizerou B - Mladá Boleslav 0:2 (-17\,-23)
DTSTART;TZID=Europe/Berlin:20230122T090000
DTEND;TZID=Europe/Berlin:20230122T110000
LOCATION:Nibe aréna\, městská sportovní hala\, 5. května 746 Benátky nad Ji
 zerou - Benátky nad Jizerou II
SUMMARY:ST-U14M-23P1: Benátky nad Jizerou B-Mladá Boleslav
END:VEVENT
BEGIN:VEVENT
UID:31393762-3138-4534-b933-386564663737
DTSTAMP:20260421T120723Z
DESCRIPTION:1/27 Mladá Boleslav - Benátky nad Jizerou A 0:2 (-22\,-12)
DTSTART;TZID=Europe/Berlin:20230122T090000
DTEND;TZID=Europe/Berlin:20230122T110000
LOCATION:7. Základní škola\, Václavkova 1082 Mladá Boleslav - Mladá Bolesla
 v II
SUMMARY:ST-U14M-23P2: Mladá Boleslav-Benátky nad Jizerou A
END:VEVENT
BEGIN:VEVENT
UID:38663935-3137-4236-b933-633335616237
DTSTAMP:20260421T120723Z
DESCRIPTION:1/12 Mladá Boleslav - Kladno B 0:2 (-12\,-14)
DTSTART;TZID=Europe/Berlin:20230319T090000
DTEND;TZID=Europe/Berlin:20230319T110000
LOCATION:7. Základní škola\, Václavkova 1082 Mladá Boleslav - Mladá Bolesla
 v II
SUMMARY:ST-U14M-24B: Mladá Boleslav-Kladno B
END:VEVENT
BEGIN:VEVENT
UID:31623133-3536-4337-a438-383663343136
DTSTAMP:20260421T120723Z
DESCRIPTION:1/7 Králův Dvůr - Mladá Boleslav 2:1 (26\,-24\,7)
DTSTART;TZID=Europe/Berlin:20230319T090000
DTEND;TZID=Europe/Berlin:20230319T110000
LOCATION:Tělocvičná jednota Sokol Králův Dvůr\, Okružní 1404 Beroun - Berou
 n-Město
SUMMARY:ST-U14M-24B: Králův Dvůr-Mladá Boleslav
END:VEVENT
BEGIN:VEVENT
UID:31323562-6663-4231-a434-366237613032
DTSTAMP:20260421T120723Z
DESCRIPTION:1/16 Mladá Boleslav - Plzeň 0:2 (-21\,-19)
DTSTART;TZID=Europe/Berlin:20230319T090000
DTEND;TZID=Europe/Berlin:20230319T110000
LOCATION:7. Základní škola\, Václavkova 1082 Mladá Boleslav - Mladá Bolesla
 v II
SUMMARY:ST-U14M-24P1: Mladá Boleslav-Plzeň
END:VEVENT
BEGIN:VEVENT
UID:38323963-6361-4361-a237-626233393332
DTSTAMP:20260421T120723Z
DESCRIPTION:1/22 PODĚS - Mladá Boleslav 0:2 (-16\,-19)
DTSTART;TZID=Europe/Berlin:20230319T090000
DTEND;TZID=Europe/Berlin:20230319T110000
LOCATION:Hala SPŠS Mělník\, Českobratrská 386 Mělník
SUMMARY:ST-U14M-24P2: PODĚS-Mladá Boleslav
END:VEVENT
BEGIN:VEVENT
UID:34356231-6135-4666-a436-636665346539
DTSTAMP:20260421T120723Z
DESCRIPTION:1/8 Mladá Boleslav - Nymburk 0:2 (-13\,-16)
DTSTART;TZID=Europe/Berlin:20230423T090000
DTEND;TZID=Europe/Berlin:20230423T110000
LOCATION:7. Základní škola\, Václavkova 1082 Mladá Boleslav - Mladá Bolesla
 v II
SUMMARY:ST-U14M-25C: Mladá Boleslav-Nymburk
END:VEVENT
BEGIN:VEVENT
UID:37353134-3465-4333-b166-353030313832
DTSTAMP:20260421T120723Z
DESCRIPTION:1/1 Odolena Voda B - Mladá Boleslav 2:0 (15\,10)
DTSTART;TZID=Europe/Berlin:20230423T090000
DTEND;TZID=Europe/Berlin:20230423T110000
LOCATION:Sportovní hala\, Ke Stadionu 375 Odolena Voda
SUMMARY:ST-U14M-25C: Odolena Voda B-Mladá Boleslav
END:VEVENT
BEGIN:VEVENT
UID:33613938-3030-4165-a434-396339663832
DTSTAMP:20260421T120723Z
DESCRIPTION:1/17 Benátky nad Jizerou A - Mladá Boleslav 1:2 (23\,-14\,-17)
DTSTART;TZID=Europe/Berlin:20230423T090000
DTEND;TZID=Europe/Berlin:20230423T110000
LOCATION:Nibe aréna\, městská sportovní hala\, 5. května 746 Benátky nad Ji
 zerou - Benátky nad Jizerou II
SUMMARY:ST-U14M-25P1: Benátky nad Jizerou A-Mladá Boleslav
END:VEVENT
BEGIN:VEVENT
UID:66386363-3361-4938-b261-323835306164
DTSTAMP:20260421T120723Z
DESCRIPTION:1/23 Králův Dvůr - Mladá Boleslav 1:2 (20\,-21\,-14)
DTSTART;TZID=Europe/Berlin:20230423T090000
DTEND;TZID=Europe/Berlin:20230423T110000
LOCATION:Tělocvičná jednota Sokol Králův Dvůr\, Okružní 1404 Beroun - Berou
 n-Město
SUMMARY:ST-U14M-25P2: Králův Dvůr-Mladá Boleslav
END:VEVENT
END:VCALENDAR
