BEGIN:VCALENDAR
VERSION:2.0
PRODID:-//AERO Odolena Voda D78799//NONSGML kigkonsult.se iCalcreator 2.41.80//
CALSCALE:GREGORIAN
UID:36323139-6262-4263-a564-663364303965
BEGIN:VEVENT
UID:38633465-3330-4265-b535-303536346361
DTSTAMP:20260421T134924Z
DESCRIPTION:1/6 Odolena Voda D - Odolena Voda E 2:0 (14\,14)
DTSTART;TZID=Europe/Berlin:20221009T090000
DTEND;TZID=Europe/Berlin:20221009T110000
LOCATION:Sportovní hala\, Ke Stadionu 375 Odolena Voda
SUMMARY:ST-U14M-21D: Odolena Voda D-Odolena Voda E
END:VEVENT
BEGIN:VEVENT
UID:35326464-6461-4432-a264-383861363963
DTSTAMP:20260421T134924Z
DESCRIPTION:1/14 Odolena Voda D - Benátky nad Jizerou A 2:0 (18\,23)
DTSTART;TZID=Europe/Berlin:20221009T090000
DTEND;TZID=Europe/Berlin:20221009T110000
LOCATION:Sportovní hala\, Ke Stadionu 375 Odolena Voda
SUMMARY:ST-U14M-21D: Odolena Voda D-Benátky nad Jizerou A
END:VEVENT
BEGIN:VEVENT
UID:65653530-3135-4032-a232-666262346461
DTSTAMP:20260421T134924Z
DESCRIPTION:1/21 Kralupy - Odolena Voda D 1:2 (19\,-19\,-10)
DTSTART;TZID=Europe/Berlin:20221009T090000
DTEND;TZID=Europe/Berlin:20221009T110000
LOCATION:TJ KRALUPY\, z.s.\, Gen. Klapálka 1029 Kralupy nad Vltavou
SUMMARY:ST-U14M-21D: Kralupy-Odolena Voda D
END:VEVENT
BEGIN:VEVENT
UID:32343835-3762-4565-b662-366635383566
DTSTAMP:20260421T134924Z
DESCRIPTION:1/26 Mladá Boleslav - Odolena Voda D 1:2 (-22\,20\,-11)
DTSTART;TZID=Europe/Berlin:20221009T090000
DTEND;TZID=Europe/Berlin:20221009T110000
LOCATION:7. Základní škola\, Václavkova 1082 Mladá Boleslav - Mladá Bolesla
 v II
SUMMARY:ST-U14M-21P1: Mladá Boleslav-Odolena Voda D
END:VEVENT
BEGIN:VEVENT
UID:39303134-3837-4135-b530-326662333463
DTSTAMP:20260421T134924Z
DESCRIPTION:1/34 Odolena Voda A - Odolena Voda D 2:0 (13\,17)
DTSTART;TZID=Europe/Berlin:20221009T090000
DTEND;TZID=Europe/Berlin:20221009T110000
LOCATION:Sportovní hala\, Ke Stadionu 375 Odolena Voda
SUMMARY:ST-U14M-21P2: Odolena Voda A-Odolena Voda D
END:VEVENT
BEGIN:VEVENT
UID:64386235-3862-4662-b532-343639616666
DTSTAMP:20260421T134924Z
DESCRIPTION:1/41 Odolena Voda D - Kladno B 0:2 (-9\,-12)
DTSTART;TZID=Europe/Berlin:20221009T090000
DTEND;TZID=Europe/Berlin:20221009T110000
LOCATION:Sportovní hala\, Ke Stadionu 375 Odolena Voda
SUMMARY:ST-U14M-21P3: Odolena Voda D-Kladno B
END:VEVENT
BEGIN:VEVENT
UID:65346162-3961-4730-b665-663064636631
DTSTAMP:20260421T134924Z
DESCRIPTION:1/21 Odolena Voda D - Benátky nad Jizerou A 2:0 (23\,22)
DTSTART;TZID=Europe/Berlin:20221120T090000
DTEND;TZID=Europe/Berlin:20221120T110000
LOCATION:Sportovní hala\, Ke Stadionu 375 Odolena Voda
SUMMARY:ST-U14M-22D: Odolena Voda D-Benátky nad Jizerou A
END:VEVENT
BEGIN:VEVENT
UID:39633137-6538-4232-b361-356330616334
DTSTAMP:20260421T134924Z
DESCRIPTION:1/6 Plzeň - Odolena Voda D 2:1 (25\,-18\,11)
DTSTART;TZID=Europe/Berlin:20221120T090000
DTEND;TZID=Europe/Berlin:20221120T110000
LOCATION:Bolevecká základní škola ( 18.ZŠ)\, náměstí Odboje 550 Plzeň - Bol
 evec
SUMMARY:ST-U14M-22D: Plzeň-Odolena Voda D
END:VEVENT
BEGIN:VEVENT
UID:34646535-6465-4666-b931-663761646536
DTSTAMP:20260421T134924Z
DESCRIPTION:1/9 PODĚS - Odolena Voda D 0:2 (-18\,-23)
DTSTART;TZID=Europe/Berlin:20221120T090000
DTEND;TZID=Europe/Berlin:20221120T110000
LOCATION:Hala SPŠS Mělník\, Českobratrská 386 Mělník
SUMMARY:ST-U14M-22D: PODĚS-Odolena Voda D
END:VEVENT
BEGIN:VEVENT
UID:35356665-3965-4334-b930-356335383862
DTSTAMP:20260421T134924Z
DESCRIPTION:1/27 Odolena Voda A - Odolena Voda D 2:0 (18\,14)
DTSTART;TZID=Europe/Berlin:20221120T090000
DTEND;TZID=Europe/Berlin:20221120T110000
LOCATION:Sportovní hala\, Ke Stadionu 375 Odolena Voda
SUMMARY:ST-U14M-22P1: Odolena Voda A-Odolena Voda D
END:VEVENT
BEGIN:VEVENT
UID:34626230-6139-4237-a637-333662626235
DTSTAMP:20260421T134924Z
DESCRIPTION:1/35 Odolena Voda D - Kladno B 0:2 (-20\,-22)
DTSTART;TZID=Europe/Berlin:20221120T090000
DTEND;TZID=Europe/Berlin:20221120T110000
LOCATION:Sportovní hala\, Ke Stadionu 375 Odolena Voda
SUMMARY:ST-U14M-22P2: Odolena Voda D-Kladno B
END:VEVENT
BEGIN:VEVENT
UID:36383063-3265-4734-a665-653565663037
DTSTAMP:20260421T134924Z
DESCRIPTION:1/2 Odolena Voda D - Odolena Voda E 2:0 (4\,4)
DTSTART;TZID=Europe/Berlin:20230122T090000
DTEND;TZID=Europe/Berlin:20230122T110000
LOCATION:Sportovní hala\, Ke Stadionu 375 Odolena Voda
SUMMARY:ST-U14M-23D: Odolena Voda D-Odolena Voda E
END:VEVENT
BEGIN:VEVENT
UID:64393962-3465-4035-b837-313036353461
DTSTAMP:20260421T134924Z
DESCRIPTION:1/9 Odolena Voda D - Mladá Boleslav 2:0 (21\,20)
DTSTART;TZID=Europe/Berlin:20230122T090000
DTEND;TZID=Europe/Berlin:20230122T110000
LOCATION:Sportovní hala\, Ke Stadionu 375 Odolena Voda
SUMMARY:ST-U14M-23D: Odolena Voda D-Mladá Boleslav
END:VEVENT
BEGIN:VEVENT
UID:64326433-6566-4331-a634-333738663162
DTSTAMP:20260421T134924Z
DESCRIPTION:1/15 Odolena Voda C - Odolena Voda D 2:0 (18\,22)
DTSTART;TZID=Europe/Berlin:20230122T090000
DTEND;TZID=Europe/Berlin:20230122T110000
LOCATION:Sportovní hala\, Ke Stadionu 375 Odolena Voda
SUMMARY:ST-U14M-23D: Odolena Voda C-Odolena Voda D
END:VEVENT
BEGIN:VEVENT
UID:61643636-6538-4531-b465-396632323463
DTSTAMP:20260421T134924Z
DESCRIPTION:1/21 Kralupy - Odolena Voda D 2:1 (19\,-14\,9)
DTSTART;TZID=Europe/Berlin:20230122T090000
DTEND;TZID=Europe/Berlin:20230122T110000
LOCATION:TJ KRALUPY\, z.s.\, Gen. Klapálka 1029 Kralupy nad Vltavou
SUMMARY:ST-U14M-23P1: Kralupy-Odolena Voda D
END:VEVENT
BEGIN:VEVENT
UID:66303338-3561-4066-a439-613164346134
DTSTAMP:20260421T134924Z
DESCRIPTION:1/28 Odolena Voda D - Králův Dvůr 1:2 (-19\,22\,-6)
DTSTART;TZID=Europe/Berlin:20230122T090000
DTEND;TZID=Europe/Berlin:20230122T110000
LOCATION:Sportovní hala\, Ke Stadionu 375 Odolena Voda
SUMMARY:ST-U14M-23P2: Odolena Voda D-Králův Dvůr
END:VEVENT
BEGIN:VEVENT
UID:32623334-6537-4539-a466-653866643436
DTSTAMP:20260421T134924Z
DESCRIPTION:1/9 Odolena Voda D - Benátky nad Jizerou A 2:1 (-21\,21\,12)
DTSTART;TZID=Europe/Berlin:20230319T090000
DTEND;TZID=Europe/Berlin:20230319T110000
LOCATION:Sportovní hala\, Ke Stadionu 375 Odolena Voda
SUMMARY:ST-U14M-24A: Odolena Voda D-Benátky nad Jizerou A
END:VEVENT
BEGIN:VEVENT
UID:64633033-6663-4763-a237-666265646637
DTSTAMP:20260421T134924Z
DESCRIPTION:1/6 Odolena Voda A - Odolena Voda D 2:1 (12\,-22\,4)
DTSTART;TZID=Europe/Berlin:20230319T090000
DTEND;TZID=Europe/Berlin:20230319T110000
LOCATION:Sportovní hala\, Ke Stadionu 375 Odolena Voda
SUMMARY:ST-U14M-24A: Odolena Voda A-Odolena Voda D
END:VEVENT
BEGIN:VEVENT
UID:36633439-6436-4432-a661-366532633830
DTSTAMP:20260421T134924Z
DESCRIPTION:1/19 Odolena Voda D - Nymburk 1:2 (-19\,21\,-11)
DTSTART;TZID=Europe/Berlin:20230319T090000
DTEND;TZID=Europe/Berlin:20230319T110000
LOCATION:Sportovní hala\, Ke Stadionu 375 Odolena Voda
SUMMARY:ST-U14M-24P1: Odolena Voda D-Nymburk
END:VEVENT
BEGIN:VEVENT
UID:30643539-3163-4436-a563-313266313232
DTSTAMP:20260421T134924Z
DESCRIPTION:1/24 Odolena Voda D - Králův Dvůr 2:1 (22\,-22\,12)
DTSTART;TZID=Europe/Berlin:20230319T090000
DTEND;TZID=Europe/Berlin:20230319T110000
LOCATION:Sportovní hala\, Ke Stadionu 375 Odolena Voda
SUMMARY:ST-U14M-24P2: Odolena Voda D-Králův Dvůr
END:VEVENT
BEGIN:VEVENT
UID:65666161-3835-4331-a466-386534366132
DTSTAMP:20260421T134924Z
DESCRIPTION:1/5 Odolena Voda D - Benátky nad Jizerou A 2:0 (12\,12)
DTSTART;TZID=Europe/Berlin:20230423T090000
DTEND;TZID=Europe/Berlin:20230423T110000
LOCATION:Sportovní hala\, Ke Stadionu 375 Odolena Voda
SUMMARY:ST-U14M-25B: Odolena Voda D-Benátky nad Jizerou A
END:VEVENT
BEGIN:VEVENT
UID:31396530-3030-4264-b436-306332303466
DTSTAMP:20260421T134924Z
DESCRIPTION:1/2 Odolena Voda C - Odolena Voda D 1:2 (-21\,17\,-9)
DTSTART;TZID=Europe/Berlin:20230423T090000
DTEND;TZID=Europe/Berlin:20230423T110000
LOCATION:Sportovní hala\, Ke Stadionu 375 Odolena Voda
SUMMARY:ST-U14M-25B: Odolena Voda C-Odolena Voda D
END:VEVENT
BEGIN:VEVENT
UID:63303430-3366-4832-b738-366137613832
DTSTAMP:20260421T134924Z
DESCRIPTION:1/21 Odolena Voda D - Nymburk 2:0 (17\,22)
DTSTART;TZID=Europe/Berlin:20230423T090000
DTEND;TZID=Europe/Berlin:20230423T110000
LOCATION:Sportovní hala\, Ke Stadionu 375 Odolena Voda
SUMMARY:ST-U14M-25P1: Odolena Voda D-Nymburk
END:VEVENT
BEGIN:VEVENT
UID:35366137-6566-4562-b263-663730613331
DTSTAMP:20260421T134924Z
DESCRIPTION:1/27 Odolena Voda A - Odolena Voda D 2:0 (12\,21)
DTSTART;TZID=Europe/Berlin:20230423T090000
DTEND;TZID=Europe/Berlin:20230423T110000
LOCATION:Sportovní hala\, Ke Stadionu 375 Odolena Voda
SUMMARY:ST-U14M-25P2: Odolena Voda A-Odolena Voda D
END:VEVENT
END:VCALENDAR
