BEGIN:VCALENDAR
VERSION:2.0
PRODID:-//AERO Odolena Voda C78800//NONSGML kigkonsult.se iCalcreator 2.41.80//
CALSCALE:GREGORIAN
UID:39666139-3135-4630-b432-343638323463
BEGIN:VEVENT
UID:36326461-3339-4436-b362-343032623733
DTSTAMP:20260422T075516Z
DESCRIPTION:1/2 Odolena Voda C - PODĚS 2:0 (9\,13)
DTSTART;TZID=Europe/Berlin:20221009T090000
DTEND;TZID=Europe/Berlin:20221009T110000
LOCATION:Sportovní hala\, Ke Stadionu 375 Odolena Voda
SUMMARY:ST-U14M-21B: Odolena Voda C-PODĚS
END:VEVENT
BEGIN:VEVENT
UID:64373731-3066-4430-b639-643163373331
DTSTAMP:20260422T075516Z
DESCRIPTION:1/16 Odolena Voda C - Kladno A 2:0 (4\,4)
DTSTART;TZID=Europe/Berlin:20221009T090000
DTEND;TZID=Europe/Berlin:20221009T110000
LOCATION:Sportovní hala\, Ke Stadionu 375 Odolena Voda
SUMMARY:ST-U14M-21B: Odolena Voda C-Kladno A
END:VEVENT
BEGIN:VEVENT
UID:39656164-6261-4239-a230-646530656630
DTSTAMP:20260422T075516Z
DESCRIPTION:1/8 Králův Dvůr - Odolena Voda C 0:2 (-22\,-20)
DTSTART;TZID=Europe/Berlin:20221009T090000
DTEND;TZID=Europe/Berlin:20221009T110000
LOCATION:Tělocvičná jednota Sokol Králův Dvůr\, Okružní 1404 Beroun - Berou
 n-Město
SUMMARY:ST-U14M-21B: Králův Dvůr-Odolena Voda C
END:VEVENT
BEGIN:VEVENT
UID:64333966-3032-4132-b030-363634643061
DTSTAMP:20260422T075516Z
DESCRIPTION:1/28 Kladno B - Odolena Voda C 2:1 (13\,-22\,9)
DTSTART;TZID=Europe/Berlin:20221009T090000
DTEND;TZID=Europe/Berlin:20221009T110000
LOCATION:Kladenská sportovní hala\, Sportovců 817 Kladno - Rozdělov
SUMMARY:ST-U14M-21P1: Kladno B-Odolena Voda C
END:VEVENT
BEGIN:VEVENT
UID:30323063-3563-4532-a362-303032363035
DTSTAMP:20260422T075516Z
DESCRIPTION:1/33 Benátky nad Jizerou A - Odolena Voda C 2:1 (-17\,18\,13)
DTSTART;TZID=Europe/Berlin:20221009T090000
DTEND;TZID=Europe/Berlin:20221009T110000
LOCATION:Nibe aréna\, městská sportovní hala\, 5. května 746 Benátky nad Ji
 zerou - Benátky nad Jizerou II
SUMMARY:ST-U14M-21P2: Benátky nad Jizerou A-Odolena Voda C
END:VEVENT
BEGIN:VEVENT
UID:39333236-3161-4135-a466-383837666330
DTSTAMP:20260422T075516Z
DESCRIPTION:1/39 Králův Dvůr - Odolena Voda C 1:2 (-17\,26\,-11)
DTSTART;TZID=Europe/Berlin:20221009T090000
DTEND;TZID=Europe/Berlin:20221009T110000
LOCATION:Tělocvičná jednota Sokol Králův Dvůr\, Okružní 1404 Beroun - Berou
 n-Město
SUMMARY:ST-U14M-21P3: Králův Dvůr-Odolena Voda C
END:VEVENT
BEGIN:VEVENT
UID:34653535-6330-4865-b433-636232383763
DTSTAMP:20260422T075516Z
DESCRIPTION:1/10 Odolena Voda C - Kladno A 2:0 (10\,10)
DTSTART;TZID=Europe/Berlin:20221120T090000
DTEND;TZID=Europe/Berlin:20221120T110000
LOCATION:Sportovní hala\, Ke Stadionu 375 Odolena Voda
SUMMARY:ST-U14M-22B: Odolena Voda C-Kladno A
END:VEVENT
BEGIN:VEVENT
UID:39393738-3635-4161-b638-343233626261
DTSTAMP:20260422T075516Z
DESCRIPTION:1/4 Odolena Voda B - Odolena Voda C 2:1 (24\,-19\,14)
DTSTART;TZID=Europe/Berlin:20221120T090000
DTEND;TZID=Europe/Berlin:20221120T110000
LOCATION:Sportovní hala\, Ke Stadionu 375 Odolena Voda
SUMMARY:ST-U14M-22B: Odolena Voda B-Odolena Voda C
END:VEVENT
BEGIN:VEVENT
UID:65613766-3237-4631-a131-626633643764
DTSTAMP:20260422T075516Z
DESCRIPTION:1/16 Kralupy - Odolena Voda C 0:2 (-18\,-24)
DTSTART;TZID=Europe/Berlin:20221120T090000
DTEND;TZID=Europe/Berlin:20221120T110000
LOCATION:TJ KRALUPY\, z.s.\, Gen. Klapálka 1029 Kralupy nad Vltavou
SUMMARY:ST-U14M-22B: Kralupy-Odolena Voda C
END:VEVENT
BEGIN:VEVENT
UID:38626463-3139-4235-b630-663133306562
DTSTAMP:20260422T075516Z
DESCRIPTION:1/26 Odolena Voda C - Benátky nad Jizerou B 2:0 (11\,17)
DTSTART;TZID=Europe/Berlin:20221120T090000
DTEND;TZID=Europe/Berlin:20221120T110000
LOCATION:Sportovní hala\, Ke Stadionu 375 Odolena Voda
SUMMARY:ST-U14M-22P1: Odolena Voda C-Benátky nad Jizerou B
END:VEVENT
BEGIN:VEVENT
UID:62383730-3962-4238-b736-363534333134
DTSTAMP:20260422T075516Z
DESCRIPTION:1/33 Nymburk - Odolena Voda C 0:2 (-23\,-17)
DTSTART;TZID=Europe/Berlin:20221120T090000
DTEND;TZID=Europe/Berlin:20221120T110000
LOCATION:Zimní stadion\, U Stadionu 12 Nymburk
SUMMARY:ST-U14M-22P2: Nymburk-Odolena Voda C
END:VEVENT
BEGIN:VEVENT
UID:65613236-3961-4737-a531-383338333064
DTSTAMP:20260422T075516Z
DESCRIPTION:1/15 Odolena Voda C - Odolena Voda D 2:0 (18\,22)
DTSTART;TZID=Europe/Berlin:20230122T090000
DTEND;TZID=Europe/Berlin:20230122T110000
LOCATION:Sportovní hala\, Ke Stadionu 375 Odolena Voda
SUMMARY:ST-U14M-23D: Odolena Voda C-Odolena Voda D
END:VEVENT
BEGIN:VEVENT
UID:65393031-3737-4639-b633-353261616239
DTSTAMP:20260422T075516Z
DESCRIPTION:1/3 Mladá Boleslav - Odolena Voda C 0:2 (-25\,-15)
DTSTART;TZID=Europe/Berlin:20230122T090000
DTEND;TZID=Europe/Berlin:20230122T110000
LOCATION:7. Základní škola\, Václavkova 1082 Mladá Boleslav - Mladá Bolesla
 v II
SUMMARY:ST-U14M-23D: Mladá Boleslav-Odolena Voda C
END:VEVENT
BEGIN:VEVENT
UID:38613437-3039-4939-b564-353632363632
DTSTAMP:20260422T075516Z
DESCRIPTION:1/8 Odolena Voda E - Odolena Voda C 0:2 (-4\,-4)
DTSTART;TZID=Europe/Berlin:20230122T090000
DTEND;TZID=Europe/Berlin:20230122T110000
LOCATION:Sportovní hala\, Ke Stadionu 375 Odolena Voda
SUMMARY:ST-U14M-23D: Odolena Voda E-Odolena Voda C
END:VEVENT
BEGIN:VEVENT
UID:66386138-6534-4238-b261-346637633533
DTSTAMP:20260422T075516Z
DESCRIPTION:1/23 Odolena Voda A - Odolena Voda C 2:0 (12\,20)
DTSTART;TZID=Europe/Berlin:20230122T090000
DTEND;TZID=Europe/Berlin:20230122T110000
LOCATION:Sportovní hala\, Ke Stadionu 375 Odolena Voda
SUMMARY:ST-U14M-23P1: Odolena Voda A-Odolena Voda C
END:VEVENT
BEGIN:VEVENT
UID:30623330-3565-4564-a630-613166373564
DTSTAMP:20260422T075516Z
DESCRIPTION:1/30 Odolena Voda C - Odolena Voda B 2:0 (24\,23)
DTSTART;TZID=Europe/Berlin:20230122T090000
DTEND;TZID=Europe/Berlin:20230122T110000
LOCATION:Sportovní hala\, Ke Stadionu 375 Odolena Voda
SUMMARY:ST-U14M-23P2: Odolena Voda C-Odolena Voda B
END:VEVENT
BEGIN:VEVENT
UID:38376633-6136-4465-b537-373364353661
DTSTAMP:20260422T075516Z
DESCRIPTION:1/5 Odolena Voda C - Plzeň 1:2 (-18\,18\,-11)
DTSTART;TZID=Europe/Berlin:20230319T090000
DTEND;TZID=Europe/Berlin:20230319T110000
LOCATION:Sportovní hala\, Ke Stadionu 375 Odolena Voda
SUMMARY:ST-U14M-24C: Odolena Voda C-Plzeň
END:VEVENT
BEGIN:VEVENT
UID:64663331-3863-4031-b539-333036633162
DTSTAMP:20260422T075516Z
DESCRIPTION:1/1 Kralupy - Odolena Voda C 0:2 (-23\,-18)
DTSTART;TZID=Europe/Berlin:20230319T090000
DTEND;TZID=Europe/Berlin:20230319T110000
LOCATION:TJ KRALUPY\, z.s.\, Gen. Klapálka 1029 Kralupy nad Vltavou
SUMMARY:ST-U14M-24C: Kralupy-Odolena Voda C
END:VEVENT
BEGIN:VEVENT
UID:30323536-3833-4563-b034-623132663366
DTSTAMP:20260422T075516Z
DESCRIPTION:1/21 Kladno B - Odolena Voda C 1:2 (22\,-19\,-11)
DTSTART;TZID=Europe/Berlin:20230319T090000
DTEND;TZID=Europe/Berlin:20230319T110000
LOCATION:Kladenská sportovní hala\, Sportovců 817 Kladno - Rozdělov
SUMMARY:ST-U14M-24P1: Kladno B-Odolena Voda C
END:VEVENT
BEGIN:VEVENT
UID:38316131-3763-4634-a438-653931346466
DTSTAMP:20260422T075516Z
DESCRIPTION:1/27 Odolena Voda A - Odolena Voda C 2:1 (-23\,20\,10)
DTSTART;TZID=Europe/Berlin:20230319T090000
DTEND;TZID=Europe/Berlin:20230319T110000
LOCATION:Sportovní hala\, Ke Stadionu 375 Odolena Voda
SUMMARY:ST-U14M-24P2: Odolena Voda A-Odolena Voda C
END:VEVENT
BEGIN:VEVENT
UID:34383161-3130-4430-a464-383462663032
DTSTAMP:20260422T075516Z
DESCRIPTION:1/2 Odolena Voda C - Odolena Voda D 1:2 (-21\,17\,-9)
DTSTART;TZID=Europe/Berlin:20230423T090000
DTEND;TZID=Europe/Berlin:20230423T110000
LOCATION:Sportovní hala\, Ke Stadionu 375 Odolena Voda
SUMMARY:ST-U14M-25B: Odolena Voda C-Odolena Voda D
END:VEVENT
BEGIN:VEVENT
UID:33316334-3361-4063-a561-386461363066
DTSTAMP:20260422T075516Z
DESCRIPTION:1/10 Benátky nad Jizerou A - Odolena Voda C 0:2 (-24\,-19)
DTSTART;TZID=Europe/Berlin:20230423T090000
DTEND;TZID=Europe/Berlin:20230423T110000
LOCATION:Nibe aréna\, městská sportovní hala\, 5. května 746 Benátky nad Ji
 zerou - Benátky nad Jizerou II
SUMMARY:ST-U14M-25B: Benátky nad Jizerou A-Odolena Voda C
END:VEVENT
BEGIN:VEVENT
UID:32623964-6536-4034-b761-646235663036
DTSTAMP:20260422T075516Z
DESCRIPTION:1/18 Odolena Voda C - Odolena Voda B 0:2 (-11\,-17)
DTSTART;TZID=Europe/Berlin:20230423T090000
DTEND;TZID=Europe/Berlin:20230423T110000
LOCATION:Sportovní hala\, Ke Stadionu 375 Odolena Voda
SUMMARY:ST-U14M-25P1: Odolena Voda C-Odolena Voda B
END:VEVENT
BEGIN:VEVENT
UID:64613662-3832-4531-a163-373361303533
DTSTAMP:20260422T075516Z
DESCRIPTION:1/24 Plzeň - Odolena Voda C 0:2 (-16\,-24)
DTSTART;TZID=Europe/Berlin:20230423T090000
DTEND;TZID=Europe/Berlin:20230423T110000
LOCATION:Bolevecká základní škola ( 18.ZŠ)\, náměstí Odboje 550 Plzeň - Bol
 evec
SUMMARY:ST-U14M-25P2: Plzeň-Odolena Voda C
END:VEVENT
END:VCALENDAR
