BEGIN:VCALENDAR
VERSION:2.0
PRODID:-//AERO Odolena Voda B78801//NONSGML kigkonsult.se iCalcreator 2.41.80//
CALSCALE:GREGORIAN
UID:66373637-6536-4333-b734-326163653166
BEGIN:VEVENT
UID:35373562-3862-4536-b639-363562336636
DTSTAMP:20260422T164709Z
DESCRIPTION:1/4 Odolena Voda B - Mladá Boleslav 2:0 (21\,17)
DTSTART;TZID=Europe/Berlin:20221009T090000
DTEND;TZID=Europe/Berlin:20221009T110000
LOCATION:Sportovní hala\, Ke Stadionu 375 Odolena Voda
SUMMARY:ST-U14M-21C: Odolena Voda B-Mladá Boleslav
END:VEVENT
BEGIN:VEVENT
UID:66336135-3932-4563-b430-326230343939
DTSTAMP:20260422T164709Z
DESCRIPTION:1/18 Odolena Voda B - Plzeň 2:0 (17\,18)
DTSTART;TZID=Europe/Berlin:20221009T090000
DTEND;TZID=Europe/Berlin:20221009T110000
LOCATION:Sportovní hala\, Ke Stadionu 375 Odolena Voda
SUMMARY:ST-U14M-21C: Odolena Voda B-Plzeň
END:VEVENT
BEGIN:VEVENT
UID:65363931-6334-4361-b331-643066366130
DTSTAMP:20260422T164709Z
DESCRIPTION:1/10 Benátky nad Jizerou B - Odolena Voda B 0:2 (-13\,-26)
DTSTART;TZID=Europe/Berlin:20221009T090000
DTEND;TZID=Europe/Berlin:20221009T110000
LOCATION:Nibe aréna\, městská sportovní hala\, 5. května 746 Benátky nad Ji
 zerou - Benátky nad Jizerou II
SUMMARY:ST-U14M-21C: Benátky nad Jizerou B-Odolena Voda B
END:VEVENT
BEGIN:VEVENT
UID:66346664-3865-4339-b830-643364653337
DTSTAMP:20260422T164709Z
DESCRIPTION:1/27 Odolena Voda B - Benátky nad Jizerou A 2:0 (14\,18)
DTSTART;TZID=Europe/Berlin:20221009T090000
DTEND;TZID=Europe/Berlin:20221009T110000
LOCATION:Sportovní hala\, Ke Stadionu 375 Odolena Voda
SUMMARY:ST-U14M-21P1: Odolena Voda B-Benátky nad Jizerou A
END:VEVENT
BEGIN:VEVENT
UID:33383230-3333-4532-b266-383330363935
DTSTAMP:20260422T164709Z
DESCRIPTION:1/35 Odolena Voda B - Kladno B 2:1 (-18\,15\,7)
DTSTART;TZID=Europe/Berlin:20221009T090000
DTEND;TZID=Europe/Berlin:20221009T110000
LOCATION:Sportovní hala\, Ke Stadionu 375 Odolena Voda
SUMMARY:ST-U14M-21P2: Odolena Voda B-Kladno B
END:VEVENT
BEGIN:VEVENT
UID:63343630-3365-4065-a265-356438323364
DTSTAMP:20260422T164709Z
DESCRIPTION:1/42 Odolena Voda A - Odolena Voda B 2:1 (-26\,12\,10)
DTSTART;TZID=Europe/Berlin:20221009T090000
DTEND;TZID=Europe/Berlin:20221009T110000
LOCATION:Sportovní hala\, Ke Stadionu 375 Odolena Voda
SUMMARY:ST-U14M-21P3: Odolena Voda A-Odolena Voda B
END:VEVENT
BEGIN:VEVENT
UID:66613733-3637-4366-a161-646436666130
DTSTAMP:20260422T164709Z
DESCRIPTION:1/4 Odolena Voda B - Odolena Voda C 2:1 (24\,-19\,14)
DTSTART;TZID=Europe/Berlin:20221120T090000
DTEND;TZID=Europe/Berlin:20221120T110000
LOCATION:Sportovní hala\, Ke Stadionu 375 Odolena Voda
SUMMARY:ST-U14M-22B: Odolena Voda B-Odolena Voda C
END:VEVENT
BEGIN:VEVENT
UID:33653937-6431-4562-b230-393232656236
DTSTAMP:20260422T164709Z
DESCRIPTION:1/13 Odolena Voda B - Kralupy 2:1 (-16\,17\,12)
DTSTART;TZID=Europe/Berlin:20221120T090000
DTEND;TZID=Europe/Berlin:20221120T110000
LOCATION:Sportovní hala\, Ke Stadionu 375 Odolena Voda
SUMMARY:ST-U14M-22B: Odolena Voda B-Kralupy
END:VEVENT
BEGIN:VEVENT
UID:38633837-3433-4430-b533-633437663836
DTSTAMP:20260422T164709Z
DESCRIPTION:1/19 Kladno A - Odolena Voda B 0:2 (-10\,-10)
DTSTART;TZID=Europe/Berlin:20221120T090000
DTEND;TZID=Europe/Berlin:20221120T110000
LOCATION:Kladenská sportovní hala\, Sportovců 817 Kladno - Rozdělov
SUMMARY:ST-U14M-22B: Kladno A-Odolena Voda B
END:VEVENT
BEGIN:VEVENT
UID:64336662-3231-4532-a435-356631646263
DTSTAMP:20260422T164709Z
DESCRIPTION:1/28 Odolena Voda B - Kladno B 2:0 (23\,19)
DTSTART;TZID=Europe/Berlin:20221120T090000
DTEND;TZID=Europe/Berlin:20221120T110000
LOCATION:Sportovní hala\, Ke Stadionu 375 Odolena Voda
SUMMARY:ST-U14M-22P1: Odolena Voda B-Kladno B
END:VEVENT
BEGIN:VEVENT
UID:36386336-3730-4662-b131-383731626433
DTSTAMP:20260422T164709Z
DESCRIPTION:1/36 Odolena Voda A - Odolena Voda B 2:0 (21\,17)
DTSTART;TZID=Europe/Berlin:20221120T090000
DTEND;TZID=Europe/Berlin:20221120T110000
LOCATION:Sportovní hala\, Ke Stadionu 375 Odolena Voda
SUMMARY:ST-U14M-22P2: Odolena Voda A-Odolena Voda B
END:VEVENT
BEGIN:VEVENT
UID:32346331-6132-4434-b233-336538346665
DTSTAMP:20260422T164709Z
DESCRIPTION:1/4 Odolena Voda B - Králův Dvůr 2:0 (23\,16)
DTSTART;TZID=Europe/Berlin:20230122T090000
DTEND;TZID=Europe/Berlin:20230122T110000
LOCATION:Sportovní hala\, Ke Stadionu 375 Odolena Voda
SUMMARY:ST-U14M-23B: Odolena Voda B-Králův Dvůr
END:VEVENT
BEGIN:VEVENT
UID:63666134-3237-4737-a335-353034393263
DTSTAMP:20260422T164709Z
DESCRIPTION:1/16 Plzeň - Odolena Voda B 0:2 (-17\,-14)
DTSTART;TZID=Europe/Berlin:20230122T090000
DTEND;TZID=Europe/Berlin:20230122T110000
LOCATION:Bolevecká základní škola ( 18.ZŠ)\, náměstí Odboje 550 Plzeň - Bol
 evec
SUMMARY:ST-U14M-23B: Plzeň-Odolena Voda B
END:VEVENT
BEGIN:VEVENT
UID:34656664-3433-4164-b662-616430613334
DTSTAMP:20260422T164709Z
DESCRIPTION:1/24 Odolena Voda B - Kladno B 0:2 (-24\,-11)
DTSTART;TZID=Europe/Berlin:20230122T090000
DTEND;TZID=Europe/Berlin:20230122T110000
LOCATION:Sportovní hala\, Ke Stadionu 375 Odolena Voda
SUMMARY:ST-U14M-23P1: Odolena Voda B-Kladno B
END:VEVENT
BEGIN:VEVENT
UID:63386137-6334-4735-b861-616164323364
DTSTAMP:20260422T164709Z
DESCRIPTION:1/30 Odolena Voda C - Odolena Voda B 2:0 (24\,23)
DTSTART;TZID=Europe/Berlin:20230122T090000
DTEND;TZID=Europe/Berlin:20230122T110000
LOCATION:Sportovní hala\, Ke Stadionu 375 Odolena Voda
SUMMARY:ST-U14M-23P2: Odolena Voda C-Odolena Voda B
END:VEVENT
BEGIN:VEVENT
UID:66383733-6539-4539-b766-363433363532
DTSTAMP:20260422T164709Z
DESCRIPTION:1/2 Odolena Voda B - PODĚS 2:0 (9\,13)
DTSTART;TZID=Europe/Berlin:20230319T090000
DTEND;TZID=Europe/Berlin:20230319T110000
LOCATION:Sportovní hala\, Ke Stadionu 375 Odolena Voda
SUMMARY:ST-U14M-24D: Odolena Voda B-PODĚS
END:VEVENT
BEGIN:VEVENT
UID:34373461-3564-4938-b936-306163303162
DTSTAMP:20260422T164709Z
DESCRIPTION:1/15 Odolena Voda B - Nymburk 2:0 (22\,13)
DTSTART;TZID=Europe/Berlin:20230319T090000
DTEND;TZID=Europe/Berlin:20230319T110000
LOCATION:Sportovní hala\, Ke Stadionu 375 Odolena Voda
SUMMARY:ST-U14M-24D: Odolena Voda B-Nymburk
END:VEVENT
BEGIN:VEVENT
UID:62653732-3331-4931-b861-346238386361
DTSTAMP:20260422T164709Z
DESCRIPTION:1/10 Benátky nad Jizerou B - Odolena Voda B 1:2 (-23\,18\,-9)
DTSTART;TZID=Europe/Berlin:20230319T090000
DTEND;TZID=Europe/Berlin:20230319T110000
LOCATION:Nibe aréna\, městská sportovní hala\, 5. května 746 Benátky nad Ji
 zerou - Benátky nad Jizerou II
SUMMARY:ST-U14M-24D: Benátky nad Jizerou B-Odolena Voda B
END:VEVENT
BEGIN:VEVENT
UID:37653632-6434-4161-b736-623364383161
DTSTAMP:20260422T164709Z
DESCRIPTION:1/20 Odolena Voda A - Odolena Voda B 2:0 (14\,17)
DTSTART;TZID=Europe/Berlin:20230319T090000
DTEND;TZID=Europe/Berlin:20230319T110000
LOCATION:Sportovní hala\, Ke Stadionu 375 Odolena Voda
SUMMARY:ST-U14M-24P1: Odolena Voda A-Odolena Voda B
END:VEVENT
BEGIN:VEVENT
UID:34393765-3430-4138-a133-353063633332
DTSTAMP:20260422T164709Z
DESCRIPTION:1/26 Odolena Voda B - Kladno B 2:0 (21\,23)
DTSTART;TZID=Europe/Berlin:20230319T090000
DTEND;TZID=Europe/Berlin:20230319T110000
LOCATION:Sportovní hala\, Ke Stadionu 375 Odolena Voda
SUMMARY:ST-U14M-24P2: Odolena Voda B-Kladno B
END:VEVENT
BEGIN:VEVENT
UID:33353031-3463-4435-b337-613763376534
DTSTAMP:20260422T164709Z
DESCRIPTION:1/1 Odolena Voda B - Mladá Boleslav 2:0 (15\,10)
DTSTART;TZID=Europe/Berlin:20230423T090000
DTEND;TZID=Europe/Berlin:20230423T110000
LOCATION:Sportovní hala\, Ke Stadionu 375 Odolena Voda
SUMMARY:ST-U14M-25C: Odolena Voda B-Mladá Boleslav
END:VEVENT
BEGIN:VEVENT
UID:64663936-3734-4531-a138-653030636161
DTSTAMP:20260422T164709Z
DESCRIPTION:1/11 Nymburk - Odolena Voda B 2:1 (-22\,22\,10)
DTSTART;TZID=Europe/Berlin:20230423T090000
DTEND;TZID=Europe/Berlin:20230423T110000
LOCATION:Zimní stadion\, U Stadionu 12 Nymburk
SUMMARY:ST-U14M-25C: Nymburk-Odolena Voda B
END:VEVENT
BEGIN:VEVENT
UID:62653565-6661-4530-b963-666136656433
DTSTAMP:20260422T164709Z
DESCRIPTION:1/18 Odolena Voda C - Odolena Voda B 0:2 (-11\,-17)
DTSTART;TZID=Europe/Berlin:20230423T090000
DTEND;TZID=Europe/Berlin:20230423T110000
LOCATION:Sportovní hala\, Ke Stadionu 375 Odolena Voda
SUMMARY:ST-U14M-25P1: Odolena Voda C-Odolena Voda B
END:VEVENT
BEGIN:VEVENT
UID:35666433-3630-4236-b763-303566363338
DTSTAMP:20260422T164709Z
DESCRIPTION:1/25 Kralupy - Odolena Voda B 0:2 (-22\,-15)
DTSTART;TZID=Europe/Berlin:20230423T090000
DTEND;TZID=Europe/Berlin:20230423T110000
LOCATION:TJ KRALUPY\, z.s.\, Gen. Klapálka 1029 Kralupy nad Vltavou
SUMMARY:ST-U14M-25P2: Kralupy-Odolena Voda B
END:VEVENT
END:VCALENDAR
