BEGIN:VCALENDAR
VERSION:2.0
PRODID:-//Volejbal Aš - Klokani z.s.78907//NONSGML kigkonsult.se iCalcreator 2.41.80//
CALSCALE:GREGORIAN
UID:31333430-3266-4334-b863-366631653763
BEGIN:VEVENT
UID:30316536-6637-4132-b130-643361653832
DTSTAMP:20260423T105817Z
DESCRIPTION:1/5 Volejbal Aš - Klokani z.s. - Volejbalový klub Teplice z.s. 
 1:1 (-23\,22)
DTSTART;TZID=Europe/Berlin:20220925T090000
DTEND;TZID=Europe/Berlin:20220925T110000
LOCATION:Sportovní hala Textilka\, Gustava Geipela 2713 Aš
SUMMARY:KV-U16M-A: Volejbal Aš - Klokani z.s.-Volejbalový klub Teplice z.s.
END:VEVENT
BEGIN:VEVENT
UID:30656631-3438-4532-b535-376466633863
DTSTAMP:20260423T105817Z
DESCRIPTION:1/8 Volejbal Aš - Klokani z.s. - Plzeň 0:2 (-18\,-17)
DTSTART;TZID=Europe/Berlin:20220925T090000
DTEND;TZID=Europe/Berlin:20220925T110000
LOCATION:Sportovní hala Textilka\, Gustava Geipela 2713 Aš
SUMMARY:KV-U16M-A: Volejbal Aš - Klokani z.s.-Plzeň
END:VEVENT
BEGIN:VEVENT
UID:32643662-6337-4239-a138-613939376631
DTSTAMP:20260423T105817Z
DESCRIPTION:1/1 VK Litvínov\, z.s. - Volejbal Aš - Klokani z.s. 0:2 (-24\,-
 18)
DTSTART;TZID=Europe/Berlin:20220925T090000
DTEND;TZID=Europe/Berlin:20220925T110000
LOCATION:Sportovní hala Litvínov U Koldomu 2049\, 436 01 Litvínov
SUMMARY:KV-U16M-A: VK Litvínov\, z.s.-Volejbal Aš - Klokani z.s.
END:VEVENT
BEGIN:VEVENT
UID:37653836-3461-4038-b735-313032323930
DTSTAMP:20260423T105817Z
DESCRIPTION:1/10 Karlovarsko - Volejbal Aš - Klokani z.s. 2:0 (15\,23)
DTSTART;TZID=Europe/Berlin:20220925T090000
DTEND;TZID=Europe/Berlin:20220925T110000
LOCATION:Mattoni Arena Hala míčových sportů\, Západní 1812 Karlovy Vary
SUMMARY:KV-U16M-A: Karlovarsko-Volejbal Aš - Klokani z.s.
END:VEVENT
BEGIN:VEVENT
UID:33336230-3635-4433-b963-303063643832
DTSTAMP:20260423T105817Z
DESCRIPTION:1/1 Volejbal Aš - Klokani z.s. - Jirkov 0:2 (-9\,-7)
DTSTART;TZID=Europe/Berlin:20221009T090000
DTEND;TZID=Europe/Berlin:20221009T110000
LOCATION:Sportovní hala Textilka\, Gustava Geipela 2713 Aš
SUMMARY:KV-U16M-C: Volejbal Aš - Klokani z.s.-Jirkov
END:VEVENT
BEGIN:VEVENT
UID:33323737-6535-4838-b762-633538633163
DTSTAMP:20260423T105817Z
DESCRIPTION:1/4 Volejbal Aš - Klokani z.s. - Karlovarsko 1:2 (24\,-22\,-7)
DTSTART;TZID=Europe/Berlin:20221009T090000
DTEND;TZID=Europe/Berlin:20221009T110000
LOCATION:Sportovní hala Textilka\, Gustava Geipela 2713 Aš
SUMMARY:KV-U16M-C: Volejbal Aš - Klokani z.s.-Karlovarsko
END:VEVENT
BEGIN:VEVENT
UID:30633031-6163-4131-a461-386563623833
DTSTAMP:20260423T105817Z
DESCRIPTION:1/6 Ústí n. L. - Volejbal Aš - Klokani z.s. 2:0 (11\,15)
DTSTART;TZID=Europe/Berlin:20221009T090000
DTEND;TZID=Europe/Berlin:20221009T110000
LOCATION:ZŠ Rabasova Rabasova 3282/3\, Ústí nad Labem 40011
SUMMARY:KV-U16M-C: Ústí n. L.-Volejbal Aš - Klokani z.s.
END:VEVENT
BEGIN:VEVENT
UID:66623639-3134-4763-a466-663964623962
DTSTAMP:20260423T105817Z
DESCRIPTION:1/7 Plzeň - Volejbal Aš - Klokani z.s. 2:0 (20\,20)
DTSTART;TZID=Europe/Berlin:20221009T090000
DTEND;TZID=Europe/Berlin:20221009T110000
LOCATION:Bolevecká základní škola ( 18.ZŠ)\, náměstí Odboje 550 Plzeň - Bol
 evec
SUMMARY:KV-U16M-C: Plzeň-Volejbal Aš - Klokani z.s.
END:VEVENT
BEGIN:VEVENT
UID:61353134-3835-4363-b461-326135353839
DTSTAMP:20260423T105817Z
DESCRIPTION:1/3 Volejbal Aš - Klokani z.s. - Volejbalový klub Teplice z.s. 
 2:1 (19\,-13\,18)
DTSTART;TZID=Europe/Berlin:20221106T090000
DTEND;TZID=Europe/Berlin:20221106T110000
LOCATION:Sportovní hala Textilka\, Gustava Geipela 2713 Aš
SUMMARY:KV-U16M-F: Volejbal Aš - Klokani z.s.-Volejbalový klub Teplice z.s.
END:VEVENT
BEGIN:VEVENT
UID:36303366-3631-4664-b339-363036363034
DTSTAMP:20260423T105817Z
DESCRIPTION:1/6 Volejbal Aš - Klokani z.s. - VK Litvínov\, z.s. 2:0 (17\,23
 )
DTSTART;TZID=Europe/Berlin:20221106T090000
DTEND;TZID=Europe/Berlin:20221106T110000
LOCATION:Sportovní hala Textilka\, Gustava Geipela 2713 Aš
SUMMARY:KV-U16M-F: Volejbal Aš - Klokani z.s.-VK Litvínov\, z.s.
END:VEVENT
BEGIN:VEVENT
UID:39353432-3939-4162-b764-396432313539
DTSTAMP:20260423T105817Z
DESCRIPTION:1/8 Plzeň - Volejbal Aš - Klokani z.s. 2:1 (15\,-14\,7)
DTSTART;TZID=Europe/Berlin:20221106T090000
DTEND;TZID=Europe/Berlin:20221106T110000
LOCATION:Bolevecká základní škola ( 18.ZŠ)\, náměstí Odboje 550 Plzeň - Bol
 evec
SUMMARY:KV-U16M-F: Plzeň-Volejbal Aš - Klokani z.s.
END:VEVENT
BEGIN:VEVENT
UID:66383536-6262-4134-a466-386566623063
DTSTAMP:20260423T105817Z
DESCRIPTION:1/9 Tělovýchovná jednota Baník Most\, z.s. - Volejbal Aš - Klok
 ani z.s. 2:0 (16\,23)
DTSTART;TZID=Europe/Berlin:20221106T090000
DTEND;TZID=Europe/Berlin:20221106T110000
LOCATION:14. ZŠ Most Rozmarýnová 1692
SUMMARY:KV-U16M-F: Tělovýchovná jednota Baník Most\, z.s.-Volejbal Aš - Klo
 kani z.s.
END:VEVENT
BEGIN:VEVENT
UID:61316539-6239-4163-b835-653965353530
DTSTAMP:20260423T105817Z
DESCRIPTION:1/5 Volejbal Aš - Klokani z.s. - Volejbalový klub Teplice z.s. 
 2:0 (22\,18)
DTSTART;TZID=Europe/Berlin:20230115T090000
DTEND;TZID=Europe/Berlin:20230115T110000
LOCATION:Sportovní hala Textilka\, Gustava Geipela 2713 Aš
SUMMARY:KV-U16M-H: Volejbal Aš - Klokani z.s.-Volejbalový klub Teplice z.s.
END:VEVENT
BEGIN:VEVENT
UID:66323536-3836-4663-a239-333562336236
DTSTAMP:20260423T105817Z
DESCRIPTION:1/8 Volejbal Aš - Klokani z.s. - Karlovarsko 0:2 (-21\,-19)
DTSTART;TZID=Europe/Berlin:20230115T090000
DTEND;TZID=Europe/Berlin:20230115T110000
LOCATION:Sportovní hala Textilka\, Gustava Geipela 2713 Aš
SUMMARY:KV-U16M-H: Volejbal Aš - Klokani z.s.-Karlovarsko
END:VEVENT
BEGIN:VEVENT
UID:31656537-3639-4931-b236-663366636131
DTSTAMP:20260423T105817Z
DESCRIPTION:1/1 Klatovy - Volejbal Aš - Klokani z.s. 2:0 (22\,14)
DTSTART;TZID=Europe/Berlin:20230115T090000
DTEND;TZID=Europe/Berlin:20230115T110000
LOCATION:Sportovní hala ZŠ Čapkova\, Čapkova 136 Klatovy - Klatovy V
SUMMARY:KV-U16M-H: Klatovy-Volejbal Aš - Klokani z.s.
END:VEVENT
BEGIN:VEVENT
UID:31366263-3737-4138-b634-316233643634
DTSTAMP:20260423T105817Z
DESCRIPTION:1/10 VK Litvínov\, z.s. - Volejbal Aš - Klokani z.s. 1:2 (20\,-
 18\,-6)
DTSTART;TZID=Europe/Berlin:20230115T090000
DTEND;TZID=Europe/Berlin:20230115T110000
LOCATION:Sportovní hala Litvínov U Koldomu 2049\, 436 01 Litvínov
SUMMARY:KV-U16M-H: VK Litvínov\, z.s.-Volejbal Aš - Klokani z.s.
END:VEVENT
BEGIN:VEVENT
UID:35373336-3434-4639-a263-636532623861
DTSTAMP:20260423T105817Z
DESCRIPTION:1/2 Volejbal Aš - Klokani z.s. - Klatovy 0:2 (-23\,-13)
DTSTART;TZID=Europe/Berlin:20230401T090000
DTEND;TZID=Europe/Berlin:20230401T110000
LOCATION:Sportovní hala Textilka\, Gustava Geipela 2713 Aš
SUMMARY:KV-U16M-FB: Volejbal Aš - Klokani z.s.-Klatovy
END:VEVENT
BEGIN:VEVENT
UID:61353539-3633-4038-a266-393031336465
DTSTAMP:20260423T105817Z
DESCRIPTION:1/9 Volejbal Aš - Klokani z.s. - Jirkov 0:2 (-10\,-8)
DTSTART;TZID=Europe/Berlin:20230401T090000
DTEND;TZID=Europe/Berlin:20230401T110000
LOCATION:Sportovní hala Textilka\, Gustava Geipela 2713 Aš
SUMMARY:KV-U16M-FB: Volejbal Aš - Klokani z.s.-Jirkov
END:VEVENT
BEGIN:VEVENT
UID:61373234-3431-4336-b165-636561346533
DTSTAMP:20260423T105817Z
DESCRIPTION:1/4 VK Litvínov\, z.s. - Volejbal Aš - Klokani z.s. 1:2 (24\,-1
 8\,-4)
DTSTART;TZID=Europe/Berlin:20230401T090000
DTEND;TZID=Europe/Berlin:20230401T110000
LOCATION:Sportovní hala Litvínov U Koldomu 2049\, 436 01 Litvínov
SUMMARY:KV-U16M-FB: VK Litvínov\, z.s.-Volejbal Aš - Klokani z.s.
END:VEVENT
BEGIN:VEVENT
UID:37666337-3539-4733-b966-663564303332
DTSTAMP:20260423T105817Z
DESCRIPTION:1/5 Sokolov - Volejbal Aš - Klokani z.s. 2:0 (16\,20)
DTSTART;TZID=Europe/Berlin:20230401T090000
DTEND;TZID=Europe/Berlin:20230401T110000
LOCATION:Jiskra\, Maxima Gorkého 280 Sokolov
SUMMARY:KV-U16M-FB: Sokolov-Volejbal Aš - Klokani z.s.
END:VEVENT
BEGIN:VEVENT
UID:32333534-6532-4562-b030-666164373939
DTSTAMP:20260423T105817Z
DESCRIPTION:4/4 Tělovýchovná jednota Baník Most\, z.s. - Volejbal Aš - Klok
 ani z.s. 2:1 (24\,-22\,11)
DTSTART;TZID=Europe/Berlin:20230401T090000
DTEND;TZID=Europe/Berlin:20230401T110000
LOCATION:14. ZŠ Most Rozmarýnová 1692
SUMMARY:KV-U16M-FF: Tělovýchovná jednota Baník Most\, z.s.-Volejbal Aš - Kl
 okani z.s.
END:VEVENT
END:VCALENDAR
