BEGIN:VCALENDAR
VERSION:2.0
PRODID:-//Volejbalový sportovní klub Český Krumlov z.s.78934//NONSGML kigkonsult.se iCalcreator 2.41.80//
CALSCALE:GREGORIAN
UID:34383831-3336-4230-b532-633631333339
BEGIN:VEVENT
UID:37613530-3739-4266-a230-333232363335
DTSTAMP:20260425T105301Z
DESCRIPTION:4/9 VSK Český Krumlov - TJ Jiskra Nový Bor 2:0 (14\,13)
DTSTART;TZID=Europe/Berlin:20220924T120000
DTEND;TZID=Europe/Berlin:20220924T140000
LOCATION:ZŠ Za Nádražím Český Krumlov\, Za Nádražím 222 Český Krumlov - Nád
 ražní Předměstí
SUMMARY:CP-U16Z-Z1B: VSK Český Krumlov-TJ Jiskra Nový Bor
END:VEVENT
BEGIN:VEVENT
UID:39393235-3963-4461-a533-376461663930
DTSTAMP:20260425T105301Z
DESCRIPTION:11/24 VSK Český Krumlov - SK Kometa Praha 0:2 (-10\,-19)
DTSTART;TZID=Europe/Berlin:20220925T100000
DTEND;TZID=Europe/Berlin:20220925T120000
LOCATION:ZŠ Za Nádražím Český Krumlov\, Za Nádražím 222 Český Krumlov - Nád
 ražní Předměstí
SUMMARY:CP-U16Z-Z1B: VSK Český Krumlov-SK Kometa Praha
END:VEVENT
BEGIN:VEVENT
UID:66323761-3534-4664-a565-663137616364
DTSTAMP:20260425T105301Z
DESCRIPTION:2/4 Kladno volejbal - VSK Český Krumlov 1:2 (13\,-18\,-15)
DTSTART;TZID=Europe/Berlin:20220924T100000
DTEND;TZID=Europe/Berlin:20220924T120000
LOCATION:Kladenská sportovní hala\, Sportovců 817 Kladno - Rozdělov
SUMMARY:CP-U16Z-Z1B: Kladno volejbal-VSK Český Krumlov
END:VEVENT
BEGIN:VEVENT
UID:65363836-6636-4536-a463-313237663539
DTSTAMP:20260425T105301Z
DESCRIPTION:6/13 TJ Sokol Mnichovo Hradiště - VSK Český Krumlov 0:2 (-19\,-
 9)
DTSTART;TZID=Europe/Berlin:20220924T140000
DTEND;TZID=Europe/Berlin:20220924T160000
LOCATION:Sportovní hala BIOS\, Sokolovská 254 Mnichovo Hradiště
SUMMARY:CP-U16Z-Z1B: TJ Sokol Mnichovo Hradiště-VSK Český Krumlov
END:VEVENT
BEGIN:VEVENT
UID:34333637-6162-4630-a131-343036633065
DTSTAMP:20260425T105301Z
DESCRIPTION:7/16 Říčany - VSK Český Krumlov 0:2 (-18\,-18)
DTSTART;TZID=Europe/Berlin:20220924T150000
DTEND;TZID=Europe/Berlin:20220924T170000
LOCATION:Sportovní hala Světice\, U Hřiště 151 Světice
SUMMARY:CP-U16Z-Z1B: Říčany-VSK Český Krumlov
END:VEVENT
BEGIN:VEVENT
UID:32376265-6133-4264-a564-386363383862
DTSTAMP:20260425T105301Z
DESCRIPTION:9/20 TJ EMĚ Mělník B - VSK Český Krumlov 2:0 (13\,18)
DTSTART;TZID=Europe/Berlin:20220924T170000
DTEND;TZID=Europe/Berlin:20220924T190000
LOCATION:Tělocvična ZŠ J. Matiegky\, Pražská 2817 Mělník
SUMMARY:CP-U16Z-Z1B: TJ EMĚ Mělník B-VSK Český Krumlov
END:VEVENT
BEGIN:VEVENT
UID:38623863-3832-4234-b462-363037323938
DTSTAMP:20260425T105301Z
DESCRIPTION:13/26 SK Dansport Praha - VSK Český Krumlov 0:2 (-23\,-9)
DTSTART;TZID=Europe/Berlin:20220925T120000
DTEND;TZID=Europe/Berlin:20220925T140000
LOCATION:Sportovní hala Gymnázia Jana Keplera\, Parléřova 118 Praha - Hradč
 any
SUMMARY:CP-U16Z-Z1B: SK Dansport Praha-VSK Český Krumlov
END:VEVENT
BEGIN:VEVENT
UID:31313435-3463-4434-a363-616630623930
DTSTAMP:20260425T105301Z
DESCRIPTION:7/13 VSK Český Krumlov - Dukla Liberec 2:0 (23\,22)
DTSTART;TZID=Europe/Berlin:20221015T163000
DTEND;TZID=Europe/Berlin:20221015T183000
LOCATION:ZŠ Za Nádražím Český Krumlov\, Za Nádražím 222 Český Krumlov - Nád
 ražní Předměstí
SUMMARY:CP-U16Z-Z2B: VSK Český Krumlov-Dukla Liberec
END:VEVENT
BEGIN:VEVENT
UID:61316231-3062-4566-a364-653233336262
DTSTAMP:20260425T105301Z
DESCRIPTION:9/17 VSK Český Krumlov - BVC Chodov 1:2 (-27\,24\,-10)
DTSTART;TZID=Europe/Berlin:20221016T083000
DTEND;TZID=Europe/Berlin:20221016T103000
LOCATION:ZŠ Za Nádražím Český Krumlov\, Za Nádražím 222 Český Krumlov - Nád
 ražní Předměstí
SUMMARY:CP-U16Z-Z2B: VSK Český Krumlov-BVC Chodov
END:VEVENT
BEGIN:VEVENT
UID:66613336-3238-4866-b235-303764333032
DTSTAMP:20260425T105301Z
DESCRIPTION:11/21 VSK Český Krumlov - S V B C 0:2 (-20\,-10)
DTSTART;TZID=Europe/Berlin:20221016T110000
DTEND;TZID=Europe/Berlin:20221016T130000
LOCATION:ZŠ Za Nádražím Český Krumlov\, Za Nádražím 222 Český Krumlov - Nád
 ražní Předměstí
SUMMARY:CP-U16Z-Z2B: VSK Český Krumlov-S V B C
END:VEVENT
BEGIN:VEVENT
UID:62643861-6339-4639-a331-613962383166
DTSTAMP:20260425T105301Z
DESCRIPTION:13/25 VSK Český Krumlov - SK VOLEJBAL Ústí n.L. 0:2 (-19\,-13)
DTSTART;TZID=Europe/Berlin:20221016T133000
DTEND;TZID=Europe/Berlin:20221016T153000
LOCATION:ZŠ Za Nádražím Český Krumlov\, Za Nádražím 222 Český Krumlov - Nád
 ražní Předměstí
SUMMARY:CP-U16Z-Z2B: VSK Český Krumlov-SK VOLEJBAL Ústí n.L.
END:VEVENT
BEGIN:VEVENT
UID:38626638-3830-4432-a633-366138356565
DTSTAMP:20260425T105301Z
DESCRIPTION:1/1 SK Meteor Praha - VSK Český Krumlov 2:1 (-18\,21\,12)
DTSTART;TZID=Europe/Berlin:20221015T090000
DTEND;TZID=Europe/Berlin:20221015T110000
LOCATION:ZŠ Žernosecká\, Žernosecká 1597 Praha - Kobylisy
SUMMARY:CP-U16Z-Z2B: SK Meteor Praha-VSK Český Krumlov
END:VEVENT
BEGIN:VEVENT
UID:38333534-3736-4161-b266-393838653132
DTSTAMP:20260425T105301Z
DESCRIPTION:3/5 Mikulova A - VSK Český Krumlov 2:1 (22\,-14\,8)
DTSTART;TZID=Europe/Berlin:20221015T113000
DTEND;TZID=Europe/Berlin:20221015T133000
LOCATION:tělocvičny ZŠ Mikulova\, Mikulova 1594 Praha - Chodov
SUMMARY:CP-U16Z-Z2B: Mikulova A-VSK Český Krumlov
END:VEVENT
BEGIN:VEVENT
UID:39376566-3837-4166-b661-373563376662
DTSTAMP:20260425T105301Z
DESCRIPTION:5/9 Kladno volejbal - VSK Český Krumlov 1:2 (-18\,20\,-8)
DTSTART;TZID=Europe/Berlin:20221015T140000
DTEND;TZID=Europe/Berlin:20221015T160000
LOCATION:Kladenská sportovní hala\, Sportovců 817 Kladno - Rozdělov
SUMMARY:CP-U16Z-Z2B: Kladno volejbal-VSK Český Krumlov
END:VEVENT
BEGIN:VEVENT
UID:35656336-6536-4663-b833-323339633366
DTSTAMP:20260425T105301Z
DESCRIPTION:7/17 VSK Český Krumlov - SK Kometa Praha 0:2 (-25\,-12)
DTSTART;TZID=Europe/Berlin:20221120T090000
DTEND;TZID=Europe/Berlin:20221120T110000
LOCATION:ZŠ Za Nádražím Český Krumlov\, Za Nádražím 222 Český Krumlov - Nád
 ražní Předměstí
SUMMARY:CP-U16Z-Z3B: VSK Český Krumlov-SK Kometa Praha
END:VEVENT
BEGIN:VEVENT
UID:35383838-3733-4631-b066-383234353034
DTSTAMP:20260425T105301Z
DESCRIPTION:8/22 VSK Český Krumlov - S V B C 0:2 (-12\,-24)
DTSTART;TZID=Europe/Berlin:20221120T100000
DTEND;TZID=Europe/Berlin:20221120T120000
LOCATION:ZŠ Za Nádražím Český Krumlov\, Za Nádražím 222 Český Krumlov - Nád
 ražní Předměstí
SUMMARY:CP-U16Z-Z3B: VSK Český Krumlov-S V B C
END:VEVENT
BEGIN:VEVENT
UID:30656537-3662-4236-b339-386163656465
DTSTAMP:20260425T105301Z
DESCRIPTION:1/1 Volleyball Nymburk - VSK Český Krumlov 2:0 (23\,13)
DTSTART;TZID=Europe/Berlin:20221119T100000
DTEND;TZID=Europe/Berlin:20221119T120000
LOCATION:Zimní stadion\, U Stadionu 12 Nymburk
SUMMARY:CP-U16Z-Z3B: Volleyball Nymburk-VSK Český Krumlov
END:VEVENT
BEGIN:VEVENT
UID:35376362-3334-4333-a663-313031333766
DTSTAMP:20260425T105301Z
DESCRIPTION:2/5 BVC Chodov - VSK Český Krumlov 2:0 (15\,24)
DTSTART;TZID=Europe/Berlin:20221119T113000
DTEND;TZID=Europe/Berlin:20221119T133000
LOCATION:Městská sportovní hala Chodov\, Tyršova 1201 Chodov
SUMMARY:CP-U16Z-Z3B: BVC Chodov-VSK Český Krumlov
END:VEVENT
BEGIN:VEVENT
UID:32356464-3034-4136-b936-633261373638
DTSTAMP:20260425T105301Z
DESCRIPTION:3/7 VK Rokycany - VSK Český Krumlov 2:0 (18\,22)
DTSTART;TZID=Europe/Berlin:20221119T130000
DTEND;TZID=Europe/Berlin:20221119T150000
LOCATION:Hala Gymnázia Rokycany\, Mládežníků 1115 Rokycany - Nové Město
SUMMARY:CP-U16Z-Z3B: VK Rokycany-VSK Český Krumlov
END:VEVENT
BEGIN:VEVENT
UID:33396161-6435-4235-b263-646165633435
DTSTAMP:20260425T105301Z
DESCRIPTION:5/15 Volejbal Ústí nad Labem - VSK Český Krumlov 2:0 (18\,15)
DTSTART;TZID=Europe/Berlin:20221119T160000
DTEND;TZID=Europe/Berlin:20221119T180000
LOCATION:Gymnázium dr. Václava Šmejkala\, Ústí nad Labem\, Stavbařů 2857 Ús
 tí nad Labem - Severní Terasa
SUMMARY:CP-U16Z-Z3B: Volejbal Ústí nad Labem-VSK Český Krumlov
END:VEVENT
BEGIN:VEVENT
UID:37663232-6537-4339-b062-613036623530
DTSTAMP:20260425T105301Z
DESCRIPTION:10/28 SK Meteor Praha - VSK Český Krumlov 2:0 (19\,9)
DTSTART;TZID=Europe/Berlin:20221120T120000
DTEND;TZID=Europe/Berlin:20221120T140000
LOCATION:ZŠ Žernosecká\, Žernosecká 1597 Praha - Kobylisy
SUMMARY:CP-U16Z-Z3B: SK Meteor Praha-VSK Český Krumlov
END:VEVENT
BEGIN:VEVENT
UID:39346236-6330-4236-a366-306461383936
DTSTAMP:20260425T105301Z
DESCRIPTION:7/13 VSK Český Krumlov - Dukla Liberec 0:2 (-16\,-16)
DTSTART;TZID=Europe/Berlin:20230121T163000
DTEND;TZID=Europe/Berlin:20230121T183000
LOCATION:ZŠ Za Nádražím Český Krumlov\, Za Nádražím 222 Český Krumlov - Nád
 ražní Předměstí
SUMMARY:CP-U16Z-F1D: VSK Český Krumlov-Dukla Liberec
END:VEVENT
BEGIN:VEVENT
UID:38623865-3434-4266-b562-666534376264
DTSTAMP:20260425T105301Z
DESCRIPTION:9/17 VSK Český Krumlov - ŠSK Bílovec 2:0 (21\,11)
DTSTART;TZID=Europe/Berlin:20230122T083000
DTEND;TZID=Europe/Berlin:20230122T103000
LOCATION:ZŠ Za Nádražím Český Krumlov\, Za Nádražím 222 Český Krumlov - Nád
 ražní Předměstí
SUMMARY:CP-U16Z-F1D: VSK Český Krumlov-ŠSK Bílovec
END:VEVENT
BEGIN:VEVENT
UID:63366238-6539-4666-a130-343230376162
DTSTAMP:20260425T105301Z
DESCRIPTION:11/21 VSK Český Krumlov - TJ Svitavy 1:2 (20\,-10\,-11)
DTSTART;TZID=Europe/Berlin:20230122T110000
DTEND;TZID=Europe/Berlin:20230122T130000
LOCATION:ZŠ Za Nádražím Český Krumlov\, Za Nádražím 222 Český Krumlov - Nád
 ražní Předměstí
SUMMARY:CP-U16Z-F1D: VSK Český Krumlov-TJ Svitavy
END:VEVENT
BEGIN:VEVENT
UID:39313632-3636-4465-b562-363638663638
DTSTAMP:20260425T105301Z
DESCRIPTION:14/27 VSK Český Krumlov - Volejbal Ústí nad Labem 1:2 (23\,-13\
 ,-8)
DTSTART;TZID=Europe/Berlin:20230122T144500
DTEND;TZID=Europe/Berlin:20230122T164500
LOCATION:ZŠ Za Nádražím Český Krumlov\, Za Nádražím 222 Český Krumlov - Nád
 ražní Předměstí
SUMMARY:CP-U16Z-F1D: VSK Český Krumlov-Volejbal Ústí nad Labem
END:VEVENT
BEGIN:VEVENT
UID:36366439-6433-4435-b863-666332396533
DTSTAMP:20260425T105301Z
DESCRIPTION:1/1 RÉMA Rychnov - VSK Český Krumlov 1:2 (-23\,17\,-8)
DTSTART;TZID=Europe/Berlin:20230121T090000
DTEND;TZID=Europe/Berlin:20230121T110000
LOCATION:VOŠ a SŠ zem.\, Komenského 873 Kostelec nad Orlicí
SUMMARY:CP-U16Z-F1D: RÉMA Rychnov-VSK Český Krumlov
END:VEVENT
BEGIN:VEVENT
UID:64643664-6463-4238-a163-333933623238
DTSTAMP:20260425T105301Z
DESCRIPTION:3/5 SK Meteor Praha - VSK Český Krumlov 2:0 (20\,15)
DTSTART;TZID=Europe/Berlin:20230121T113000
DTEND;TZID=Europe/Berlin:20230121T133000
LOCATION:ZŠ Žernosecká\, Žernosecká 1597 Praha - Kobylisy
SUMMARY:CP-U16Z-F1D: SK Meteor Praha-VSK Český Krumlov
END:VEVENT
BEGIN:VEVENT
UID:33333962-3464-4335-b239-666235646233
DTSTAMP:20260425T105301Z
DESCRIPTION:5/9 Kladno volejbal - VSK Český Krumlov 2:0 (16\,19)
DTSTART;TZID=Europe/Berlin:20230121T140000
DTEND;TZID=Europe/Berlin:20230121T160000
LOCATION:Kladenská sportovní hala\, Sportovců 817 Kladno - Rozdělov
SUMMARY:CP-U16Z-F1D: Kladno volejbal-VSK Český Krumlov
END:VEVENT
BEGIN:VEVENT
UID:66656337-3231-4566-a333-336166646136
DTSTAMP:20260425T105301Z
DESCRIPTION:1/3 VSK Český Krumlov - Volejbal Ústí nad Labem 0:2 (-22\,-12)
DTSTART;TZID=Europe/Berlin:20230218T090000
DTEND;TZID=Europe/Berlin:20230218T110000
LOCATION:ZŠ Za Nádražím Český Krumlov\, Za Nádražím 222 Český Krumlov - Nád
 ražní Předměstí
SUMMARY:CP-U16Z-F2D: VSK Český Krumlov-Volejbal Ústí nad Labem
END:VEVENT
BEGIN:VEVENT
UID:32396137-6566-4766-b366-346630353261
DTSTAMP:20260425T105301Z
DESCRIPTION:4/11 VSK Český Krumlov - TJ Ostrava 0:2 (-9\,-11)
DTSTART;TZID=Europe/Berlin:20230218T134500
DTEND;TZID=Europe/Berlin:20230218T154500
LOCATION:ZŠ Za Nádražím Český Krumlov\, Za Nádražím 222 Český Krumlov - Nád
 ražní Předměstí
SUMMARY:CP-U16Z-F2D: VSK Český Krumlov-TJ Ostrava
END:VEVENT
BEGIN:VEVENT
UID:34663039-6139-4735-b138-346630303565
DTSTAMP:20260425T105301Z
DESCRIPTION:6/17 VSK Český Krumlov - Kladno volejbal 0:2 (-19\,-13)
DTSTART;TZID=Europe/Berlin:20230218T163000
DTEND;TZID=Europe/Berlin:20230218T183000
LOCATION:ZŠ Za Nádražím Český Krumlov\, Za Nádražím 222 Český Krumlov - Nád
 ražní Předměstí
SUMMARY:CP-U16Z-F2D: VSK Český Krumlov-Kladno volejbal
END:VEVENT
BEGIN:VEVENT
UID:61373632-3038-4037-b835-363264633137
DTSTAMP:20260425T105301Z
DESCRIPTION:8/22 VSK Český Krumlov - S V B C 0:2 (-16\,-18)
DTSTART;TZID=Europe/Berlin:20230219T100000
DTEND;TZID=Europe/Berlin:20230219T120000
LOCATION:ZŠ Za Nádražím Český Krumlov\, Za Nádražím 222 Český Krumlov - Nád
 ražní Předměstí
SUMMARY:CP-U16Z-F2D: VSK Český Krumlov-S V B C
END:VEVENT
BEGIN:VEVENT
UID:34373438-3630-4930-a365-383732353034
DTSTAMP:20260425T105301Z
DESCRIPTION:3/9 TJ Svitavy - VSK Český Krumlov 2:0 (15\,15)
DTSTART;TZID=Europe/Berlin:20230218T120000
DTEND;TZID=Europe/Berlin:20230218T140000
LOCATION:Sportovní hala Na Střelnici\, Pražská 2162 Svitavy - Předměstí
SUMMARY:CP-U16Z-F2D: TJ Svitavy-VSK Český Krumlov
END:VEVENT
BEGIN:VEVENT
UID:35306230-6231-4561-b061-383732353664
DTSTAMP:20260425T105301Z
DESCRIPTION:5/15 VSK Baník Sokolov - VSK Český Krumlov 1:2 (-24\,14\,-13)
DTSTART;TZID=Europe/Berlin:20230218T151500
DTEND;TZID=Europe/Berlin:20230218T171500
LOCATION:Jiskra\, Maxima Gorkého 280 Sokolov
SUMMARY:CP-U16Z-F2D: VSK Baník Sokolov-VSK Český Krumlov
END:VEVENT
BEGIN:VEVENT
UID:34306136-3335-4133-b766-623039396634
DTSTAMP:20260425T105301Z
DESCRIPTION:9/24 Orel Letohrad - VSK Český Krumlov 2:0 (12\,19)
DTSTART;TZID=Europe/Berlin:20230219T113000
DTEND;TZID=Europe/Berlin:20230219T133000
LOCATION:TJ Spartak Letohrad\, Jilemnického 341 Letohrad
SUMMARY:CP-U16Z-F2D: Orel Letohrad-VSK Český Krumlov
END:VEVENT
BEGIN:VEVENT
UID:33363531-3234-4563-a131-633766393639
DTSTAMP:20260425T105301Z
DESCRIPTION:1/2 VSK Český Krumlov - VK Madeta ČB 0:2 (-15\,-17)
DTSTART;TZID=Europe/Berlin:20230318T090000
DTEND;TZID=Europe/Berlin:20230318T110000
LOCATION:ZŠ Za Nádražím Český Krumlov\, Za Nádražím 222 Český Krumlov - Nád
 ražní Předměstí
SUMMARY:CP-U16Z-F3E: VSK Český Krumlov-VK Madeta ČB
END:VEVENT
BEGIN:VEVENT
UID:62303864-3938-4736-a433-323964633865
DTSTAMP:20260425T105301Z
DESCRIPTION:4/7 VSK Český Krumlov - VK UP Olomouc 0:2 (-11\,-22)
DTSTART;TZID=Europe/Berlin:20230318T124500
DTEND;TZID=Europe/Berlin:20230318T144500
LOCATION:ZŠ Za Nádražím Český Krumlov\, Za Nádražím 222 Český Krumlov - Nád
 ražní Předměstí
SUMMARY:CP-U16Z-F3E: VSK Český Krumlov-VK UP Olomouc
END:VEVENT
BEGIN:VEVENT
UID:31386661-3162-4330-b366-316563303330
DTSTAMP:20260425T105301Z
DESCRIPTION:5/9 VSK Český Krumlov - VSK Baník Sokolov 0:2 (-16\,-17)
DTSTART;TZID=Europe/Berlin:20230318T140000
DTEND;TZID=Europe/Berlin:20230318T160000
LOCATION:ZŠ Za Nádražím Český Krumlov\, Za Nádražím 222 Český Krumlov - Nád
 ražní Předměstí
SUMMARY:CP-U16Z-F3E: VSK Český Krumlov-VSK Baník Sokolov
END:VEVENT
BEGIN:VEVENT
UID:33663264-6464-4933-b065-353835633433
DTSTAMP:20260425T105301Z
DESCRIPTION:7/14 Rudolfov - VSK Český Krumlov 2:1 (-23\,20\,9)
DTSTART;TZID=Europe/Berlin:20230318T163000
DTEND;TZID=Europe/Berlin:20230318T183000
LOCATION:Sportovní hala Rudolfov\, Adamovská 511 Rudolfov
SUMMARY:CP-U16Z-F3E: Rudolfov-VSK Český Krumlov
END:VEVENT
BEGIN:VEVENT
UID:36393764-3830-4933-b438-313465373133
DTSTAMP:20260425T105301Z
DESCRIPTION:9/18 TJ Baník Příbram - VSK Český Krumlov 2:0 (21\,8)
DTSTART;TZID=Europe/Berlin:20230319T094500
DTEND;TZID=Europe/Berlin:20230319T114500
LOCATION:Tělocvična ZŠ Balbínova\, Balbínova 328 Příbram - Příbram II
SUMMARY:CP-U16Z-F3E: TJ Baník Příbram-VSK Český Krumlov
END:VEVENT
BEGIN:VEVENT
UID:37303834-6464-4261-b036-396164623334
DTSTAMP:20260425T105301Z
DESCRIPTION:10/20 PVK Olymp Praha - VSK Český Krumlov 2:0 (15\,9)
DTSTART;TZID=Europe/Berlin:20230319T110000
DTEND;TZID=Europe/Berlin:20230319T130000
LOCATION:PVK Olymp Praha\, Přípotoční 300 Praha - Vršovice
SUMMARY:CP-U16Z-F3E: PVK Olymp Praha-VSK Český Krumlov
END:VEVENT
END:VCALENDAR
