BEGIN:VCALENDAR
VERSION:2.0
PRODID:-//TJ Sokol Poniklá78955//NONSGML kigkonsult.se iCalcreator 2.41.80//
CALSCALE:GREGORIAN
UID:38613531-6237-4533-a139-383665343034
BEGIN:VEVENT
UID:65353431-3637-4132-b865-316130356165
DTSTAMP:20260423T030427Z
DESCRIPTION:3/9 TJ Sokol Poniklá - TJ Sokol Mnichovo Hradiště 3:0 (18\,13\,
 15)
DTSTART;TZID=Europe/Berlin:20220917T100000
DTEND;TZID=Europe/Berlin:20220917T120000
LOCATION:tělocvična při základní škole Poniklá\,  Poniklá148
SUMMARY:LIB-Z-2: TJ Sokol Poniklá-TJ Sokol Mnichovo Hradiště
END:VEVENT
BEGIN:VEVENT
UID:66643539-3466-4139-a362-303263336235
DTSTAMP:20260423T030427Z
DESCRIPTION:4/12 TJ Sokol Poniklá - TJ Sokol Mnichovo Hradiště 3:1 (19\,20\
 ,-19\,13)
DTSTART;TZID=Europe/Berlin:20220917T130000
DTEND;TZID=Europe/Berlin:20220917T150000
LOCATION:tělocvična při základní škole Poniklá\,  Poniklá148
SUMMARY:LIB-Z-2: TJ Sokol Poniklá-TJ Sokol Mnichovo Hradiště
END:VEVENT
BEGIN:VEVENT
UID:34643764-6332-4862-b266-663162643933
DTSTAMP:20260423T030427Z
DESCRIPTION:7/20 TJ Sokol Poniklá - TJ Vysoké nad Jizerou\, z.s. 3:0 (16\,1
 9\,12)
DTSTART;TZID=Europe/Berlin:20221001T100000
DTEND;TZID=Europe/Berlin:20221001T120000
LOCATION:tělocvična při základní škole Poniklá\,  Poniklá148
SUMMARY:LIB-Z-2: TJ Sokol Poniklá-TJ Vysoké nad Jizerou\, z.s.
END:VEVENT
BEGIN:VEVENT
UID:32626634-3961-4331-a139-386530633837
DTSTAMP:20260423T030427Z
DESCRIPTION:8/23 TJ Sokol Poniklá - TJ Vysoké nad Jizerou\, z.s. 3:0 (13\,2
 0\,14)
DTSTART;TZID=Europe/Berlin:20221001T130000
DTEND;TZID=Europe/Berlin:20221001T150000
LOCATION:tělocvična při základní škole Poniklá\,  Poniklá148
SUMMARY:LIB-Z-2: TJ Sokol Poniklá-TJ Vysoké nad Jizerou\, z.s.
END:VEVENT
BEGIN:VEVENT
UID:35303834-3536-4131-b538-353830633533
DTSTAMP:20260423T030427Z
DESCRIPTION:13/37 TJ Sokol Poniklá - VK  Malá Skála 3:0 (20\,14\,16)\nzměna
  termínu
DTSTART;TZID=Europe/Berlin:20230429T100000
DTEND;TZID=Europe/Berlin:20230429T120000
LOCATION:tělocvična při základní škole Poniklá\,  Poniklá148
SUMMARY:LIB-Z-2: TJ Sokol Poniklá-VK  Malá Skála
END:VEVENT
BEGIN:VEVENT
UID:37326638-3439-4130-b934-313030623364
DTSTAMP:20260423T030427Z
DESCRIPTION:14/40 TJ Sokol Poniklá - VK  Malá Skála 1:3 (-21\,-26\,24\,-20)
 \nzměna termínu
DTSTART;TZID=Europe/Berlin:20230429T130000
DTEND;TZID=Europe/Berlin:20230429T150000
LOCATION:tělocvična při základní škole Poniklá\,  Poniklá148
SUMMARY:LIB-Z-2: TJ Sokol Poniklá-VK  Malá Skála
END:VEVENT
BEGIN:VEVENT
UID:61326638-3065-4730-b666-396261643762
DTSTAMP:20260423T030427Z
DESCRIPTION:15/44 TJ Sokol Poniklá - TJ Slovan Varnsdorf z.s. 3:X\nzměna te
 rmínu
DTSTART;TZID=Europe/Berlin:20230624T100000
DTEND;TZID=Europe/Berlin:20230624T120000
LOCATION:tělocvična při základní škole Poniklá\,  Poniklá148
SUMMARY:LIB-Z-2: TJ Sokol Poniklá-TJ Slovan Varnsdorf z.s.
END:VEVENT
BEGIN:VEVENT
UID:39653338-6532-4266-b234-386162393839
DTSTAMP:20260423T030427Z
DESCRIPTION:16/47 TJ Sokol Poniklá - TJ Slovan Varnsdorf z.s. 3:X\nzměna te
 rmínu
DTSTART;TZID=Europe/Berlin:20230624T130000
DTEND;TZID=Europe/Berlin:20230624T150000
LOCATION:tělocvična při základní škole Poniklá\,  Poniklá148
SUMMARY:LIB-Z-2: TJ Sokol Poniklá-TJ Slovan Varnsdorf z.s.
END:VEVENT
BEGIN:VEVENT
UID:34373764-3932-4764-a465-653833623032
DTSTAMP:20260423T030427Z
DESCRIPTION:19/57 TJ Sokol Poniklá - TJ Zikuda Turnov 'B' 3:2 (19\,22\,-16\
 ,-17\,12)
DTSTART;TZID=Europe/Berlin:20230520T100000
DTEND;TZID=Europe/Berlin:20230520T120000
LOCATION:tělocvična při základní škole Poniklá\,  Poniklá148
SUMMARY:LIB-Z-2: TJ Sokol Poniklá-TJ Zikuda Turnov 'B'
END:VEVENT
BEGIN:VEVENT
UID:39376433-3837-4064-a532-373833653630
DTSTAMP:20260423T030427Z
DESCRIPTION:20/60 TJ Sokol Poniklá - TJ Zikuda Turnov 'B' 3:2 (19\,18\,-19\
 ,-16\,7)
DTSTART;TZID=Europe/Berlin:20230520T130000
DTEND;TZID=Europe/Berlin:20230520T150000
LOCATION:tělocvična při základní škole Poniklá\,  Poniklá148
SUMMARY:LIB-Z-2: TJ Sokol Poniklá-TJ Zikuda Turnov 'B'
END:VEVENT
BEGIN:VEVENT
UID:39653833-3731-4032-b762-646334353631
DTSTAMP:20260423T030427Z
DESCRIPTION:23/67 TJ Sokol Poniklá - SKP Česká Lípa\, z.s. 3:1 (16\,26\,-14
 \,18)\nzměna termínu
DTSTART;TZID=Europe/Berlin:20230422T100000
DTEND;TZID=Europe/Berlin:20230422T120000
LOCATION:tělocvična při základní škole Poniklá\,  Poniklá148
SUMMARY:LIB-Z-2: TJ Sokol Poniklá-SKP Česká Lípa\, z.s.
END:VEVENT
BEGIN:VEVENT
UID:35636533-3837-4138-a461-356166373864
DTSTAMP:20260423T030427Z
DESCRIPTION:24/70 TJ Sokol Poniklá - SKP Česká Lípa\, z.s. 3:0 (23\,11\,24)
 \nzměna termínu
DTSTART;TZID=Europe/Berlin:20230422T130000
DTEND;TZID=Europe/Berlin:20230422T150000
LOCATION:tělocvična při základní škole Poniklá\,  Poniklá148
SUMMARY:LIB-Z-2: TJ Sokol Poniklá-SKP Česká Lípa\, z.s.
END:VEVENT
BEGIN:VEVENT
UID:62323734-6666-4632-a532-373035366435
DTSTAMP:20260423T030427Z
DESCRIPTION:1/2 TJ Slovan Varnsdorf z.s. - TJ Sokol Poniklá 0:3 (-9\,-21\,-
 18)
DTSTART;TZID=Europe/Berlin:20221028T100000
DTEND;TZID=Europe/Berlin:20221028T120000
LOCATION:Sportovní hala Varnsdorf\, Západní 2984 Varnsdorf
SUMMARY:LIB-Z-2: TJ Slovan Varnsdorf z.s.-TJ Sokol Poniklá
END:VEVENT
BEGIN:VEVENT
UID:35303832-3730-4637-a162-383865303666
DTSTAMP:20260423T030427Z
DESCRIPTION:2/5 TJ Slovan Varnsdorf z.s. - TJ Sokol Poniklá 0:3 (-17\,-14\,
 -21)
DTSTART;TZID=Europe/Berlin:20221028T130000
DTEND;TZID=Europe/Berlin:20221028T150000
LOCATION:Sportovní hala Varnsdorf\, Západní 2984 Varnsdorf
SUMMARY:LIB-Z-2: TJ Slovan Varnsdorf z.s.-TJ Sokol Poniklá
END:VEVENT
BEGIN:VEVENT
UID:32323537-3934-4338-a633-356237393931
DTSTAMP:20260423T030427Z
DESCRIPTION:5/15 TJ Zikuda Turnov 'B' - TJ Sokol Poniklá 0:3 (-21\,-21\,-17
 )
DTSTART;TZID=Europe/Berlin:20220924T100000
DTEND;TZID=Europe/Berlin:20220924T120000
LOCATION:Tělocvična ZŠ Skálova\, Skálova 600 Turnov
SUMMARY:LIB-Z-2: TJ Zikuda Turnov 'B'-TJ Sokol Poniklá
END:VEVENT
BEGIN:VEVENT
UID:34303437-6463-4536-a236-663133653838
DTSTAMP:20260423T030427Z
DESCRIPTION:6/18 TJ Zikuda Turnov 'B' - TJ Sokol Poniklá 1:3 (28\,-9\,-24\,
 -13)
DTSTART;TZID=Europe/Berlin:20220924T130000
DTEND;TZID=Europe/Berlin:20220924T150000
LOCATION:Tělocvična ZŠ Skálova\, Skálova 600 Turnov
SUMMARY:LIB-Z-2: TJ Zikuda Turnov 'B'-TJ Sokol Poniklá
END:VEVENT
BEGIN:VEVENT
UID:36363233-3430-4262-b963-323865396263
DTSTAMP:20260423T030427Z
DESCRIPTION:9/25 SKP Česká Lípa\, z.s. - TJ Sokol Poniklá 1:3 (17\,-24\,-12
 \,-20)
DTSTART;TZID=Europe/Berlin:20221008T100000
DTEND;TZID=Europe/Berlin:20221008T120000
LOCATION:Stará sportovní hala\, Wedrichova 1439 Česká Lípa
SUMMARY:LIB-Z-2: SKP Česká Lípa\, z.s.-TJ Sokol Poniklá
END:VEVENT
BEGIN:VEVENT
UID:35613838-3761-4538-b931-333136356231
DTSTAMP:20260423T030427Z
DESCRIPTION:10/28 SKP Česká Lípa\, z.s. - TJ Sokol Poniklá 0:3 (-9\,-15\,-1
 3)
DTSTART;TZID=Europe/Berlin:20221008T130000
DTEND;TZID=Europe/Berlin:20221008T150000
LOCATION:Stará sportovní hala\, Wedrichova 1439 Česká Lípa
SUMMARY:LIB-Z-2: SKP Česká Lípa\, z.s.-TJ Sokol Poniklá
END:VEVENT
BEGIN:VEVENT
UID:38613035-3062-4066-b661-353364313766
DTSTAMP:20260423T030427Z
DESCRIPTION:17/51 TJ Sokol Mnichovo Hradiště - TJ Sokol Poniklá 3:0 (23\,23
 \,18)
DTSTART;TZID=Europe/Berlin:20230513T100000
DTEND;TZID=Europe/Berlin:20230513T120000
LOCATION:Sokolovna\, Víta Nejedlého 596 Mnichovo Hradiště
SUMMARY:LIB-Z-2: TJ Sokol Mnichovo Hradiště-TJ Sokol Poniklá
END:VEVENT
BEGIN:VEVENT
UID:64326563-3531-4735-a563-346438346631
DTSTAMP:20260423T030427Z
DESCRIPTION:18/54 TJ Sokol Mnichovo Hradiště - TJ Sokol Poniklá 1:3 (14\,-2
 3\,-21\,-22)
DTSTART;TZID=Europe/Berlin:20230513T130000
DTEND;TZID=Europe/Berlin:20230513T150000
LOCATION:Sokolovna\, Víta Nejedlého 596 Mnichovo Hradiště
SUMMARY:LIB-Z-2: TJ Sokol Mnichovo Hradiště-TJ Sokol Poniklá
END:VEVENT
BEGIN:VEVENT
UID:35353965-6235-4634-b661-613539383432
DTSTAMP:20260423T030427Z
DESCRIPTION:21/62 TJ Vysoké nad Jizerou\, z.s. - TJ Sokol Poniklá 1:3 (-17\
 ,-17\,12\,-20)
DTSTART;TZID=Europe/Berlin:20230527T100000
DTEND;TZID=Europe/Berlin:20230527T120000
LOCATION:Sokolovna\, Tyršova 295 Vysoké nad Jizerou
SUMMARY:LIB-Z-2: TJ Vysoké nad Jizerou\, z.s.-TJ Sokol Poniklá
END:VEVENT
BEGIN:VEVENT
UID:39313832-6331-4366-b239-616435316634
DTSTAMP:20260423T030427Z
DESCRIPTION:22/65 TJ Vysoké nad Jizerou\, z.s. - TJ Sokol Poniklá 0:3 (-11\
 ,-14\,-8)
DTSTART;TZID=Europe/Berlin:20230527T130000
DTEND;TZID=Europe/Berlin:20230527T150000
LOCATION:Sokolovna\, Tyršova 295 Vysoké nad Jizerou
SUMMARY:LIB-Z-2: TJ Vysoké nad Jizerou\, z.s.-TJ Sokol Poniklá
END:VEVENT
BEGIN:VEVENT
UID:31656464-6236-4431-a430-396562626464
DTSTAMP:20260423T030427Z
DESCRIPTION:27/79 VK  Malá Skála - TJ Sokol Poniklá 3:0 (15\,23\,17)
DTSTART;TZID=Europe/Berlin:20230617T100000
DTEND;TZID=Europe/Berlin:20230617T120000
LOCATION:tělocvična ZŠ\,  Malá Skála - Vranové 1.díl60
SUMMARY:LIB-Z-2: VK  Malá Skála-TJ Sokol Poniklá
END:VEVENT
BEGIN:VEVENT
UID:65613936-3062-4436-a265-303261626237
DTSTAMP:20260423T030427Z
DESCRIPTION:28/82 VK  Malá Skála - TJ Sokol Poniklá 3:0 (15\,27\,17)
DTSTART;TZID=Europe/Berlin:20230617T130000
DTEND;TZID=Europe/Berlin:20230617T150000
LOCATION:tělocvična ZŠ\,  Malá Skála - Vranové 1.díl60
SUMMARY:LIB-Z-2: VK  Malá Skála-TJ Sokol Poniklá
END:VEVENT
END:VCALENDAR
