BEGIN:VCALENDAR
VERSION:2.0
PRODID:-//ČEZ Karlovarsko78965//NONSGML kigkonsult.se iCalcreator 2.41.80//
CALSCALE:GREGORIAN
UID:66613564-3435-4264-b962-303563623966
BEGIN:VEVENT
UID:66336163-6330-4531-a635-376436646165
DTSTAMP:20260421T144835Z
DESCRIPTION:1/11006 Karlovarsko - Beskydy 3:0 (13\,11\,23)
DTSTART;TZID=Europe/Berlin:20220924T180000
DTEND;TZID=Europe/Berlin:20220924T200000
LOCATION:Mattoni Arena Hala míčových sportů\, Západní 1812 Karlovy Vary
SUMMARY:EX-M: Karlovarsko-Beskydy
END:VEVENT
BEGIN:VEVENT
UID:33386237-6538-4434-a361-636635653564
DTSTAMP:20260421T144835Z
DESCRIPTION:3/11017 Karlovarsko - Ústí n. L. 3:0 (17\,19\,23)
DTSTART;TZID=Europe/Berlin:20221001T180000
DTEND;TZID=Europe/Berlin:20221001T200000
LOCATION:Mattoni Arena Hala míčových sportů\, Západní 1812 Karlovy Vary
SUMMARY:EX-M: Karlovarsko-Ústí n. L.
END:VEVENT
BEGIN:VEVENT
UID:38363236-6666-4338-b563-386633323361
DTSTAMP:20260421T144835Z
DESCRIPTION:5/11028 Karlovarsko - O. Voda 3:1 (21\,-22\,21\,25)
DTSTART;TZID=Europe/Berlin:20221008T180000
DTEND;TZID=Europe/Berlin:20221008T200000
LOCATION:Mattoni Arena Hala míčových sportů\, Západní 1812 Karlovy Vary
SUMMARY:EX-M: Karlovarsko-O. Voda
END:VEVENT
BEGIN:VEVENT
UID:31306661-3036-4936-a134-323938643738
DTSTAMP:20260421T144835Z
DESCRIPTION:7/11039 Karlovarsko - Č. Budějovice 3:2 (26\,-21\,20\,-18\,13)
DTSTART;TZID=Europe/Berlin:20221019T180000
DTEND;TZID=Europe/Berlin:20221019T200000
LOCATION:Mattoni Arena Hala míčových sportů\, Západní 1812 Karlovy Vary
SUMMARY:EX-M: Karlovarsko-Č. Budějovice
END:VEVENT
BEGIN:VEVENT
UID:37346337-6261-4036-a162-613664623331
DTSTAMP:20260421T144835Z
DESCRIPTION:9/11051 Karlovarsko - Lvi 3:2 (16\,26\,-19\,-22\,10)
DTSTART;TZID=Europe/Berlin:20221029T180000
DTEND;TZID=Europe/Berlin:20221029T200000
LOCATION:Mattoni Arena Hala míčových sportů\, Západní 1812 Karlovy Vary
SUMMARY:EX-M: Karlovarsko-Lvi
END:VEVENT
BEGIN:VEVENT
UID:32333736-3762-4461-a135-336231376236
DTSTAMP:20260421T144835Z
DESCRIPTION:11/11062 Karlovarsko - Kladno 3:0 (14\,18\,21)\nmíče MIKASA
DTSTART;TZID=Europe/Berlin:20221112T180000
DTEND;TZID=Europe/Berlin:20221112T200000
LOCATION:Mattoni Arena Hala míčových sportů\, Západní 1812 Karlovy Vary
SUMMARY:EX-M: Karlovarsko-Kladno
END:VEVENT
BEGIN:VEVENT
UID:38613439-3431-4339-b535-663532613234
DTSTAMP:20260421T144835Z
DESCRIPTION:13/11073 Karlovarsko - Ostrava 3:0 (14\,17\,15)\nmíče MIKASA
DTSTART;TZID=Europe/Berlin:20221126T180000
DTEND;TZID=Europe/Berlin:20221126T200000
LOCATION:Mattoni Arena Hala míčových sportů\, Západní 1812 Karlovy Vary
SUMMARY:EX-M: Karlovarsko-Ostrava
END:VEVENT
BEGIN:VEVENT
UID:63633035-6463-4537-a639-306261303463
DTSTAMP:20260421T144835Z
DESCRIPTION:15/11086 Karlovarsko - Liberec 1:3 (-23\,-19\,21\,-22)\nmíče MI
 KASA
DTSTART;TZID=Europe/Berlin:20221210T180000
DTEND;TZID=Europe/Berlin:20221210T200000
LOCATION:Mattoni Arena Hala míčových sportů\, Západní 1812 Karlovy Vary
SUMMARY:EX-M: Karlovarsko-Liberec
END:VEVENT
BEGIN:VEVENT
UID:39383664-3264-4634-a263-343738323432
DTSTAMP:20260421T144835Z
DESCRIPTION:17/11099 Karlovarsko - Brno 3:0 (22\,21\,21)
DTSTART;TZID=Europe/Berlin:20221221T180000
DTEND;TZID=Europe/Berlin:20221221T200000
LOCATION:Mattoni Arena Hala míčových sportů\, Západní 1812 Karlovy Vary
SUMMARY:EX-M: Karlovarsko-Brno
END:VEVENT
BEGIN:VEVENT
UID:36393534-3830-4437-b732-363665363333
DTSTAMP:20260421T144835Z
DESCRIPTION:19/11112 Karlovarsko - Příbram 3:1 (13\,19\,-27\,11)\nmíče MIKA
 SA
DTSTART;TZID=Europe/Berlin:20230107T180000
DTEND;TZID=Europe/Berlin:20230107T200000
LOCATION:Mattoni Arena Hala míčových sportů\, Západní 1812 Karlovy Vary
SUMMARY:EX-M: Karlovarsko-Příbram
END:VEVENT
BEGIN:VEVENT
UID:66643865-3837-4535-a662-373762646632
DTSTAMP:20260421T144835Z
DESCRIPTION:23/11137 Karlovarsko - Zlín 3:0 (25\,13\,19)\nmíče MIKASA
DTSTART;TZID=Europe/Berlin:20230204T180000
DTEND;TZID=Europe/Berlin:20230204T200000
LOCATION:Mattoni Arena Hala míčových sportů\, Západní 1812 Karlovy Vary
SUMMARY:EX-M: Karlovarsko-Zlín
END:VEVENT
BEGIN:VEVENT
UID:39333966-3534-4232-b131-343762376337
DTSTAMP:20260421T144835Z
DESCRIPTION:25/11150 Karlovarsko - Benátky n. J. 3:0 (19\,18\,16)
DTSTART;TZID=Europe/Berlin:20230218T180000
DTEND;TZID=Europe/Berlin:20230218T200000
LOCATION:Mattoni Arena Hala míčových sportů\, Západní 1812 Karlovy Vary
SUMMARY:EX-M: Karlovarsko-Benátky n. J.
END:VEVENT
BEGIN:VEVENT
UID:33386463-3665-4561-b030-626236663761
DTSTAMP:20260421T144835Z
DESCRIPTION:2/11008 Liberec - Karlovarsko 2:3 (-18\,-26\,12\,23\,-11)
DTSTART;TZID=Europe/Berlin:20220929T180000
DTEND;TZID=Europe/Berlin:20220929T200000
LOCATION:Dukla Liberec\, Jeronýmova 558 Liberec - Liberec VII-Horní Růžodol
SUMMARY:EX-M: Liberec-Karlovarsko
END:VEVENT
BEGIN:VEVENT
UID:62663138-3635-4465-a534-333138643866
DTSTAMP:20260421T144835Z
DESCRIPTION:4/11021 Brno - Karlovarsko 0:3 (-29\,-22\,-20)
DTSTART;TZID=Europe/Berlin:20221005T193000
DTEND;TZID=Europe/Berlin:20221005T213000
LOCATION:TJ Sokol Brno I\, Kounicova 686 Brno - Veveří
SUMMARY:EX-M: Brno-Karlovarsko
END:VEVENT
BEGIN:VEVENT
UID:34613762-3233-4238-b831-393363393664
DTSTAMP:20260421T144835Z
DESCRIPTION:6/11034 Příbram - Karlovarsko 0:3 (-18\,-22\,-19)
DTSTART;TZID=Europe/Berlin:20221014T180000
DTEND;TZID=Europe/Berlin:20221014T200000
LOCATION:sportovní hala Příbram\, Legionářů 378 Příbram - Příbram VII
SUMMARY:EX-M: Příbram-Karlovarsko
END:VEVENT
BEGIN:VEVENT
UID:63353866-6631-4335-a561-373131313663
DTSTAMP:20260421T144835Z
DESCRIPTION:10/11059 Zlín - Karlovarsko 1:3 (-15\,-19\,25\,-20)\nmíče MIKAS
 A
DTSTART;TZID=Europe/Berlin:20221105T170000
DTEND;TZID=Europe/Berlin:20221105T190000
LOCATION:Sportovní hala Datart Zlín\, U Zimního stadionu 4286 Zlín
SUMMARY:EX-M: Zlín-Karlovarsko
END:VEVENT
BEGIN:VEVENT
UID:62326330-3064-4961-a333-643536623938
DTSTAMP:20260421T144835Z
DESCRIPTION:12/11072 Benátky n. J. - Karlovarsko 0:3 (-18\,-15\,-23)
DTSTART;TZID=Europe/Berlin:20221119T180000
DTEND;TZID=Europe/Berlin:20221119T200000
LOCATION:Nibe aréna\, městská sportovní hala\, 5. května 746 Benátky nad Ji
 zerou - Benátky nad Jizerou II
SUMMARY:EX-M: Benátky n. J.-Karlovarsko
END:VEVENT
BEGIN:VEVENT
UID:33313234-3832-4566-b565-393538326438
DTSTAMP:20260421T144835Z
DESCRIPTION:14/11084 Beskydy - Karlovarsko 0:3 (-17\,-13\,-15)
DTSTART;TZID=Europe/Berlin:20221203T170000
DTEND;TZID=Europe/Berlin:20221203T190000
LOCATION:ZŠ Pionýrů 400 Frýdek-Místek\, Pionýrů 400 Frýdek-Místek - Místek
SUMMARY:EX-M: Beskydy-Karlovarsko
END:VEVENT
BEGIN:VEVENT
UID:30643264-6563-4130-b737-393661623038
DTSTAMP:20260421T144835Z
DESCRIPTION:16/11095 Ústí n. L. - Karlovarsko 1:3 (22\,-11\,-19\,-14)
DTSTART;TZID=Europe/Berlin:20221218T170000
DTEND;TZID=Europe/Berlin:20221218T190000
LOCATION:Sportcentrum SLUNETA\, Jateční 1026 Ústí nad Labem - Klíše
SUMMARY:EX-M: Ústí n. L.-Karlovarsko
END:VEVENT
BEGIN:VEVENT
UID:62626666-6661-4130-b433-303464393565
DTSTAMP:20260421T144835Z
DESCRIPTION:18/11106 O. Voda - Karlovarsko 0:3 (-24\,-19\,-24)
DTSTART;TZID=Europe/Berlin:20221230T180000
DTEND;TZID=Europe/Berlin:20221230T200000
LOCATION:Sportovní hala\, Ke Stadionu 375 Odolena Voda
SUMMARY:EX-M: O. Voda-Karlovarsko
END:VEVENT
BEGIN:VEVENT
UID:61386365-3162-4166-b238-613964306136
DTSTAMP:20260421T144835Z
DESCRIPTION:20/11117 Č. Budějovice - Karlovarsko 3:2 (19\,-24\,14\,-21\,15)
 \nmíče MIKASA
DTSTART;TZID=Europe/Berlin:20230114T180000
DTEND;TZID=Europe/Berlin:20230114T200000
LOCATION:Sportovní hala\, Stromovka 1216 České Budějovice - České Budějovic
 e 2
SUMMARY:EX-M: Č. Budějovice-Karlovarsko
END:VEVENT
BEGIN:VEVENT
UID:31623831-3964-4833-b266-393532356130
DTSTAMP:20260421T144835Z
DESCRIPTION:22/11129 Lvi - Karlovarsko 3:2 (22\,-19\,-16\,20\,13)
DTSTART;TZID=Europe/Berlin:20230128T180000
DTEND;TZID=Europe/Berlin:20230128T200000
LOCATION:Unyp Aréna Sparta Praha Podvinný Mlýn \, Kovanecká 2405 Praha - Li
 beň
SUMMARY:EX-M: Lvi-Karlovarsko
END:VEVENT
BEGIN:VEVENT
UID:30666139-6364-4763-a166-376561633830
DTSTAMP:20260421T144835Z
DESCRIPTION:24/11140 Kladno - Karlovarsko 1:3 (-23\,-22\,22\,-21)\nmíče MIK
 ASA
DTSTART;TZID=Europe/Berlin:20230211T180000
DTEND;TZID=Europe/Berlin:20230211T200000
LOCATION:Kladenská sportovní hala\, Sportovců 817 Kladno - Rozdělov
SUMMARY:EX-M: Kladno-Karlovarsko
END:VEVENT
BEGIN:VEVENT
UID:36643662-3764-4165-a436-306466623162
DTSTAMP:20260421T144835Z
DESCRIPTION:26/11151 Ostrava - Karlovarsko 0:3 (-17\,-15\,-22)
DTSTART;TZID=Europe/Berlin:20230304T170000
DTEND;TZID=Europe/Berlin:20230304T190000
LOCATION:Hala Sareza\, Hrušovská 2953 Ostrava - Moravská Ostrava
SUMMARY:EX-M: Ostrava-Karlovarsko
END:VEVENT
BEGIN:VEVENT
UID:37326162-3831-4763-b233-303232356535
DTSTAMP:20260421T144835Z
DESCRIPTION:4/10013 Karlovarsko - Lvi 3:2 (21\,-21\,22\,-22\,15)
DTSTART;TZID=Europe/Berlin:20230119T180000
DTEND;TZID=Europe/Berlin:20230119T200000
LOCATION:Mattoni Arena Hala míčových sportů\, Západní 1812 Karlovy Vary
SUMMARY:CP-M: Karlovarsko-Lvi
END:VEVENT
BEGIN:VEVENT
UID:65666633-3365-4635-a536-626162363139
DTSTAMP:20260421T144835Z
DESCRIPTION:5/10018 Karlovarsko - Č. Budějovice 3:0 (18\,19\,21)\nSemifinal
 e
DTSTART;TZID=Europe/Berlin:20230226T193000
DTEND;TZID=Europe/Berlin:20230226T213000
LOCATION:Klimeška\, Čáslavská 274 Kutná Hora - Karlov
SUMMARY:CP-M: Karlovarsko-Č. Budějovice
END:VEVENT
BEGIN:VEVENT
UID:66386166-3534-4363-b333-623665646436
DTSTAMP:20260421T144835Z
DESCRIPTION:6/10019 Liberec - Karlovarsko 3:0 (23\,24\,26)\nFinále
DTSTART;TZID=Europe/Berlin:20230227T171000
DTEND;TZID=Europe/Berlin:20230227T191000
LOCATION:Klimeška\, Čáslavská 274 Kutná Hora - Karlov
SUMMARY:CP-M: Liberec-Karlovarsko
END:VEVENT
BEGIN:VEVENT
UID:36643036-6135-4663-b530-613538316261
DTSTAMP:20260421T144835Z
DESCRIPTION:1/19001 Karlovarsko - Č. Budějovice 3:0 (17\,20\,21)\nTV
DTSTART;TZID=Europe/Berlin:20220919T194500
DTEND;TZID=Europe/Berlin:20220919T214500
LOCATION:Sportovní hala Na Střelnici\, Pražská 2162 Svitavy - Předměstí
SUMMARY:CSP-M: Karlovarsko-Č. Budějovice
END:VEVENT
BEGIN:VEVENT
UID:63383866-6236-4239-a230-363335636362
DTSTAMP:20260421T144835Z
DESCRIPTION:2/11163 Karlovarsko - Brno 3:2 (-22\,20\,22\,-20\,11)\nČtvrtfin
 ále
DTSTART;TZID=Europe/Berlin:20230317T180000
DTEND;TZID=Europe/Berlin:20230317T200000
LOCATION:Mattoni Arena Hala míčových sportů\, Západní 1812 Karlovy Vary
SUMMARY:EX-M-I: Karlovarsko-Brno
END:VEVENT
BEGIN:VEVENT
UID:64666463-6561-4732-a165-376638643065
DTSTAMP:20260421T144835Z
DESCRIPTION:2/11171 Karlovarsko - Brno 3:0 (16\,22\,19)\nČtvrtfinále
DTSTART;TZID=Europe/Berlin:20230323T180000
DTEND;TZID=Europe/Berlin:20230323T200000
LOCATION:Mattoni Arena Hala míčových sportů\, Západní 1812 Karlovy Vary
SUMMARY:EX-M-I: Karlovarsko-Brno
END:VEVENT
BEGIN:VEVENT
UID:38313630-3065-4464-a161-366161393231
DTSTAMP:20260421T144835Z
DESCRIPTION:3/11183 Karlovarsko - Lvi 2:3 (22\,-21\,21\,-15\,-15)\nSemifiná
 le\, TV
DTSTART;TZID=Europe/Berlin:20230403T170000
DTEND;TZID=Europe/Berlin:20230403T190000
LOCATION:Mattoni Arena Hala míčových sportů\, Západní 1812 Karlovy Vary
SUMMARY:EX-M-I: Karlovarsko-Lvi
END:VEVENT
BEGIN:VEVENT
UID:32643865-6436-4630-a233-383938616439
DTSTAMP:20260421T144835Z
DESCRIPTION:3/11187 Karlovarsko - Lvi 3:0 (20\,21\,21)\nSemifinále\, TV
DTSTART;TZID=Europe/Berlin:20230411T170000
DTEND;TZID=Europe/Berlin:20230411T190000
LOCATION:Mattoni Arena Hala míčových sportů\, Západní 1812 Karlovy Vary
SUMMARY:EX-M-I: Karlovarsko-Lvi
END:VEVENT
BEGIN:VEVENT
UID:62633962-3331-4434-b630-396130356264
DTSTAMP:20260421T144835Z
DESCRIPTION:4/11193 Karlovarsko - Liberec 3:1 (17\,-27\,15\,18)\nO 3. místo
DTSTART;TZID=Europe/Berlin:20230423T180000
DTEND;TZID=Europe/Berlin:20230423T200000
LOCATION:Mattoni Arena Hala míčových sportů\, Západní 1812 Karlovy Vary
SUMMARY:EX-M-I: Karlovarsko-Liberec
END:VEVENT
BEGIN:VEVENT
UID:62363335-3538-4563-a630-643539613837
DTSTAMP:20260421T144835Z
DESCRIPTION:2/11167 Brno - Karlovarsko 0:3 (-16\,-19\,-23)\nČtvrtfinále
DTSTART;TZID=Europe/Berlin:20230320T193000
DTEND;TZID=Europe/Berlin:20230320T213000
LOCATION:TJ Sokol Brno I\, Kounicova 686 Brno - Veveří
SUMMARY:EX-M-I: Brno-Karlovarsko
END:VEVENT
BEGIN:VEVENT
UID:37646461-6538-4761-b566-636336353566
DTSTAMP:20260421T144835Z
DESCRIPTION:3/11185 Lvi - Karlovarsko 3:0 (26\,21\,22)\nSemifinále
DTSTART;TZID=Europe/Berlin:20230407T170000
DTEND;TZID=Europe/Berlin:20230407T190000
LOCATION:Unyp Aréna Sparta Praha Podvinný Mlýn \, Kovanecká 2405 Praha - Li
 beň
SUMMARY:EX-M-I: Lvi-Karlovarsko
END:VEVENT
BEGIN:VEVENT
UID:63626464-6366-4561-b632-363336623833
DTSTAMP:20260421T144835Z
DESCRIPTION:3/11189 Lvi - Karlovarsko 3:2 (22\,21\,-14\,-16\,15)\nSemifinál
 e
DTSTART;TZID=Europe/Berlin:20230414T180000
DTEND;TZID=Europe/Berlin:20230414T200000
LOCATION:Unyp Aréna Sparta Praha Podvinný Mlýn \, Kovanecká 2405 Praha - Li
 beň
SUMMARY:EX-M-I: Lvi-Karlovarsko
END:VEVENT
BEGIN:VEVENT
UID:66616334-3366-4038-b430-653238646634
DTSTAMP:20260421T144835Z
DESCRIPTION:4/11195 Liberec - Karlovarsko 0:3 (-19\,-23\,-21)\nO 3. místo
DTSTART;TZID=Europe/Berlin:20230426T180000
DTEND;TZID=Europe/Berlin:20230426T200000
LOCATION:Dukla Liberec\, Jeronýmova 558 Liberec - Liberec VII-Horní Růžodol
SUMMARY:EX-M-I: Liberec-Karlovarsko
END:VEVENT
END:VCALENDAR
