BEGIN:VCALENDAR
VERSION:2.0
PRODID:-//VK Lvi Praha78968//NONSGML kigkonsult.se iCalcreator 2.41.80//
CALSCALE:GREGORIAN
UID:65616632-3434-4264-a235-386539646133
BEGIN:VEVENT
UID:38323034-3531-4036-a535-333135616134
DTSTAMP:20260421T144757Z
DESCRIPTION:1/11002 Lvi - O. Voda 0:3 (-24\,-17\,-19)
DTSTART;TZID=Europe/Berlin:20220925T170000
DTEND;TZID=Europe/Berlin:20220925T190000
LOCATION:Unyp Aréna Sparta Praha Podvinný Mlýn \, Kovanecká 2405 Praha - Li
 beň
SUMMARY:EX-M: Lvi-O. Voda
END:VEVENT
BEGIN:VEVENT
UID:31306531-3264-4763-b061-316362373232
DTSTAMP:20260421T144757Z
DESCRIPTION:3/11013 Lvi - Č. Budějovice 3:0 (23\,19\,19)\nTV
DTSTART;TZID=Europe/Berlin:20221003T170000
DTEND;TZID=Europe/Berlin:20221003T190000
LOCATION:Unyp Aréna Sparta Praha Podvinný Mlýn \, Kovanecká 2405 Praha - Li
 beň
SUMMARY:EX-M: Lvi-Č. Budějovice
END:VEVENT
BEGIN:VEVENT
UID:61666562-3331-4766-a237-663030383234
DTSTAMP:20260421T144757Z
DESCRIPTION:5/11025 Lvi - Ostrava 3:0 (21\,21\,17)
DTSTART;TZID=Europe/Berlin:20221009T160000
DTEND;TZID=Europe/Berlin:20221009T180000
LOCATION:Unyp Aréna Sparta Praha Podvinný Mlýn \, Kovanecká 2405 Praha - Li
 beň
SUMMARY:EX-M: Lvi-Ostrava
END:VEVENT
BEGIN:VEVENT
UID:36316439-6239-4362-b639-623633356164
DTSTAMP:20260421T144757Z
DESCRIPTION:6/11036 Lvi - Zlín 2:3 (-21\,-23\,19\,14\,-9)
DTSTART;TZID=Europe/Berlin:20221016T160000
DTEND;TZID=Europe/Berlin:20221016T180000
LOCATION:Unyp Aréna Sparta Praha Podvinný Mlýn \, Kovanecká 2405 Praha - Li
 beň
SUMMARY:EX-M: Lvi-Zlín
END:VEVENT
BEGIN:VEVENT
UID:38343038-3339-4939-b833-353265356666
DTSTAMP:20260421T144757Z
DESCRIPTION:8/11047 Lvi - Benátky n. J. 3:0 (23\,10\,19)
DTSTART;TZID=Europe/Berlin:20221022T180000
DTEND;TZID=Europe/Berlin:20221022T200000
LOCATION:Unyp Aréna Sparta Praha Podvinný Mlýn \, Kovanecká 2405 Praha - Li
 beň
SUMMARY:EX-M: Lvi-Benátky n. J.
END:VEVENT
BEGIN:VEVENT
UID:30633439-6634-4332-b862-656566366163
DTSTAMP:20260421T144757Z
DESCRIPTION:10/11058 Lvi - Beskydy 3:0 (20\,20\,12)\nmíče MIKASA
DTSTART;TZID=Europe/Berlin:20221106T160000
DTEND;TZID=Europe/Berlin:20221106T180000
LOCATION:Unyp Aréna Sparta Praha Podvinný Mlýn \, Kovanecká 2405 Praha - Li
 beň
SUMMARY:EX-M: Lvi-Beskydy
END:VEVENT
BEGIN:VEVENT
UID:38336165-6564-4432-b732-393337623630
DTSTAMP:20260421T144757Z
DESCRIPTION:12/11069 Lvi - Ústí n. L. 3:1 (18\,-23\,18\,19)
DTSTART;TZID=Europe/Berlin:20221121T180000
DTEND;TZID=Europe/Berlin:20221121T200000
LOCATION:Unyp Aréna Sparta Praha Podvinný Mlýn \, Kovanecká 2405 Praha - Li
 beň
SUMMARY:EX-M: Lvi-Ústí n. L.
END:VEVENT
BEGIN:VEVENT
UID:38366666-3665-4631-b532-663131373563
DTSTAMP:20260421T144757Z
DESCRIPTION:15/11090 Lvi - Příbram 3:1 (19\,32\,-22\,22)
DTSTART;TZID=Europe/Berlin:20221211T190000
DTEND;TZID=Europe/Berlin:20221211T210000
LOCATION:Unyp Aréna Sparta Praha Podvinný Mlýn \, Kovanecká 2405 Praha - Li
 beň
SUMMARY:EX-M: Lvi-Příbram
END:VEVENT
BEGIN:VEVENT
UID:66356335-6634-4366-a136-306662303436
DTSTAMP:20260421T144757Z
DESCRIPTION:20/11116 Lvi - Kladno 2:3 (-15\,26\,-21\,22\,-10)
DTSTART;TZID=Europe/Berlin:20230114T180000
DTEND;TZID=Europe/Berlin:20230114T200000
LOCATION:Unyp Aréna Sparta Praha Podvinný Mlýn \, Kovanecká 2405 Praha - Li
 beň
SUMMARY:EX-M: Lvi-Kladno
END:VEVENT
BEGIN:VEVENT
UID:37613161-3364-4433-b064-303063356164
DTSTAMP:20260421T144757Z
DESCRIPTION:22/11129 Lvi - Karlovarsko 3:2 (22\,-19\,-16\,20\,13)
DTSTART;TZID=Europe/Berlin:20230128T180000
DTEND;TZID=Europe/Berlin:20230128T200000
LOCATION:Unyp Aréna Sparta Praha Podvinný Mlýn \, Kovanecká 2405 Praha - Li
 beň
SUMMARY:EX-M: Lvi-Karlovarsko
END:VEVENT
BEGIN:VEVENT
UID:35613736-3337-4363-b766-353832656136
DTSTAMP:20260421T144757Z
DESCRIPTION:24/11142 Lvi - Liberec 3:0 (23\,17\,22)
DTSTART;TZID=Europe/Berlin:20230211T180000
DTEND;TZID=Europe/Berlin:20230211T200000
LOCATION:Unyp Aréna Sparta Praha Podvinný Mlýn \, Kovanecká 2405 Praha - Li
 beň
SUMMARY:EX-M: Lvi-Liberec
END:VEVENT
BEGIN:VEVENT
UID:36343561-3733-4866-b062-643262643036
DTSTAMP:20260421T144757Z
DESCRIPTION:26/11155 Lvi - Brno 3:2 (-22\,-19\,16\,18\,9)
DTSTART;TZID=Europe/Berlin:20230302T180000
DTEND;TZID=Europe/Berlin:20230302T200000
LOCATION:Unyp Aréna Sparta Praha Podvinný Mlýn \, Kovanecká 2405 Praha - Li
 beň
SUMMARY:EX-M: Lvi-Brno
END:VEVENT
BEGIN:VEVENT
UID:38303064-3137-4262-b939-323864653665
DTSTAMP:20260421T144757Z
DESCRIPTION:2/11012 Příbram - Lvi 1:3 (21\,-16\,-27\,-20)
DTSTART;TZID=Europe/Berlin:20220929T180000
DTEND;TZID=Europe/Berlin:20220929T200000
LOCATION:sportovní hala Příbram\, Legionářů 378 Příbram - Příbram VII
SUMMARY:EX-M: Příbram-Lvi
END:VEVENT
BEGIN:VEVENT
UID:64626234-6234-4233-a330-363562383662
DTSTAMP:20260421T144757Z
DESCRIPTION:7/11038 Kladno - Lvi 2:3 (21\,-23\,-23\,22\,-11)
DTSTART;TZID=Europe/Berlin:20221020T180000
DTEND;TZID=Europe/Berlin:20221020T200000
LOCATION:Kladenská sportovní hala\, Sportovců 817 Kladno - Rozdělov
SUMMARY:EX-M: Kladno-Lvi
END:VEVENT
BEGIN:VEVENT
UID:31336330-3966-4632-b866-353165366136
DTSTAMP:20260421T144757Z
DESCRIPTION:9/11051 Karlovarsko - Lvi 3:2 (16\,26\,-19\,-22\,10)
DTSTART;TZID=Europe/Berlin:20221029T180000
DTEND;TZID=Europe/Berlin:20221029T200000
LOCATION:Mattoni Arena Hala míčových sportů\, Západní 1812 Karlovy Vary
SUMMARY:EX-M: Karlovarsko-Lvi
END:VEVENT
BEGIN:VEVENT
UID:66613134-3061-4939-a332-616166633331
DTSTAMP:20260421T144757Z
DESCRIPTION:11/11064 Liberec - Lvi 3:1 (12\,22\,-23\,18)\nmíče MIKASA
DTSTART;TZID=Europe/Berlin:20221112T183000
DTEND;TZID=Europe/Berlin:20221112T203000
LOCATION:Dukla Liberec\, Jeronýmova 558 Liberec - Liberec VII-Horní Růžodol
SUMMARY:EX-M: Liberec-Lvi
END:VEVENT
BEGIN:VEVENT
UID:61623666-3764-4139-a466-343231613431
DTSTAMP:20260421T144757Z
DESCRIPTION:13/11077 Brno - Lvi 1:3 (-11\,22\,-26\,-24)
DTSTART;TZID=Europe/Berlin:20221126T160000
DTEND;TZID=Europe/Berlin:20221126T180000
LOCATION:TJ Sokol Brno I\, Kounicova 686 Brno - Veveří
SUMMARY:EX-M: Brno-Lvi
END:VEVENT
BEGIN:VEVENT
UID:37663065-6463-4138-a334-616537346666
DTSTAMP:20260421T144757Z
DESCRIPTION:14/11080 O. Voda - Lvi 1:3 (22\,-22\,-21\,-17)
DTSTART;TZID=Europe/Berlin:20221203T180000
DTEND;TZID=Europe/Berlin:20221203T200000
LOCATION:Sportovní hala\, Ke Stadionu 375 Odolena Voda
SUMMARY:EX-M: O. Voda-Lvi
END:VEVENT
BEGIN:VEVENT
UID:39653862-3361-4339-a361-303430306438
DTSTAMP:20260421T144757Z
DESCRIPTION:16/11091 Č. Budějovice - Lvi 2:3 (-22\,16\,-18\,17\,-10)
DTSTART;TZID=Europe/Berlin:20221217T180000
DTEND;TZID=Europe/Berlin:20221217T200000
LOCATION:Sportovní hala\, Stromovka 1216 České Budějovice - České Budějovic
 e 2
SUMMARY:EX-M: Č. Budějovice-Lvi
END:VEVENT
BEGIN:VEVENT
UID:65633932-3230-4635-b762-383532313862
DTSTAMP:20260421T144757Z
DESCRIPTION:18/11103 Ostrava - Lvi 1:3 (22\,-15\,-18\,-20)
DTSTART;TZID=Europe/Berlin:20221229T170000
DTEND;TZID=Europe/Berlin:20221229T190000
LOCATION:Hala Sareza\, Hrušovská 2953 Ostrava - Moravská Ostrava
SUMMARY:EX-M: Ostrava-Lvi
END:VEVENT
BEGIN:VEVENT
UID:39353535-6231-4838-a564-306333313137
DTSTAMP:20260421T144757Z
DESCRIPTION:19/11114 Zlín - Lvi 0:3 (-19\,-17\,-23)
DTSTART;TZID=Europe/Berlin:20230107T170000
DTEND;TZID=Europe/Berlin:20230107T190000
LOCATION:Sportovní hala Datart Zlín\, U Zimního stadionu 4286 Zlín
SUMMARY:EX-M: Zlín-Lvi
END:VEVENT
BEGIN:VEVENT
UID:62666662-3134-4966-a464-656265373365
DTSTAMP:20260421T144757Z
DESCRIPTION:21/11125 Benátky n. J. - Lvi 1:3 (23\,-15\,-24\,-11)
DTSTART;TZID=Europe/Berlin:20230121T180000
DTEND;TZID=Europe/Berlin:20230121T200000
LOCATION:Nibe aréna\, městská sportovní hala\, 5. května 746 Benátky nad Ji
 zerou - Benátky nad Jizerou II
SUMMARY:EX-M: Benátky n. J.-Lvi
END:VEVENT
BEGIN:VEVENT
UID:63333561-3133-4734-b331-303239316133
DTSTAMP:20260421T144757Z
DESCRIPTION:23/11136 Beskydy - Lvi 2:3 (-17\,23\,22\,-18\,-10)
DTSTART;TZID=Europe/Berlin:20230204T193000
DTEND;TZID=Europe/Berlin:20230204T213000
LOCATION:ZŠ Pionýrů 400 Frýdek-Místek\, Pionýrů 400 Frýdek-Místek - Místek
SUMMARY:EX-M: Beskydy-Lvi
END:VEVENT
BEGIN:VEVENT
UID:63386433-3261-4663-a332-333265313232
DTSTAMP:20260421T144757Z
DESCRIPTION:25/11147 Ústí n. L. - Lvi 1:3 (-23\,-11\,23\,-24)
DTSTART;TZID=Europe/Berlin:20230218T170000
DTEND;TZID=Europe/Berlin:20230218T190000
LOCATION:Sportcentrum SLUNETA\, Jateční 1026 Ústí nad Labem - Klíše
SUMMARY:EX-M: Ústí n. L.-Lvi
END:VEVENT
BEGIN:VEVENT
UID:30343163-6330-4632-a561-346333333463
DTSTAMP:20260421T144757Z
DESCRIPTION:2/10008 Bučovice - Lvi 0:3 (-21\,-23\,-24)
DTSTART;TZID=Europe/Berlin:20221012T190000
DTEND;TZID=Europe/Berlin:20221012T210000
LOCATION:ZŠ Bučovice 710\, Školní 710 Bučovice
SUMMARY:CP-M: Bučovice-Lvi
END:VEVENT
BEGIN:VEVENT
UID:63616539-3864-4833-a365-646166646137
DTSTAMP:20260421T144757Z
DESCRIPTION:3/10012 Zlín - Lvi 0:3 (-17\,-18\,-13)
DTSTART;TZID=Europe/Berlin:20230108T160000
DTEND;TZID=Europe/Berlin:20230108T180000
LOCATION:Sportovní hala Datart Zlín\, U Zimního stadionu 4286 Zlín
SUMMARY:CP-M: Zlín-Lvi
END:VEVENT
BEGIN:VEVENT
UID:31656431-6435-4337-b564-383935373462
DTSTAMP:20260421T144757Z
DESCRIPTION:4/10013 Karlovarsko - Lvi 3:2 (21\,-21\,22\,-22\,15)
DTSTART;TZID=Europe/Berlin:20230119T180000
DTEND;TZID=Europe/Berlin:20230119T200000
LOCATION:Mattoni Arena Hala míčových sportů\, Západní 1812 Karlovy Vary
SUMMARY:CP-M: Karlovarsko-Lvi
END:VEVENT
BEGIN:VEVENT
UID:66336232-6639-4330-a138-656234656663
DTSTAMP:20260421T144757Z
DESCRIPTION:2/11166 Lvi - Kladno 3:2 (-22\,11\,22\,-27\,10)\nČtvrtfinále
DTSTART;TZID=Europe/Berlin:20230317T180000
DTEND;TZID=Europe/Berlin:20230317T200000
LOCATION:Unyp Aréna Sparta Praha Podvinný Mlýn \, Kovanecká 2405 Praha - Li
 beň
SUMMARY:EX-M-I: Lvi-Kladno
END:VEVENT
BEGIN:VEVENT
UID:35323535-3039-4163-a666-346136653538
DTSTAMP:20260421T144757Z
DESCRIPTION:2/11174 Lvi - Kladno 3:0 (19\,20\,24)\nČtvrtfinále\, TV
DTSTART;TZID=Europe/Berlin:20230323T201500
DTEND;TZID=Europe/Berlin:20230323T221500
LOCATION:Unyp Aréna Sparta Praha Podvinný Mlýn \, Kovanecká 2405 Praha - Li
 beň
SUMMARY:EX-M-I: Lvi-Kladno
END:VEVENT
BEGIN:VEVENT
UID:30656536-3464-4638-b062-366138623632
DTSTAMP:20260421T144757Z
DESCRIPTION:3/11185 Lvi - Karlovarsko 3:0 (26\,21\,22)\nSemifinále
DTSTART;TZID=Europe/Berlin:20230407T170000
DTEND;TZID=Europe/Berlin:20230407T190000
LOCATION:Unyp Aréna Sparta Praha Podvinný Mlýn \, Kovanecká 2405 Praha - Li
 beň
SUMMARY:EX-M-I: Lvi-Karlovarsko
END:VEVENT
BEGIN:VEVENT
UID:62643061-6631-4138-b164-653830653036
DTSTAMP:20260421T144757Z
DESCRIPTION:3/11189 Lvi - Karlovarsko 3:2 (22\,21\,-14\,-16\,15)\nSemifinál
 e
DTSTART;TZID=Europe/Berlin:20230414T180000
DTEND;TZID=Europe/Berlin:20230414T200000
LOCATION:Unyp Aréna Sparta Praha Podvinný Mlýn \, Kovanecká 2405 Praha - Li
 beň
SUMMARY:EX-M-I: Lvi-Karlovarsko
END:VEVENT
BEGIN:VEVENT
UID:66373539-3930-4433-b261-653738646632
DTSTAMP:20260421T144757Z
DESCRIPTION:4/11196 Lvi - Č. Budějovice 3:0 (18\,32\,26)\nFinále\, TV
DTSTART;TZID=Europe/Berlin:20230427T170000
DTEND;TZID=Europe/Berlin:20230427T190000
LOCATION:Unyp Aréna Sparta Praha Podvinný Mlýn \, Kovanecká 2405 Praha - Li
 beň
SUMMARY:EX-M-I: Lvi-Č. Budějovice
END:VEVENT
BEGIN:VEVENT
UID:38653930-6539-4237-b539-356130343634
DTSTAMP:20260421T144757Z
DESCRIPTION:4/11199 Lvi - Č. Budějovice 3:1 (21\,16\,-23\,21)\nFinále\, TV
DTSTART;TZID=Europe/Berlin:20230503T170000
DTEND;TZID=Europe/Berlin:20230503T190000
LOCATION:Unyp Aréna Sparta Praha Podvinný Mlýn \, Kovanecká 2405 Praha - Li
 beň
SUMMARY:EX-M-I: Lvi-Č. Budějovice
END:VEVENT
BEGIN:VEVENT
UID:39376234-3462-4466-b361-653235326333
DTSTAMP:20260421T144757Z
DESCRIPTION:2/11170 Kladno - Lvi 3:2 (-16\,22\,22\,-26\,12)\nČtvrtfinále
DTSTART;TZID=Europe/Berlin:20230320T180000
DTEND;TZID=Europe/Berlin:20230320T200000
LOCATION:Kladenská sportovní hala\, Sportovců 817 Kladno - Rozdělov
SUMMARY:EX-M-I: Kladno-Lvi
END:VEVENT
BEGIN:VEVENT
UID:61653439-3165-4331-b265-666361393963
DTSTAMP:20260421T144757Z
DESCRIPTION:2/11178 Kladno - Lvi 1:3 (-32\,-23\,20\,-21)\nČtvrtfinále
DTSTART;TZID=Europe/Berlin:20230326T180000
DTEND;TZID=Europe/Berlin:20230326T200000
LOCATION:Kladenská sportovní hala\, Sportovců 817 Kladno - Rozdělov
SUMMARY:EX-M-I: Kladno-Lvi
END:VEVENT
BEGIN:VEVENT
UID:63623231-3230-4935-b038-653134323461
DTSTAMP:20260421T144757Z
DESCRIPTION:3/11183 Karlovarsko - Lvi 2:3 (22\,-21\,21\,-15\,-15)\nSemifiná
 le\, TV
DTSTART;TZID=Europe/Berlin:20230403T170000
DTEND;TZID=Europe/Berlin:20230403T190000
LOCATION:Mattoni Arena Hala míčových sportů\, Západní 1812 Karlovy Vary
SUMMARY:EX-M-I: Karlovarsko-Lvi
END:VEVENT
BEGIN:VEVENT
UID:37613766-3064-4035-b263-343134363035
DTSTAMP:20260421T144757Z
DESCRIPTION:3/11187 Karlovarsko - Lvi 3:0 (20\,21\,21)\nSemifinále\, TV
DTSTART;TZID=Europe/Berlin:20230411T170000
DTEND;TZID=Europe/Berlin:20230411T190000
LOCATION:Mattoni Arena Hala míčových sportů\, Západní 1812 Karlovy Vary
SUMMARY:EX-M-I: Karlovarsko-Lvi
END:VEVENT
BEGIN:VEVENT
UID:38303534-3138-4365-a562-373830353235
DTSTAMP:20260421T144757Z
DESCRIPTION:4/11194 Č. Budějovice - Lvi 3:0 (23\,21\,19)\nFinále\, TV
DTSTART;TZID=Europe/Berlin:20230424T170000
DTEND;TZID=Europe/Berlin:20230424T190000
LOCATION:Sportovní hala\, Stromovka 1216 České Budějovice - České Budějovic
 e 2
SUMMARY:EX-M-I: Č. Budějovice-Lvi
END:VEVENT
BEGIN:VEVENT
UID:63323266-3839-4537-a563-633033336463
DTSTAMP:20260421T144757Z
DESCRIPTION:4/11198 Č. Budějovice - Lvi 1:3 (-20\,-22\,20\,-22)\nFinále
DTSTART;TZID=Europe/Berlin:20230430T180000
DTEND;TZID=Europe/Berlin:20230430T200000
LOCATION:Sportovní hala\, Stromovka 1216 České Budějovice - České Budějovic
 e 2
SUMMARY:EX-M-I: Č. Budějovice-Lvi
END:VEVENT
END:VCALENDAR
