BEGIN:VCALENDAR
VERSION:2.0
PRODID:-//VK Madeta České Budějovice79000//NONSGML kigkonsult.se iCalcreator 2.41.80//
CALSCALE:GREGORIAN
UID:36656162-3731-4866-b634-343833666538
BEGIN:VEVENT
UID:38633034-3863-4563-b338-366638343937
DTSTAMP:20260422T002613Z
DESCRIPTION:3/22068 Č. Budějovice - Nusle 3:0 (24\,13\,17)
DTSTART;TZID=Europe/Berlin:20220930T190000
DTEND;TZID=Europe/Berlin:20220930T210000
LOCATION:Sportovní hala\, Stromovka 1216 České Budějovice - České Budějovic
 e 2
SUMMARY:1-Z-B: Č. Budějovice-Nusle
END:VEVENT
BEGIN:VEVENT
UID:37343838-3861-4138-b163-343738633034
DTSTAMP:20260422T002613Z
DESCRIPTION:4/22071 Č. Budějovice - Nusle 3:1 (-19\,20\,19\,22)
DTSTART;TZID=Europe/Berlin:20221001T100000
DTEND;TZID=Europe/Berlin:20221001T120000
LOCATION:Sportovní hala\, Stromovka 1216 České Budějovice - České Budějovic
 e 2
SUMMARY:1-Z-B: Č. Budějovice-Nusle
END:VEVENT
BEGIN:VEVENT
UID:39333338-3233-4438-b264-663839353763
DTSTAMP:20260422T002613Z
DESCRIPTION:9/22087 Č. Budějovice - Bižuterie - SG 0:3 (-16\,-23\,-19)
DTSTART;TZID=Europe/Berlin:20221028T190000
DTEND;TZID=Europe/Berlin:20221028T210000
LOCATION:Sportovní hala\, Stromovka 1216 České Budějovice - České Budějovic
 e 2
SUMMARY:1-Z-B: Č. Budějovice-Bižuterie - SG
END:VEVENT
BEGIN:VEVENT
UID:30616631-3662-4238-b637-613534333738
DTSTAMP:20260422T002613Z
DESCRIPTION:10/22090 Č. Budějovice - Bižuterie - SG 0:3 (-22\,-24\,-20)
DTSTART;TZID=Europe/Berlin:20221029T120000
DTEND;TZID=Europe/Berlin:20221029T140000
LOCATION:Sportovní hala\, Stromovka 1216 České Budějovice - České Budějovic
 e 2
SUMMARY:1-Z-B: Č. Budějovice-Bižuterie - SG
END:VEVENT
BEGIN:VEVENT
UID:38346163-6238-4338-b830-313465313935
DTSTAMP:20260422T002613Z
DESCRIPTION:11/22092 Č. Budějovice - Střešovice 0:3 (-22\,-13\,-11)
DTSTART;TZID=Europe/Berlin:20221104T190000
DTEND;TZID=Europe/Berlin:20221104T210000
LOCATION:Sportovní hala\, Stromovka 1216 České Budějovice - České Budějovic
 e 2
SUMMARY:1-Z-B: Č. Budějovice-Střešovice
END:VEVENT
BEGIN:VEVENT
UID:65303837-3432-4834-b732-386331333139
DTSTAMP:20260422T002613Z
DESCRIPTION:12/22095 Č. Budějovice - Střešovice 0:3 (-22\,-15\,-10)
DTSTART;TZID=Europe/Berlin:20221105T113000
DTEND;TZID=Europe/Berlin:20221105T133000
LOCATION:Sportovní hala\, Stromovka 1216 České Budějovice - České Budějovic
 e 2
SUMMARY:1-Z-B: Č. Budějovice-Střešovice
END:VEVENT
BEGIN:VEVENT
UID:36613664-6237-4838-b430-306437626338
DTSTAMP:20260422T002613Z
DESCRIPTION:15/22105 Č. Budějovice - Plzeň 3:1 (-23\,18\,21\,16)
DTSTART;TZID=Europe/Berlin:20221125T190000
DTEND;TZID=Europe/Berlin:20221125T210000
LOCATION:Sportovní hala\, Stromovka 1216 České Budějovice - České Budějovic
 e 2
SUMMARY:1-Z-B: Č. Budějovice-Plzeň
END:VEVENT
BEGIN:VEVENT
UID:39393963-6561-4539-b431-393864313330
DTSTAMP:20260422T002613Z
DESCRIPTION:16/22108 Č. Budějovice - Plzeň 1:3 (19\,-25\,-16\,-18)
DTSTART;TZID=Europe/Berlin:20221126T100000
DTEND;TZID=Europe/Berlin:20221126T120000
LOCATION:ZŠ Oskara Nedbala České Budějovice\, O. Nedbala 882 České Budějovi
 ce - České Budějovice 2
SUMMARY:1-Z-B: Č. Budějovice-Plzeň
END:VEVENT
BEGIN:VEVENT
UID:63376636-6535-4366-a561-376332383134
DTSTAMP:20260422T002613Z
DESCRIPTION:17/22109 Č. Budějovice - Rudolfov 3:0 (20\,22\,24)
DTSTART;TZID=Europe/Berlin:20221202T190000
DTEND;TZID=Europe/Berlin:20221202T210000
LOCATION:Sportovní hala\, Stromovka 1216 České Budějovice - České Budějovic
 e 2
SUMMARY:1-Z-B: Č. Budějovice-Rudolfov
END:VEVENT
BEGIN:VEVENT
UID:30616366-3637-4866-b061-666630376166
DTSTAMP:20260422T002613Z
DESCRIPTION:18/22112 Č. Budějovice - Rudolfov 0:3 (-21\,-21\,-14)
DTSTART;TZID=Europe/Berlin:20221203T100000
DTEND;TZID=Europe/Berlin:20221203T120000
LOCATION:Sportovní hala\, Stromovka 1216 České Budějovice - České Budějovic
 e 2
SUMMARY:1-Z-B: Č. Budějovice-Rudolfov
END:VEVENT
BEGIN:VEVENT
UID:37336166-3839-4737-b764-313633363639
DTSTAMP:20260422T002613Z
DESCRIPTION:1/22062 Střešovice - Č. Budějovice 3:0 (18\,19\,12)
DTSTART;TZID=Europe/Berlin:20220923T180000
DTEND;TZID=Europe/Berlin:20220923T200000
LOCATION:TJ Tatran Střešovice\, Sibeliova 368 Praha - Střešovice
SUMMARY:1-Z-B: Střešovice-Č. Budějovice
END:VEVENT
BEGIN:VEVENT
UID:62393838-3063-4131-b866-663634363866
DTSTAMP:20260422T002613Z
DESCRIPTION:2/22065 Střešovice - Č. Budějovice 3:0 (23\,17\,23)
DTSTART;TZID=Europe/Berlin:20220924T100000
DTEND;TZID=Europe/Berlin:20220924T120000
LOCATION:TJ Tatran Střešovice\, Sibeliova 368 Praha - Střešovice
SUMMARY:1-Z-B: Střešovice-Č. Budějovice
END:VEVENT
BEGIN:VEVENT
UID:34303137-3361-4662-a162-323162323730
DTSTAMP:20260422T002613Z
DESCRIPTION:5/22075 Plzeň - Č. Budějovice 3:2 (21\,-9\,-14\,22\,10)
DTSTART;TZID=Europe/Berlin:20221014T180000
DTEND;TZID=Europe/Berlin:20221014T200000
LOCATION:Městská sportovní hala  -  hala 2\, Úslavská 2357 Plzeň - Východní
  Předměstí
SUMMARY:1-Z-B: Plzeň-Č. Budějovice
END:VEVENT
BEGIN:VEVENT
UID:34393339-3163-4232-a530-363862636534
DTSTAMP:20260422T002613Z
DESCRIPTION:6/22078 Plzeň - Č. Budějovice 0:3 (-23\,-14\,-20)
DTSTART;TZID=Europe/Berlin:20221015T100000
DTEND;TZID=Europe/Berlin:20221015T120000
LOCATION:Městská sportovní hala  -  hala 2\, Úslavská 2357 Plzeň - Východní
  Předměstí
SUMMARY:1-Z-B: Plzeň-Č. Budějovice
END:VEVENT
BEGIN:VEVENT
UID:63336631-3839-4337-a630-663338376135
DTSTAMP:20260422T002613Z
DESCRIPTION:7/22079 Rudolfov - Č. Budějovice 2:3 (21\,-9\,-18\,16\,-13)
DTSTART;TZID=Europe/Berlin:20221021T183000
DTEND;TZID=Europe/Berlin:20221021T203000
LOCATION:Sportovní hala Rudolfov\, Adamovská 511 Rudolfov
SUMMARY:1-Z-B: Rudolfov-Č. Budějovice
END:VEVENT
BEGIN:VEVENT
UID:37643938-3139-4561-b739-663634333939
DTSTAMP:20260422T002613Z
DESCRIPTION:8/22082 Rudolfov - Č. Budějovice 3:1 (-23\,20\,12\,14)
DTSTART;TZID=Europe/Berlin:20221022T100000
DTEND;TZID=Europe/Berlin:20221022T120000
LOCATION:Sportovní hala Rudolfov\, Adamovská 511 Rudolfov
SUMMARY:1-Z-B: Rudolfov-Č. Budějovice
END:VEVENT
BEGIN:VEVENT
UID:33313565-6439-4639-a330-346262623733
DTSTAMP:20260422T002613Z
DESCRIPTION:13/22098 Nusle - Č. Budějovice 1:3 (-19\,-22\,23\,-25)
DTSTART;TZID=Europe/Berlin:20221118T180000
DTEND;TZID=Europe/Berlin:20221118T200000
LOCATION:TJ Sokol Nusle\, Na květnici 700 Praha - Nusle
SUMMARY:1-Z-B: Nusle-Č. Budějovice
END:VEVENT
BEGIN:VEVENT
UID:32393239-3133-4432-a234-643735393931
DTSTAMP:20260422T002613Z
DESCRIPTION:14/22101 Nusle - Č. Budějovice 3:1 (14\,-18\,20\,17)
DTSTART;TZID=Europe/Berlin:20221119T100000
DTEND;TZID=Europe/Berlin:20221119T120000
LOCATION:TJ Sokol Nusle\, Na květnici 700 Praha - Nusle
SUMMARY:1-Z-B: Nusle-Č. Budějovice
END:VEVENT
BEGIN:VEVENT
UID:34616138-3939-4438-a664-363763653037
DTSTAMP:20260422T002613Z
DESCRIPTION:19/22117 Bižuterie - SG - Č. Budějovice 3:1 (21\,-21\,18\,15)
DTSTART;TZID=Europe/Berlin:20221216T190000
DTEND;TZID=Europe/Berlin:20221216T210000
LOCATION:Sokolovna Jablonec nad Nisou\, Fügnerova 1054 Jablonec nad Nisou
SUMMARY:1-Z-B: Bižuterie - SG-Č. Budějovice
END:VEVENT
BEGIN:VEVENT
UID:38323530-3862-4561-a435-613936356565
DTSTAMP:20260422T002613Z
DESCRIPTION:20/22120 Bižuterie - SG - Č. Budějovice 3:0 (19\,13\,21)
DTSTART;TZID=Europe/Berlin:20221217T100000
DTEND;TZID=Europe/Berlin:20221217T120000
LOCATION:Sokolovna Jablonec nad Nisou\, Fügnerova 1054 Jablonec nad Nisou
SUMMARY:1-Z-B: Bižuterie - SG-Č. Budějovice
END:VEVENT
BEGIN:VEVENT
UID:65626662-6230-4532-b731-343737373238
DTSTAMP:20260422T002613Z
DESCRIPTION:1/2 Dobřichovice - Č. Budějovice 3:2 (-23\,-25\,13\,21\,10)
DTSTART;TZID=Europe/Berlin:20220917T133000
DTEND;TZID=Europe/Berlin:20220917T153000
LOCATION:TJ Slavia Hradec Králové\, Víta Nejedlého 1216 Hradec Králové
SUMMARY:CP-Z-A: Dobřichovice-Č. Budějovice
END:VEVENT
BEGIN:VEVENT
UID:64383138-6266-4738-b166-666439333563
DTSTAMP:20260422T002613Z
DESCRIPTION:1/3 H. Králové - Č. Budějovice 3:0 (16\,14\,21)
DTSTART;TZID=Europe/Berlin:20220917T170000
DTEND;TZID=Europe/Berlin:20220917T190000
LOCATION:TJ Slavia Hradec Králové\, Víta Nejedlého 1216 Hradec Králové
SUMMARY:CP-Z-A: H. Králové-Č. Budějovice
END:VEVENT
BEGIN:VEVENT
UID:65663061-6432-4836-a336-363066393961
DTSTAMP:20260422T002613Z
DESCRIPTION:1/22157 Č. Budějovice - Kr. Pole B 3:0 (13\,18\,23)
DTSTART;TZID=Europe/Berlin:20230113T183000
DTEND;TZID=Europe/Berlin:20230113T203000
LOCATION:Sportovní hala\, Stromovka 1216 České Budějovice - České Budějovic
 e 2
SUMMARY:1-Z-II: Č. Budějovice-Kr. Pole B
END:VEVENT
BEGIN:VEVENT
UID:64663536-3736-4661-a231-396265636635
DTSTAMP:20260422T002613Z
DESCRIPTION:2/22160 Č. Budějovice - Kr. Pole B 3:0 (22\,18\,19)
DTSTART;TZID=Europe/Berlin:20230114T120000
DTEND;TZID=Europe/Berlin:20230114T140000
LOCATION:Sportovní hala\, Stromovka 1216 České Budějovice - České Budějovic
 e 2
SUMMARY:1-Z-II: Č. Budějovice-Kr. Pole B
END:VEVENT
BEGIN:VEVENT
UID:63346137-3838-4530-b063-373063646639
DTSTAMP:20260422T002613Z
DESCRIPTION:5/22169 Č. Budějovice - Hronov 3:1 (-17\,20\,23\,19)
DTSTART;TZID=Europe/Berlin:20230127T190000
DTEND;TZID=Europe/Berlin:20230127T210000
LOCATION:Sportovní hala\, Stromovka 1216 České Budějovice - České Budějovic
 e 2
SUMMARY:1-Z-II: Č. Budějovice-Hronov
END:VEVENT
BEGIN:VEVENT
UID:61626463-3336-4136-b038-633064366466
DTSTAMP:20260422T002613Z
DESCRIPTION:6/22172 Č. Budějovice - Hronov 3:0 (18\,19\,23)
DTSTART;TZID=Europe/Berlin:20230128T120000
DTEND;TZID=Europe/Berlin:20230128T140000
LOCATION:Sportovní hala\, Stromovka 1216 České Budějovice - České Budějovic
 e 2
SUMMARY:1-Z-II: Č. Budějovice-Hronov
END:VEVENT
BEGIN:VEVENT
UID:33646533-3637-4335-b436-353164366562
DTSTAMP:20260422T002613Z
DESCRIPTION:9/22181 Č. Budějovice - H. Králové 3:0 (22\,20\,17)
DTSTART;TZID=Europe/Berlin:20230217T190000
DTEND;TZID=Europe/Berlin:20230217T210000
LOCATION:Sportovní hala\, Stromovka 1216 České Budějovice - České Budějovic
 e 2
SUMMARY:1-Z-II: Č. Budějovice-H. Králové
END:VEVENT
BEGIN:VEVENT
UID:64336430-6562-4565-a231-333638306239
DTSTAMP:20260422T002613Z
DESCRIPTION:10/22184 Č. Budějovice - H. Králové 2:3 (-24\,23\,-19\,17\,-10)
DTSTART;TZID=Europe/Berlin:20230218T120000
DTEND;TZID=Europe/Berlin:20230218T140000
LOCATION:ZŠ Oskara Nedbala České Budějovice\, O. Nedbala 882 České Budějovi
 ce - České Budějovice 2
SUMMARY:1-Z-II: Č. Budějovice-H. Králové
END:VEVENT
BEGIN:VEVENT
UID:65386663-3264-4136-b064-306364646536
DTSTAMP:20260422T002613Z
DESCRIPTION:3/22163 H. Králové - Č. Budějovice 3:0 (12\,18\,29)
DTSTART;TZID=Europe/Berlin:20230120T190000
DTEND;TZID=Europe/Berlin:20230120T210000
LOCATION:TJ Slavia Hradec Králové\, Víta Nejedlého 1216 Hradec Králové
SUMMARY:1-Z-II: H. Králové-Č. Budějovice
END:VEVENT
BEGIN:VEVENT
UID:30616564-3333-4936-a663-343161313335
DTSTAMP:20260422T002613Z
DESCRIPTION:4/22166 H. Králové - Č. Budějovice 3:0 (19\,13\,22)
DTSTART;TZID=Europe/Berlin:20230121T100000
DTEND;TZID=Europe/Berlin:20230121T120000
LOCATION:TJ Slavia Hradec Králové\, Víta Nejedlého 1216 Hradec Králové
SUMMARY:1-Z-II: H. Králové-Č. Budějovice
END:VEVENT
BEGIN:VEVENT
UID:37356166-3863-4433-b038-623738376231
DTSTAMP:20260422T002613Z
DESCRIPTION:7/22175 Kr. Pole B - Č. Budějovice 3:1 (22\,20\,-26\,18)
DTSTART;TZID=Europe/Berlin:20230203T180000
DTEND;TZID=Europe/Berlin:20230203T200000
LOCATION:Sportovní gymnázium Ludvíka Daňka\, Botanická 63 Brno - Ponava
SUMMARY:1-Z-II: Kr. Pole B-Č. Budějovice
END:VEVENT
BEGIN:VEVENT
UID:36346630-3637-4863-a130-336539656436
DTSTAMP:20260422T002613Z
DESCRIPTION:8/22178 Kr. Pole B - Č. Budějovice 3:0 (11\,16\,23)
DTSTART;TZID=Europe/Berlin:20230204T093000
DTEND;TZID=Europe/Berlin:20230204T113000
LOCATION:Sportovní gymnázium Ludvíka Daňka\, Botanická 63 Brno - Ponava
SUMMARY:1-Z-II: Kr. Pole B-Č. Budějovice
END:VEVENT
BEGIN:VEVENT
UID:36376336-3532-4135-b532-333136303064
DTSTAMP:20260422T002613Z
DESCRIPTION:11/22187 Hronov - Č. Budějovice 0:3 (-23\,-16\,-17)
DTSTART;TZID=Europe/Berlin:20230224T190000
DTEND;TZID=Europe/Berlin:20230224T210000
LOCATION:ZŠ Hronov\, Palackého 162 Hronov
SUMMARY:1-Z-II: Hronov-Č. Budějovice
END:VEVENT
BEGIN:VEVENT
UID:61656461-3830-4465-b361-613464386338
DTSTAMP:20260422T002613Z
DESCRIPTION:12/22190 Hronov - Č. Budějovice 1:3 (-23\,-23\,21\,-20)
DTSTART;TZID=Europe/Berlin:20230225T120000
DTEND;TZID=Europe/Berlin:20230225T140000
LOCATION:ZŠ Hronov\, Palackého 162 Hronov
SUMMARY:1-Z-II: Hronov-Č. Budějovice
END:VEVENT
BEGIN:VEVENT
UID:65653463-3765-4331-a439-336361333033
DTSTAMP:20260422T002613Z
DESCRIPTION:1/22194 Č. Budějovice - Bižuterie - SG 0:3 (-15\,-10\,-16)\n1. 
 kolo
DTSTART;TZID=Europe/Berlin:20230303T180000
DTEND;TZID=Europe/Berlin:20230303T200000
LOCATION:Sportovní hala\, Stromovka 1216 České Budějovice - České Budějovic
 e 2
SUMMARY:1-Z-III: Č. Budějovice-Bižuterie - SG
END:VEVENT
BEGIN:VEVENT
UID:64356432-6331-4361-a436-653432363838
DTSTAMP:20260422T002613Z
DESCRIPTION:1/22198 Bižuterie - SG - Č. Budějovice 3:0 (20\,13\,11)\n1. kol
 o
DTSTART;TZID=Europe/Berlin:20230304T190000
DTEND;TZID=Europe/Berlin:20230304T210000
LOCATION:Dukla Liberec\, Jeronýmova 558 Liberec - Liberec VII-Horní Růžodol
SUMMARY:1-Z-III: Bižuterie - SG-Č. Budějovice
END:VEVENT
END:VCALENDAR
