BEGIN:VCALENDAR
VERSION:2.0
PRODID:-//VK Prostějov B79007//NONSGML kigkonsult.se iCalcreator 2.41.80//
CALSCALE:GREGORIAN
UID:65613235-6163-4334-b936-613133366665
BEGIN:VEVENT
UID:66376165-6232-4038-b164-306630366661
DTSTAMP:20260421T210047Z
DESCRIPTION:3/22008 Prostějov B - Dobřichovice 3:2 (-16\,-13\,15\,20\,9)
DTSTART;TZID=Europe/Berlin:20220930T190000
DTEND;TZID=Europe/Berlin:20220930T210000
LOCATION:Národní sportovní centrum\, Za velodromem 4187 Prostějov
SUMMARY:1-Z-A: Prostějov B-Dobřichovice
END:VEVENT
BEGIN:VEVENT
UID:31303165-3331-4431-b266-643134666433
DTSTAMP:20260421T210047Z
DESCRIPTION:4/22011 Prostějov B - Dobřichovice 3:2 (-24\,24\,29\,-22\,14)
DTSTART;TZID=Europe/Berlin:20221001T100000
DTEND;TZID=Europe/Berlin:20221001T120000
LOCATION:Národní sportovní centrum\, Za velodromem 4187 Prostějov
SUMMARY:1-Z-A: Prostějov B-Dobřichovice
END:VEVENT
BEGIN:VEVENT
UID:65333133-3737-4231-b038-623061396264
DTSTAMP:20260421T210047Z
DESCRIPTION:9/22027 Prostějov B - Kr. Pole B 3:0 (15\,15\,27)
DTSTART;TZID=Europe/Berlin:20221028T190000
DTEND;TZID=Europe/Berlin:20221028T210000
LOCATION:Národní sportovní centrum\, Za velodromem 4187 Prostějov
SUMMARY:1-Z-A: Prostějov B-Kr. Pole B
END:VEVENT
BEGIN:VEVENT
UID:37303230-6332-4931-a363-303230616565
DTSTAMP:20260421T210047Z
DESCRIPTION:10/22030 Prostějov B - Kr. Pole B 3:0 (15\,17\,17)
DTSTART;TZID=Europe/Berlin:20221029T100000
DTEND;TZID=Europe/Berlin:20221029T120000
LOCATION:Národní sportovní centrum\, Za velodromem 4187 Prostějov
SUMMARY:1-Z-A: Prostějov B-Kr. Pole B
END:VEVENT
BEGIN:VEVENT
UID:31376336-3935-4730-a664-653134633133
DTSTAMP:20260421T210047Z
DESCRIPTION:11/22032 Prostějov B - Žižkov 3:2 (-24\,-25\,23\,13\,17)
DTSTART;TZID=Europe/Berlin:20221104T200000
DTEND;TZID=Europe/Berlin:20221104T220000
LOCATION:Národní sportovní centrum\, Za velodromem 4187 Prostějov
SUMMARY:1-Z-A: Prostějov B-Žižkov
END:VEVENT
BEGIN:VEVENT
UID:32623765-6265-4033-b030-643961663836
DTSTAMP:20260421T210047Z
DESCRIPTION:12/22035 Prostějov B - Žižkov 3:1 (15\,-15\,20\,12)
DTSTART;TZID=Europe/Berlin:20221105T100000
DTEND;TZID=Europe/Berlin:20221105T120000
LOCATION:Národní sportovní centrum\, Za velodromem 4187 Prostějov
SUMMARY:1-Z-A: Prostějov B-Žižkov
END:VEVENT
BEGIN:VEVENT
UID:34383964-3434-4634-a434-653766616137
DTSTAMP:20260421T210047Z
DESCRIPTION:15/22045 Prostějov B - Hronov 3:0 (22\,20\,17)
DTSTART;TZID=Europe/Berlin:20221125T200000
DTEND;TZID=Europe/Berlin:20221125T220000
LOCATION:Národní sportovní centrum\, Za velodromem 4187 Prostějov
SUMMARY:1-Z-A: Prostějov B-Hronov
END:VEVENT
BEGIN:VEVENT
UID:30626533-6163-4164-b765-343931623235
DTSTAMP:20260421T210047Z
DESCRIPTION:16/22048 Prostějov B - Hronov 3:2 (19\,-23\,19\,-25\,9)
DTSTART;TZID=Europe/Berlin:20221126T100000
DTEND;TZID=Europe/Berlin:20221126T120000
LOCATION:Národní sportovní centrum\, Za velodromem 4187 Prostějov
SUMMARY:1-Z-A: Prostějov B-Hronov
END:VEVENT
BEGIN:VEVENT
UID:32313763-6235-4661-a663-396433643965
DTSTAMP:20260421T210047Z
DESCRIPTION:17/22049 Prostějov B - H. Králové 0:3 (-24\,-22\,-18)
DTSTART;TZID=Europe/Berlin:20221202T190000
DTEND;TZID=Europe/Berlin:20221202T210000
LOCATION:Národní sportovní centrum\, Za velodromem 4187 Prostějov
SUMMARY:1-Z-A: Prostějov B-H. Králové
END:VEVENT
BEGIN:VEVENT
UID:39386565-3238-4266-b866-303266663130
DTSTAMP:20260421T210047Z
DESCRIPTION:18/22052 Prostějov B - H. Králové 3:1 (19\,-18\,24\,16)
DTSTART;TZID=Europe/Berlin:20221203T100000
DTEND;TZID=Europe/Berlin:20221203T120000
LOCATION:Národní sportovní centrum\, Za velodromem 4187 Prostějov
SUMMARY:1-Z-A: Prostějov B-H. Králové
END:VEVENT
BEGIN:VEVENT
UID:65383462-3561-4766-b937-396664343330
DTSTAMP:20260421T210047Z
DESCRIPTION:1/22002 Žižkov - Prostějov B 3:1 (19\,23\,-17\,14)
DTSTART;TZID=Europe/Berlin:20220923T183000
DTEND;TZID=Europe/Berlin:20220923T203000
LOCATION:TJ Sokol Žižkov I.\, Hartigova 929 Praha - Žižkov
SUMMARY:1-Z-A: Žižkov-Prostějov B
END:VEVENT
BEGIN:VEVENT
UID:62613935-6236-4061-a238-313139636335
DTSTAMP:20260421T210047Z
DESCRIPTION:2/22005 Žižkov - Prostějov B 3:1 (-22\,24\,16\,23)
DTSTART;TZID=Europe/Berlin:20220924T100000
DTEND;TZID=Europe/Berlin:20220924T120000
LOCATION:TJ Sokol Žižkov I.\, Hartigova 929 Praha - Žižkov
SUMMARY:1-Z-A: Žižkov-Prostějov B
END:VEVENT
BEGIN:VEVENT
UID:66343833-3536-4431-b234-323866303765
DTSTAMP:20260421T210047Z
DESCRIPTION:5/22015 Hronov - Prostějov B 3:1 (-18\,22\,27\,22)
DTSTART;TZID=Europe/Berlin:20221014T190000
DTEND;TZID=Europe/Berlin:20221014T210000
LOCATION:ZŠ Hronov\, Palackého 162 Hronov
SUMMARY:1-Z-A: Hronov-Prostějov B
END:VEVENT
BEGIN:VEVENT
UID:63366535-3865-4161-a564-396465613933
DTSTAMP:20260421T210047Z
DESCRIPTION:6/22018 Hronov - Prostějov B 3:0 (20\,15\,23)
DTSTART;TZID=Europe/Berlin:20221015T120000
DTEND;TZID=Europe/Berlin:20221015T140000
LOCATION:ZŠ Hronov\, Palackého 162 Hronov
SUMMARY:1-Z-A: Hronov-Prostějov B
END:VEVENT
BEGIN:VEVENT
UID:31326266-3964-4537-b765-383766336464
DTSTAMP:20260421T210047Z
DESCRIPTION:7/22019 H. Králové - Prostějov B 0:3 (-18\,-28\,-20)
DTSTART;TZID=Europe/Berlin:20221021T190000
DTEND;TZID=Europe/Berlin:20221021T210000
LOCATION:TJ Slavia Hradec Králové\, Víta Nejedlého 1216 Hradec Králové
SUMMARY:1-Z-A: H. Králové-Prostějov B
END:VEVENT
BEGIN:VEVENT
UID:31326539-3661-4162-b433-643361666266
DTSTAMP:20260421T210047Z
DESCRIPTION:8/22022 H. Králové - Prostějov B 1:3 (-20\,-32\,19\,-21)
DTSTART;TZID=Europe/Berlin:20221022T100000
DTEND;TZID=Europe/Berlin:20221022T120000
LOCATION:TJ Slavia Hradec Králové\, Víta Nejedlého 1216 Hradec Králové
SUMMARY:1-Z-A: H. Králové-Prostějov B
END:VEVENT
BEGIN:VEVENT
UID:38623231-3464-4037-a535-376131393737
DTSTAMP:20260421T210047Z
DESCRIPTION:13/22038 Dobřichovice - Prostějov B 3:0 (11\,23\,15)
DTSTART;TZID=Europe/Berlin:20221118T190000
DTEND;TZID=Europe/Berlin:20221118T210000
LOCATION:TJ Sokol Dobřichovice\, Pražská 375 Dobřichovice
SUMMARY:1-Z-A: Dobřichovice-Prostějov B
END:VEVENT
BEGIN:VEVENT
UID:63653662-6230-4165-b564-323030646165
DTSTAMP:20260421T210047Z
DESCRIPTION:14/22041 Dobřichovice - Prostějov B 3:1 (-15\,29\,16\,13)
DTSTART;TZID=Europe/Berlin:20221119T110000
DTEND;TZID=Europe/Berlin:20221119T130000
LOCATION:TJ Sokol Dobřichovice\, Pražská 375 Dobřichovice
SUMMARY:1-Z-A: Dobřichovice-Prostějov B
END:VEVENT
BEGIN:VEVENT
UID:61373032-3330-4364-b537-373935363665
DTSTAMP:20260421T210047Z
DESCRIPTION:19/22057 Kr. Pole B - Prostějov B 3:0 (20\,23\,24)
DTSTART;TZID=Europe/Berlin:20221216T190000
DTEND;TZID=Europe/Berlin:20221216T210000
LOCATION:STAREZ ARÉNA VODOVA (Velká hala)\, Vodova 336 Brno - Královo Pole
SUMMARY:1-Z-A: Kr. Pole B-Prostějov B
END:VEVENT
BEGIN:VEVENT
UID:66356164-3037-4436-b865-386630373065
DTSTAMP:20260421T210047Z
DESCRIPTION:20/22060 Kr. Pole B - Prostějov B 0:3 (-16\,-23\,-21)
DTSTART;TZID=Europe/Berlin:20221217T100000
DTEND;TZID=Europe/Berlin:20221217T120000
LOCATION:STAREZ ARÉNA VODOVA (Velká hala)\, Vodova 336 Brno - Královo Pole
SUMMARY:1-Z-A: Kr. Pole B-Prostějov B
END:VEVENT
BEGIN:VEVENT
UID:63386536-3530-4437-a266-623737383731
DTSTAMP:20260421T210047Z
DESCRIPTION:3/9 Prostějov B - Rudolfov 3:0 (10\,18\,9)
DTSTART;TZID=Europe/Berlin:20230121T180000
DTEND;TZID=Europe/Berlin:20230121T200000
LOCATION:Národní sportovní centrum\, Za velodromem 4187 Prostějov
SUMMARY:1-Z-I: Prostějov B-Rudolfov
END:VEVENT
BEGIN:VEVENT
UID:32383364-3838-4734-b534-383038313362
DTSTAMP:20260421T210047Z
DESCRIPTION:4/12 Prostějov B - Rudolfov 3:0 (23\,22\,12)
DTSTART;TZID=Europe/Berlin:20230122T100000
DTEND;TZID=Europe/Berlin:20230122T120000
LOCATION:Národní sportovní centrum\, Za velodromem 4187 Prostějov
SUMMARY:1-Z-I: Prostějov B-Rudolfov
END:VEVENT
BEGIN:VEVENT
UID:39396333-6535-4232-b735-346561353636
DTSTAMP:20260421T210047Z
DESCRIPTION:7/19 Prostějov B - Střešovice 3:0 (22\,13\,15)
DTSTART;TZID=Europe/Berlin:20230203T190000
DTEND;TZID=Europe/Berlin:20230203T210000
LOCATION:Národní sportovní centrum\, Za velodromem 4187 Prostějov
SUMMARY:1-Z-I: Prostějov B-Střešovice
END:VEVENT
BEGIN:VEVENT
UID:62363764-3738-4462-a339-356535386134
DTSTAMP:20260421T210047Z
DESCRIPTION:8/22 Prostějov B - Střešovice 1:3 (23\,-23\,-16\,-9)
DTSTART;TZID=Europe/Berlin:20230204T100000
DTEND;TZID=Europe/Berlin:20230204T120000
LOCATION:Národní sportovní centrum\, Za velodromem 4187 Prostějov
SUMMARY:1-Z-I: Prostějov B-Střešovice
END:VEVENT
BEGIN:VEVENT
UID:31373838-3737-4338-b838-326437313332
DTSTAMP:20260421T210047Z
DESCRIPTION:11/32 Prostějov B - Bižuterie - SG 0:3 (-23\,-26\,-21)
DTSTART;TZID=Europe/Berlin:20230224T190000
DTEND;TZID=Europe/Berlin:20230224T210000
LOCATION:Národní sportovní centrum\, Za velodromem 4187 Prostějov
SUMMARY:1-Z-I: Prostějov B-Bižuterie - SG
END:VEVENT
BEGIN:VEVENT
UID:35333732-3262-4332-b333-353262323564
DTSTAMP:20260421T210047Z
DESCRIPTION:12/35 Prostějov B - Bižuterie - SG 0:3 (-18\,-21\,-10)
DTSTART;TZID=Europe/Berlin:20230225T110000
DTEND;TZID=Europe/Berlin:20230225T130000
LOCATION:Národní sportovní centrum\, Za velodromem 4187 Prostějov
SUMMARY:1-Z-I: Prostějov B-Bižuterie - SG
END:VEVENT
BEGIN:VEVENT
UID:38396234-6231-4863-b062-313266353865
DTSTAMP:20260421T210047Z
DESCRIPTION:1/1 Střešovice - Prostějov B 0:3 (-30\,-19\,-19)
DTSTART;TZID=Europe/Berlin:20230113T180000
DTEND;TZID=Europe/Berlin:20230113T200000
LOCATION:TJ Tatran Střešovice\, Sibeliova 368 Praha - Střešovice
SUMMARY:1-Z-I: Střešovice-Prostějov B
END:VEVENT
BEGIN:VEVENT
UID:30393036-6635-4566-a233-643662363535
DTSTAMP:20260421T210047Z
DESCRIPTION:2/4 Střešovice - Prostějov B 3:1 (20\,24\,-19\,16)
DTSTART;TZID=Europe/Berlin:20230114T100000
DTEND;TZID=Europe/Berlin:20230114T120000
LOCATION:TJ Tatran Střešovice\, Sibeliova 368 Praha - Střešovice
SUMMARY:1-Z-I: Střešovice-Prostějov B
END:VEVENT
BEGIN:VEVENT
UID:65333030-3034-4631-b332-363938666665
DTSTAMP:20260421T210047Z
DESCRIPTION:5/14 Bižuterie - SG - Prostějov B 3:1 (20\,-22\,11\,14)
DTSTART;TZID=Europe/Berlin:20230127T190000
DTEND;TZID=Europe/Berlin:20230127T210000
LOCATION:Městská sportovní hala\, U Přehrady 4747 Jablonec nad Nisou
SUMMARY:1-Z-I: Bižuterie - SG-Prostějov B
END:VEVENT
BEGIN:VEVENT
UID:36626465-3966-4332-b537-636562376136
DTSTAMP:20260421T210047Z
DESCRIPTION:6/17 Bižuterie - SG - Prostějov B 3:0 (12\,20\,18)
DTSTART;TZID=Europe/Berlin:20230128T100000
DTEND;TZID=Europe/Berlin:20230128T120000
LOCATION:Městská sportovní hala\, U Přehrady 4747 Jablonec nad Nisou
SUMMARY:1-Z-I: Bižuterie - SG-Prostějov B
END:VEVENT
BEGIN:VEVENT
UID:38303639-3665-4230-a265-366566333463
DTSTAMP:20260421T210047Z
DESCRIPTION:9/27 Rudolfov - Prostějov B 3:1 (24\,10\,-19\,14)
DTSTART;TZID=Europe/Berlin:20230217T190000
DTEND;TZID=Europe/Berlin:20230217T210000
LOCATION:Sportovní hala Rudolfov\, Adamovská 511 Rudolfov
SUMMARY:1-Z-I: Rudolfov-Prostějov B
END:VEVENT
BEGIN:VEVENT
UID:33363132-3735-4461-b537-613337316361
DTSTAMP:20260421T210047Z
DESCRIPTION:10/30 Rudolfov - Prostějov B 2:3 (-22\,18\,15\,-24\,-6)
DTSTART;TZID=Europe/Berlin:20230218T100000
DTEND;TZID=Europe/Berlin:20230218T120000
LOCATION:Sportovní hala Rudolfov\, Adamovská 511 Rudolfov
SUMMARY:1-Z-I: Rudolfov-Prostějov B
END:VEVENT
BEGIN:VEVENT
UID:35306539-6533-4531-b262-313962626464
DTSTAMP:20260421T210047Z
DESCRIPTION:1/22200 Prostějov B - Rudolfov 3:1 (-18\,11\,18\,17)\n1. kolo
DTSTART;TZID=Europe/Berlin:20230304T190000
DTEND;TZID=Europe/Berlin:20230304T210000
LOCATION:Národní sportovní centrum\, Za velodromem 4187 Prostějov
SUMMARY:1-Z-III: Prostějov B-Rudolfov
END:VEVENT
BEGIN:VEVENT
UID:39316664-6531-4537-a166-373934313662
DTSTAMP:20260421T210047Z
DESCRIPTION:2/22202 Prostějov B - Střešovice 1:3 (-16\,-19\,22\,-19)\n2. ko
 lo
DTSTART;TZID=Europe/Berlin:20230317T180000
DTEND;TZID=Europe/Berlin:20230317T200000
LOCATION:Národní sportovní centrum\, Za velodromem 4187 Prostějov
SUMMARY:1-Z-III: Prostějov B-Střešovice
END:VEVENT
BEGIN:VEVENT
UID:31616131-3639-4136-b339-353135613535
DTSTAMP:20260421T210047Z
DESCRIPTION:3/22206 Prostějov B - H. Králové 3:1 (17\,-19\,10\,20)\nO 3. mí
 sto
DTSTART;TZID=Europe/Berlin:20230324T180000
DTEND;TZID=Europe/Berlin:20230324T200000
LOCATION:Národní sportovní centrum\, Za velodromem 4187 Prostějov
SUMMARY:1-Z-III: Prostějov B-H. Králové
END:VEVENT
BEGIN:VEVENT
UID:37383762-3335-4362-a164-363634626131
DTSTAMP:20260421T210047Z
DESCRIPTION:3/22208 Prostějov B - H. Králové 1:3 (-20\,21\,-23\,-15)\nO 3. 
 místo\; ZS: 15:7
DTSTART;TZID=Europe/Berlin:20230325T120000
DTEND;TZID=Europe/Berlin:20230325T140000
LOCATION:Sportcentrum - dům dětí a mládeže Prostějov\, Olympijská 4228 Pros
 tějov
SUMMARY:1-Z-III: Prostějov B-H. Králové
END:VEVENT
BEGIN:VEVENT
UID:34646435-3435-4161-b262-653239326130
DTSTAMP:20260421T210047Z
DESCRIPTION:1/22196 Rudolfov - Prostějov B 2:3 (15\,-16\,24\,-20\,-8)\n1. k
 olo
DTSTART;TZID=Europe/Berlin:20230303T183000
DTEND;TZID=Europe/Berlin:20230303T203000
LOCATION:Sportovní hala Rudolfov\, Adamovská 511 Rudolfov
SUMMARY:1-Z-III: Rudolfov-Prostějov B
END:VEVENT
BEGIN:VEVENT
UID:31333262-6361-4432-a263-656166646234
DTSTAMP:20260421T210047Z
DESCRIPTION:2/22204 Střešovice - Prostějov B 3:1 (16\,20\,-20\,18)\n2. kolo
DTSTART;TZID=Europe/Berlin:20230318T160000
DTEND;TZID=Europe/Berlin:20230318T180000
LOCATION:TJ Tatran Střešovice\, Sibeliova 368 Praha - Střešovice
SUMMARY:1-Z-III: Střešovice-Prostějov B
END:VEVENT
END:VCALENDAR
