BEGIN:VCALENDAR
VERSION:2.0
PRODID:-//TJ Sokol Nusle Praha79008//NONSGML kigkonsult.se iCalcreator 2.41.80//
CALSCALE:GREGORIAN
UID:36623564-3438-4064-a363-356262386535
BEGIN:VEVENT
UID:36643234-3132-4437-b363-646534666561
DTSTAMP:20260422T052745Z
DESCRIPTION:1/22063 Nusle - Plzeň 3:0 (21\,23\,20)
DTSTART;TZID=Europe/Berlin:20220923T180000
DTEND;TZID=Europe/Berlin:20220923T200000
LOCATION:TJ Sokol Nusle\, Na květnici 700 Praha - Nusle
SUMMARY:1-Z-B: Nusle-Plzeň
END:VEVENT
BEGIN:VEVENT
UID:62323632-3439-4530-b062-303433336431
DTSTAMP:20260422T052745Z
DESCRIPTION:2/22066 Nusle - Plzeň 1:3 (-19\,-28\,20\,-22)
DTSTART;TZID=Europe/Berlin:20220924T100000
DTEND;TZID=Europe/Berlin:20220924T120000
LOCATION:TJ Sokol Nusle\, Na květnici 700 Praha - Nusle
SUMMARY:1-Z-B: Nusle-Plzeň
END:VEVENT
BEGIN:VEVENT
UID:39636638-3737-4263-a138-316430326465
DTSTAMP:20260422T052745Z
DESCRIPTION:5/22074 Nusle - Bižuterie - SG 0:3 (-19\,-18\,-16)
DTSTART;TZID=Europe/Berlin:20221014T180000
DTEND;TZID=Europe/Berlin:20221014T200000
LOCATION:TJ Sokol Nusle\, Na květnici 700 Praha - Nusle
SUMMARY:1-Z-B: Nusle-Bižuterie - SG
END:VEVENT
BEGIN:VEVENT
UID:31383333-6466-4863-b536-653932613236
DTSTAMP:20260422T052745Z
DESCRIPTION:6/22077 Nusle - Bižuterie - SG 2:3 (-19\,23\,-14\,20\,-11)
DTSTART;TZID=Europe/Berlin:20221015T100000
DTEND;TZID=Europe/Berlin:20221015T120000
LOCATION:TJ Sokol Nusle\, Na květnici 700 Praha - Nusle
SUMMARY:1-Z-B: Nusle-Bižuterie - SG
END:VEVENT
BEGIN:VEVENT
UID:38613661-6437-4161-b862-666230396236
DTSTAMP:20260422T052745Z
DESCRIPTION:9/22085 Nusle - Rudolfov 1:3 (-24\,-17\,19\,-15)
DTSTART;TZID=Europe/Berlin:20221028T180000
DTEND;TZID=Europe/Berlin:20221028T200000
LOCATION:TJ Sokol Nusle\, Na květnici 700 Praha - Nusle
SUMMARY:1-Z-B: Nusle-Rudolfov
END:VEVENT
BEGIN:VEVENT
UID:35656439-6233-4133-a466-353166356561
DTSTAMP:20260422T052745Z
DESCRIPTION:10/22088 Nusle - Rudolfov 1:3 (-9\,20\,-18\,-26)
DTSTART;TZID=Europe/Berlin:20221029T100000
DTEND;TZID=Europe/Berlin:20221029T120000
LOCATION:TJ Sokol Nusle\, Na květnici 700 Praha - Nusle
SUMMARY:1-Z-B: Nusle-Rudolfov
END:VEVENT
BEGIN:VEVENT
UID:64613966-3136-4161-b638-656466353337
DTSTAMP:20260422T052745Z
DESCRIPTION:13/22098 Nusle - Č. Budějovice 1:3 (-19\,-22\,23\,-25)
DTSTART;TZID=Europe/Berlin:20221118T180000
DTEND;TZID=Europe/Berlin:20221118T200000
LOCATION:TJ Sokol Nusle\, Na květnici 700 Praha - Nusle
SUMMARY:1-Z-B: Nusle-Č. Budějovice
END:VEVENT
BEGIN:VEVENT
UID:62396239-6336-4638-a164-313363393331
DTSTAMP:20260422T052745Z
DESCRIPTION:14/22101 Nusle - Č. Budějovice 3:1 (14\,-18\,20\,17)
DTSTART;TZID=Europe/Berlin:20221119T100000
DTEND;TZID=Europe/Berlin:20221119T120000
LOCATION:TJ Sokol Nusle\, Na květnici 700 Praha - Nusle
SUMMARY:1-Z-B: Nusle-Č. Budějovice
END:VEVENT
BEGIN:VEVENT
UID:31343838-6235-4435-a138-613339636439
DTSTAMP:20260422T052745Z
DESCRIPTION:17/22111 Nusle - Střešovice 0:3 (-21\,-24\,-19)
DTSTART;TZID=Europe/Berlin:20221202T180000
DTEND;TZID=Europe/Berlin:20221202T200000
LOCATION:TJ Sokol Nusle\, Na květnici 700 Praha - Nusle
SUMMARY:1-Z-B: Nusle-Střešovice
END:VEVENT
BEGIN:VEVENT
UID:37626433-3134-4832-a532-383362326534
DTSTAMP:20260422T052745Z
DESCRIPTION:18/22114 Nusle - Střešovice 1:3 (-23\,-18\,16\,-19)
DTSTART;TZID=Europe/Berlin:20221203T100000
DTEND;TZID=Europe/Berlin:20221203T120000
LOCATION:TJ Sokol Nusle\, Na květnici 700 Praha - Nusle
SUMMARY:1-Z-B: Nusle-Střešovice
END:VEVENT
BEGIN:VEVENT
UID:34613938-3536-4539-b937-666632373234
DTSTAMP:20260422T052745Z
DESCRIPTION:3/22068 Č. Budějovice - Nusle 3:0 (24\,13\,17)
DTSTART;TZID=Europe/Berlin:20220930T190000
DTEND;TZID=Europe/Berlin:20220930T210000
LOCATION:Sportovní hala\, Stromovka 1216 České Budějovice - České Budějovic
 e 2
SUMMARY:1-Z-B: Č. Budějovice-Nusle
END:VEVENT
BEGIN:VEVENT
UID:39383466-3736-4636-b439-343664656632
DTSTAMP:20260422T052745Z
DESCRIPTION:4/22071 Č. Budějovice - Nusle 3:1 (-19\,20\,19\,22)
DTSTART;TZID=Europe/Berlin:20221001T100000
DTEND;TZID=Europe/Berlin:20221001T120000
LOCATION:Sportovní hala\, Stromovka 1216 České Budějovice - České Budějovic
 e 2
SUMMARY:1-Z-B: Č. Budějovice-Nusle
END:VEVENT
BEGIN:VEVENT
UID:63376466-6264-4763-b833-653135396563
DTSTAMP:20260422T052745Z
DESCRIPTION:7/22081 Střešovice - Nusle 3:1 (-17\,12\,17\,19)
DTSTART;TZID=Europe/Berlin:20221021T180000
DTEND;TZID=Europe/Berlin:20221021T200000
LOCATION:TJ Tatran Střešovice\, Sibeliova 368 Praha - Střešovice
SUMMARY:1-Z-B: Střešovice-Nusle
END:VEVENT
BEGIN:VEVENT
UID:34643735-6239-4061-a462-333664336335
DTSTAMP:20260422T052745Z
DESCRIPTION:8/22084 Střešovice - Nusle 3:0 (22\,18\,17)
DTSTART;TZID=Europe/Berlin:20221022T100000
DTEND;TZID=Europe/Berlin:20221022T120000
LOCATION:TJ Tatran Střešovice\, Sibeliova 368 Praha - Střešovice
SUMMARY:1-Z-B: Střešovice-Nusle
END:VEVENT
BEGIN:VEVENT
UID:64393566-6632-4531-b362-653133366437
DTSTAMP:20260422T052745Z
DESCRIPTION:11/22093 Plzeň - Nusle 3:2 (-20\,-13\,23\,21\,13)
DTSTART;TZID=Europe/Berlin:20221104T180000
DTEND;TZID=Europe/Berlin:20221104T200000
LOCATION:Sportovní hala - SG Plzeň\, Vejprnická 663 Plzeň - Skvrňany
SUMMARY:1-Z-B: Plzeň-Nusle
END:VEVENT
BEGIN:VEVENT
UID:35383930-3536-4130-b135-386237363161
DTSTAMP:20260422T052745Z
DESCRIPTION:12/22096 Plzeň - Nusle 3:0 (20\,16\,23)
DTSTART;TZID=Europe/Berlin:20221105T090000
DTEND;TZID=Europe/Berlin:20221105T110000
LOCATION:Sportovní hala - SG Plzeň\, Vejprnická 663 Plzeň - Skvrňany
SUMMARY:1-Z-B: Plzeň-Nusle
END:VEVENT
BEGIN:VEVENT
UID:62383532-3066-4630-a532-346463653665
DTSTAMP:20260422T052745Z
DESCRIPTION:15/22104 Bižuterie - SG - Nusle 3:1 (10\,21\,-19\,15)
DTSTART;TZID=Europe/Berlin:20221125T190000
DTEND;TZID=Europe/Berlin:20221125T210000
LOCATION:Městská sportovní hala\, U Přehrady 4747 Jablonec nad Nisou
SUMMARY:1-Z-B: Bižuterie - SG-Nusle
END:VEVENT
BEGIN:VEVENT
UID:38623136-3538-4232-b035-313636666434
DTSTAMP:20260422T052745Z
DESCRIPTION:16/22107 Bižuterie - SG - Nusle 3:0 (9\,11\,19)
DTSTART;TZID=Europe/Berlin:20221126T100000
DTEND;TZID=Europe/Berlin:20221126T120000
LOCATION:Městská sportovní hala\, U Přehrady 4747 Jablonec nad Nisou
SUMMARY:1-Z-B: Bižuterie - SG-Nusle
END:VEVENT
BEGIN:VEVENT
UID:31393932-3930-4537-b337-626232613836
DTSTAMP:20260422T052745Z
DESCRIPTION:19/22115 Rudolfov - Nusle 3:2 (-23\,15\,-21\,22\,9)
DTSTART;TZID=Europe/Berlin:20221216T180000
DTEND;TZID=Europe/Berlin:20221216T200000
LOCATION:Sportovní hala Rudolfov\, Adamovská 511 Rudolfov
SUMMARY:1-Z-B: Rudolfov-Nusle
END:VEVENT
BEGIN:VEVENT
UID:65323466-3833-4536-a464-663133386566
DTSTAMP:20260422T052745Z
DESCRIPTION:20/22118 Rudolfov - Nusle 1:3 (18\,-22\,-21\,-16)
DTSTART;TZID=Europe/Berlin:20221217T100000
DTEND;TZID=Europe/Berlin:20221217T120000
LOCATION:Sportovní hala Rudolfov\, Adamovská 511 Rudolfov
SUMMARY:1-Z-B: Rudolfov-Nusle
END:VEVENT
BEGIN:VEVENT
UID:34393436-6336-4036-b164-303161663938
DTSTAMP:20260422T052745Z
DESCRIPTION:1/22159 Nusle - Hronov 3:0 (20\,13\,23)
DTSTART;TZID=Europe/Berlin:20230113T180000
DTEND;TZID=Europe/Berlin:20230113T200000
LOCATION:TJ Sokol Nusle\, Na květnici 700 Praha - Nusle
SUMMARY:1-Z-II: Nusle-Hronov
END:VEVENT
BEGIN:VEVENT
UID:35366630-6333-4466-b837-613730663534
DTSTAMP:20260422T052745Z
DESCRIPTION:2/22162 Nusle - Hronov 3:0 (12\,20\,15)
DTSTART;TZID=Europe/Berlin:20230114T100000
DTEND;TZID=Europe/Berlin:20230114T120000
LOCATION:TJ Sokol Nusle\, Na květnici 700 Praha - Nusle
SUMMARY:1-Z-II: Nusle-Hronov
END:VEVENT
BEGIN:VEVENT
UID:34653534-6331-4664-b837-613365363864
DTSTAMP:20260422T052745Z
DESCRIPTION:5/22171 Nusle - H. Králové 0:3 (-21\,-16\,-21)
DTSTART;TZID=Europe/Berlin:20230127T180000
DTEND;TZID=Europe/Berlin:20230127T200000
LOCATION:TJ Sokol Nusle\, Na květnici 700 Praha - Nusle
SUMMARY:1-Z-II: Nusle-H. Králové
END:VEVENT
BEGIN:VEVENT
UID:62343339-3238-4038-b132-326461376561
DTSTAMP:20260422T052745Z
DESCRIPTION:6/22174 Nusle - H. Králové 3:1 (23\,19\,-24\,22)
DTSTART;TZID=Europe/Berlin:20230128T100000
DTEND;TZID=Europe/Berlin:20230128T120000
LOCATION:TJ Sokol Nusle\, Na květnici 700 Praha - Nusle
SUMMARY:1-Z-II: Nusle-H. Králové
END:VEVENT
BEGIN:VEVENT
UID:66313538-3834-4536-b631-653038616338
DTSTAMP:20260422T052745Z
DESCRIPTION:9/22183 Nusle - Kr. Pole B 3:1 (21\,23\,-22\,17)
DTSTART;TZID=Europe/Berlin:20230217T180000
DTEND;TZID=Europe/Berlin:20230217T200000
LOCATION:TJ Sokol Nusle\, Na květnici 700 Praha - Nusle
SUMMARY:1-Z-II: Nusle-Kr. Pole B
END:VEVENT
BEGIN:VEVENT
UID:31643138-3166-4666-b939-373836303733
DTSTAMP:20260422T052745Z
DESCRIPTION:10/22186 Nusle - Kr. Pole B 3:0 (9\,14\,17)
DTSTART;TZID=Europe/Berlin:20230218T100000
DTEND;TZID=Europe/Berlin:20230218T120000
LOCATION:TJ Sokol Nusle\, Na květnici 700 Praha - Nusle
SUMMARY:1-Z-II: Nusle-Kr. Pole B
END:VEVENT
BEGIN:VEVENT
UID:65373865-3432-4364-a230-343939393261
DTSTAMP:20260422T052745Z
DESCRIPTION:3/22165 Kr. Pole B - Nusle 3:1 (23\,19\,-22\,13)
DTSTART;TZID=Europe/Berlin:20230120T190000
DTEND;TZID=Europe/Berlin:20230120T210000
LOCATION:Sportovní gymnázium Ludvíka Daňka\, Botanická 63 Brno - Ponava
SUMMARY:1-Z-II: Kr. Pole B-Nusle
END:VEVENT
BEGIN:VEVENT
UID:62323433-6534-4063-a163-343533393733
DTSTAMP:20260422T052745Z
DESCRIPTION:4/22168 Kr. Pole B - Nusle 3:0 (21\,21\,19)
DTSTART;TZID=Europe/Berlin:20230121T093000
DTEND;TZID=Europe/Berlin:20230121T113000
LOCATION:STAREZ ARÉNA VODOVA (Malá hala)\, Vodova 336 Brno - Královo Pole
SUMMARY:1-Z-II: Kr. Pole B-Nusle
END:VEVENT
BEGIN:VEVENT
UID:65386530-6334-4161-b833-346662643864
DTSTAMP:20260422T052745Z
DESCRIPTION:7/22177 Hronov - Nusle 1:3 (-18\,20\,-23\,-20)
DTSTART;TZID=Europe/Berlin:20230203T190000
DTEND;TZID=Europe/Berlin:20230203T210000
LOCATION:ZŠ Hronov\, Palackého 162 Hronov
SUMMARY:1-Z-II: Hronov-Nusle
END:VEVENT
BEGIN:VEVENT
UID:61616230-3036-4539-b664-643565646534
DTSTAMP:20260422T052745Z
DESCRIPTION:8/22180 Hronov - Nusle 3:1 (26\,-18\,23\,16)
DTSTART;TZID=Europe/Berlin:20230204T100000
DTEND;TZID=Europe/Berlin:20230204T120000
LOCATION:ZŠ Hronov\, Palackého 162 Hronov
SUMMARY:1-Z-II: Hronov-Nusle
END:VEVENT
BEGIN:VEVENT
UID:34326430-3462-4463-a563-363731643432
DTSTAMP:20260422T052745Z
DESCRIPTION:11/22189 H. Králové - Nusle 3:1 (11\,-24\,23\,17)
DTSTART;TZID=Europe/Berlin:20230224T190000
DTEND;TZID=Europe/Berlin:20230224T210000
LOCATION:TJ Slavia Hradec Králové\, Víta Nejedlého 1216 Hradec Králové
SUMMARY:1-Z-II: H. Králové-Nusle
END:VEVENT
BEGIN:VEVENT
UID:65613562-3732-4164-b732-366265383435
DTSTAMP:20260422T052745Z
DESCRIPTION:12/22192 H. Králové - Nusle 3:2 (19\,-23\,15\,-23\,10)
DTSTART;TZID=Europe/Berlin:20230225T100000
DTEND;TZID=Europe/Berlin:20230225T120000
LOCATION:TJ Slavia Hradec Králové\, Víta Nejedlého 1216 Hradec Králové
SUMMARY:1-Z-II: H. Králové-Nusle
END:VEVENT
BEGIN:VEVENT
UID:66343963-6337-4362-b830-303938663165
DTSTAMP:20260422T052745Z
DESCRIPTION:3/22216 Nusle - Plzeň 3:1 (21\,-19\,19\,30)
DTSTART;TZID=Europe/Berlin:20230317T180000
DTEND;TZID=Europe/Berlin:20230317T200000
LOCATION:TJ Sokol Nusle\, Na květnici 700 Praha - Nusle
SUMMARY:1-Z-IV: Nusle-Plzeň
END:VEVENT
BEGIN:VEVENT
UID:39373330-6465-4761-b534-633362363164
DTSTAMP:20260422T052745Z
DESCRIPTION:5/22220 Nusle - Hronov 3:2 (-18\,18\,-22\,11\,7)
DTSTART;TZID=Europe/Berlin:20230324T180000
DTEND;TZID=Europe/Berlin:20230324T200000
LOCATION:TJ Sokol Nusle\, Na květnici 700 Praha - Nusle
SUMMARY:1-Z-IV: Nusle-Hronov
END:VEVENT
BEGIN:VEVENT
UID:33356163-3662-4761-b362-383731323234
DTSTAMP:20260422T052745Z
DESCRIPTION:6/22221 Nusle - Kr. Pole B 3:1 (-21\,18\,22\,17)
DTSTART;TZID=Europe/Berlin:20230325T120000
DTEND;TZID=Europe/Berlin:20230325T140000
LOCATION:TJ Sokol Nusle\, Na květnici 700 Praha - Nusle
SUMMARY:1-Z-IV: Nusle-Kr. Pole B
END:VEVENT
BEGIN:VEVENT
UID:39633865-3539-4332-b039-343237663833
DTSTAMP:20260422T052745Z
DESCRIPTION:1/22212 Kr. Pole B - Nusle 1:3 (-19\,12\,-20\,-18)
DTSTART;TZID=Europe/Berlin:20230303T190000
DTEND;TZID=Europe/Berlin:20230303T210000
LOCATION:Sportovní gymnázium Ludvíka Daňka\, Botanická 63 Brno - Ponava
SUMMARY:1-Z-IV: Kr. Pole B-Nusle
END:VEVENT
BEGIN:VEVENT
UID:64633364-3238-4461-b530-613430643031
DTSTAMP:20260422T052745Z
DESCRIPTION:2/22213 Hronov - Nusle 1:3 (-22\,22\,-16\,-20)
DTSTART;TZID=Europe/Berlin:20230304T140000
DTEND;TZID=Europe/Berlin:20230304T160000
LOCATION:ZŠ Hronov\, Palackého 162 Hronov
SUMMARY:1-Z-IV: Hronov-Nusle
END:VEVENT
BEGIN:VEVENT
UID:38323739-3262-4334-a631-353965313638
DTSTAMP:20260422T052745Z
DESCRIPTION:4/22218 Plzeň - Nusle 2:3 (-21\,23\,-20\,24\,-11)
DTSTART;TZID=Europe/Berlin:20230318T120000
DTEND;TZID=Europe/Berlin:20230318T140000
LOCATION:Městská sportovní hala  -  hala 2\, Úslavská 2357 Plzeň - Východní
  Předměstí
SUMMARY:1-Z-IV: Plzeň-Nusle
END:VEVENT
END:VCALENDAR
