BEGIN:VCALENDAR
VERSION:2.0
PRODID:-//TJ Slavia Hradec Králové79011//NONSGML kigkonsult.se iCalcreator 2.41.80//
CALSCALE:GREGORIAN
UID:36633430-6237-4134-a432-303539656465
BEGIN:VEVENT
UID:33386265-3866-4133-b439-643061386563
DTSTAMP:20260421T192718Z
DESCRIPTION:3/22007 H. Králové - Hronov 3:2 (23\,21\,-24\,-22\,8)
DTSTART;TZID=Europe/Berlin:20220930T190000
DTEND;TZID=Europe/Berlin:20220930T210000
LOCATION:TJ Slavia Hradec Králové\, Víta Nejedlého 1216 Hradec Králové
SUMMARY:1-Z-A: H. Králové-Hronov
END:VEVENT
BEGIN:VEVENT
UID:31323338-3533-4437-a162-626661373964
DTSTAMP:20260421T192718Z
DESCRIPTION:4/22010 H. Králové - Hronov 3:1 (22\,23\,-20\,18)
DTSTART;TZID=Europe/Berlin:20221001T100000
DTEND;TZID=Europe/Berlin:20221001T120000
LOCATION:TJ Slavia Hradec Králové\, Víta Nejedlého 1216 Hradec Králové
SUMMARY:1-Z-A: H. Králové-Hronov
END:VEVENT
BEGIN:VEVENT
UID:34656665-3839-4738-b337-663861343330
DTSTAMP:20260421T192718Z
DESCRIPTION:7/22019 H. Králové - Prostějov B 0:3 (-18\,-28\,-20)
DTSTART;TZID=Europe/Berlin:20221021T190000
DTEND;TZID=Europe/Berlin:20221021T210000
LOCATION:TJ Slavia Hradec Králové\, Víta Nejedlého 1216 Hradec Králové
SUMMARY:1-Z-A: H. Králové-Prostějov B
END:VEVENT
BEGIN:VEVENT
UID:30396235-3661-4633-a532-613432386465
DTSTAMP:20260421T192718Z
DESCRIPTION:8/22022 H. Králové - Prostějov B 1:3 (-20\,-32\,19\,-21)
DTSTART;TZID=Europe/Berlin:20221022T100000
DTEND;TZID=Europe/Berlin:20221022T120000
LOCATION:TJ Slavia Hradec Králové\, Víta Nejedlého 1216 Hradec Králové
SUMMARY:1-Z-A: H. Králové-Prostějov B
END:VEVENT
BEGIN:VEVENT
UID:32623337-3231-4531-b366-646665303638
DTSTAMP:20260421T192718Z
DESCRIPTION:11/22031 H. Králové - Kr. Pole B 3:0 (15\,15\,22)
DTSTART;TZID=Europe/Berlin:20221104T190000
DTEND;TZID=Europe/Berlin:20221104T210000
LOCATION:TJ Slavia Hradec Králové\, Víta Nejedlého 1216 Hradec Králové
SUMMARY:1-Z-A: H. Králové-Kr. Pole B
END:VEVENT
BEGIN:VEVENT
UID:65323733-6633-4130-b464-323934393262
DTSTAMP:20260421T192718Z
DESCRIPTION:12/22034 H. Králové - Kr. Pole B 3:0 (17\,18\,13)
DTSTART;TZID=Europe/Berlin:20221105T093000
DTEND;TZID=Europe/Berlin:20221105T113000
LOCATION:TJ Slavia Hradec Králové\, Víta Nejedlého 1216 Hradec Králové
SUMMARY:1-Z-A: H. Králové-Kr. Pole B
END:VEVENT
BEGIN:VEVENT
UID:37353738-3063-4836-b866-333065373536
DTSTAMP:20260421T192718Z
DESCRIPTION:15/22043 H. Králové - Žižkov 1:3 (22\,-21\,-12\,-19)
DTSTART;TZID=Europe/Berlin:20221125T190000
DTEND;TZID=Europe/Berlin:20221125T210000
LOCATION:TJ Slavia Hradec Králové\, Víta Nejedlého 1216 Hradec Králové
SUMMARY:1-Z-A: H. Králové-Žižkov
END:VEVENT
BEGIN:VEVENT
UID:38653334-3636-4634-b430-383030636634
DTSTAMP:20260421T192718Z
DESCRIPTION:16/22046 H. Králové - Žižkov 2:3 (19\,21\,-14\,-13\,-13)
DTSTART;TZID=Europe/Berlin:20221126T100000
DTEND;TZID=Europe/Berlin:20221126T120000
LOCATION:TJ Slavia Hradec Králové\, Víta Nejedlého 1216 Hradec Králové
SUMMARY:1-Z-A: H. Králové-Žižkov
END:VEVENT
BEGIN:VEVENT
UID:37356132-3036-4864-a531-613338383330
DTSTAMP:20260421T192718Z
DESCRIPTION:19/22055 H. Králové - Dobřichovice 0:3 (-23\,-18\,-16)
DTSTART;TZID=Europe/Berlin:20221216T190000
DTEND;TZID=Europe/Berlin:20221216T210000
LOCATION:TJ Slavia Hradec Králové\, Víta Nejedlého 1216 Hradec Králové
SUMMARY:1-Z-A: H. Králové-Dobřichovice
END:VEVENT
BEGIN:VEVENT
UID:31343633-6464-4661-b530-333034646536
DTSTAMP:20260421T192718Z
DESCRIPTION:20/22058 H. Králové - Dobřichovice 3:2 (-25\,-20\,16\,21\,12)
DTSTART;TZID=Europe/Berlin:20221217T100000
DTEND;TZID=Europe/Berlin:20221217T120000
LOCATION:TJ Slavia Hradec Králové\, Víta Nejedlého 1216 Hradec Králové
SUMMARY:1-Z-A: H. Králové-Dobřichovice
END:VEVENT
BEGIN:VEVENT
UID:33623365-6137-4964-b437-303136386639
DTSTAMP:20260421T192718Z
DESCRIPTION:1/22001 Kr. Pole B - H. Králové 3:2 (-18\,-27\,27\,22\,10)
DTSTART;TZID=Europe/Berlin:20220923T190000
DTEND;TZID=Europe/Berlin:20220923T210000
LOCATION:Sportovní gymnázium Ludvíka Daňka\, Botanická 63 Brno - Ponava
SUMMARY:1-Z-A: Kr. Pole B-H. Králové
END:VEVENT
BEGIN:VEVENT
UID:62353238-3163-4165-b031-313239613439
DTSTAMP:20260421T192718Z
DESCRIPTION:2/22004 Kr. Pole B - H. Králové 3:1 (19\,-27\,15\,8)
DTSTART;TZID=Europe/Berlin:20220924T100000
DTEND;TZID=Europe/Berlin:20220924T120000
LOCATION:STAREZ ARÉNA VODOVA (Velká hala)\, Vodova 336 Brno - Královo Pole
SUMMARY:1-Z-A: Kr. Pole B-H. Králové
END:VEVENT
BEGIN:VEVENT
UID:64626364-3034-4261-b365-653637646530
DTSTAMP:20260421T192718Z
DESCRIPTION:5/22013 Žižkov - H. Králové 2:3 (22\,-10\,-19\,19\,-5)
DTSTART;TZID=Europe/Berlin:20221014T183000
DTEND;TZID=Europe/Berlin:20221014T203000
LOCATION:TJ Sokol Žižkov I.\, Hartigova 929 Praha - Žižkov
SUMMARY:1-Z-A: Žižkov-H. Králové
END:VEVENT
BEGIN:VEVENT
UID:34646662-6162-4335-b231-383162626137
DTSTAMP:20260421T192718Z
DESCRIPTION:6/22016 Žižkov - H. Králové 3:0 (22\,22\,18)
DTSTART;TZID=Europe/Berlin:20221015T120000
DTEND;TZID=Europe/Berlin:20221015T140000
LOCATION:TJ Sokol Žižkov I.\, Hartigova 929 Praha - Žižkov
SUMMARY:1-Z-A: Žižkov-H. Králové
END:VEVENT
BEGIN:VEVENT
UID:63653166-6331-4731-a633-626133313466
DTSTAMP:20260421T192718Z
DESCRIPTION:9/22025 Dobřichovice - H. Králové 3:0 (16\,15\,20)
DTSTART;TZID=Europe/Berlin:20221028T100000
DTEND;TZID=Europe/Berlin:20221028T120000
LOCATION:TJ Sokol Dobřichovice\, Pražská 375 Dobřichovice
SUMMARY:1-Z-A: Dobřichovice-H. Králové
END:VEVENT
BEGIN:VEVENT
UID:37303936-6436-4661-b932-353263333562
DTSTAMP:20260421T192718Z
DESCRIPTION:10/22028 Dobřichovice - H. Králové 3:0 (20\,21\,20)
DTSTART;TZID=Europe/Berlin:20221027T190000
DTEND;TZID=Europe/Berlin:20221027T210000
LOCATION:TJ Sokol Dobřichovice\, Pražská 375 Dobřichovice
SUMMARY:1-Z-A: Dobřichovice-H. Králové
END:VEVENT
BEGIN:VEVENT
UID:37383036-3032-4664-b762-383439383336
DTSTAMP:20260421T192718Z
DESCRIPTION:13/22037 Hronov - H. Králové 3:1 (19\,-19\,15\,22)
DTSTART;TZID=Europe/Berlin:20221118T190000
DTEND;TZID=Europe/Berlin:20221118T210000
LOCATION:ZŠ Hronov\, Palackého 162 Hronov
SUMMARY:1-Z-A: Hronov-H. Králové
END:VEVENT
BEGIN:VEVENT
UID:39613937-3737-4030-a438-303735373433
DTSTAMP:20260421T192718Z
DESCRIPTION:14/22040 Hronov - H. Králové 3:0 (15\,16\,22)
DTSTART;TZID=Europe/Berlin:20221119T110000
DTEND;TZID=Europe/Berlin:20221119T130000
LOCATION:ZŠ Hronov\, Palackého 162 Hronov
SUMMARY:1-Z-A: Hronov-H. Králové
END:VEVENT
BEGIN:VEVENT
UID:31306130-3162-4162-b937-363362333166
DTSTAMP:20260421T192718Z
DESCRIPTION:17/22049 Prostějov B - H. Králové 0:3 (-24\,-22\,-18)
DTSTART;TZID=Europe/Berlin:20221202T190000
DTEND;TZID=Europe/Berlin:20221202T210000
LOCATION:Národní sportovní centrum\, Za velodromem 4187 Prostějov
SUMMARY:1-Z-A: Prostějov B-H. Králové
END:VEVENT
BEGIN:VEVENT
UID:63363332-6564-4761-a632-623139633635
DTSTAMP:20260421T192718Z
DESCRIPTION:18/22052 Prostějov B - H. Králové 3:1 (19\,-18\,24\,16)
DTSTART;TZID=Europe/Berlin:20221203T100000
DTEND;TZID=Europe/Berlin:20221203T120000
LOCATION:Národní sportovní centrum\, Za velodromem 4187 Prostějov
SUMMARY:1-Z-A: Prostějov B-H. Králové
END:VEVENT
BEGIN:VEVENT
UID:31323163-3661-4462-a165-346463363630
DTSTAMP:20260421T192718Z
DESCRIPTION:2/20001 H. Králové - Olymp 0:3 (-11\,-14\,-18)
DTSTART;TZID=Europe/Berlin:20221116T190000
DTEND;TZID=Europe/Berlin:20221116T210000
LOCATION:TJ Slavia Hradec Králové\, Víta Nejedlého 1216 Hradec Králové
SUMMARY:CP-Z: H. Králové-Olymp
END:VEVENT
BEGIN:VEVENT
UID:65613263-3933-4634-a564-626535383665
DTSTAMP:20260421T192718Z
DESCRIPTION:1/1 H. Králové - Dobřichovice 2:3 (-19\,13\,-21\,19\,-6)
DTSTART;TZID=Europe/Berlin:20220917T100000
DTEND;TZID=Europe/Berlin:20220917T120000
LOCATION:TJ Slavia Hradec Králové\, Víta Nejedlého 1216 Hradec Králové
SUMMARY:CP-Z-A: H. Králové-Dobřichovice
END:VEVENT
BEGIN:VEVENT
UID:36313838-3564-4536-b332-616264326535
DTSTAMP:20260421T192718Z
DESCRIPTION:1/3 H. Králové - Č. Budějovice 3:0 (16\,14\,21)
DTSTART;TZID=Europe/Berlin:20220917T170000
DTEND;TZID=Europe/Berlin:20220917T190000
LOCATION:TJ Slavia Hradec Králové\, Víta Nejedlého 1216 Hradec Králové
SUMMARY:CP-Z-A: H. Králové-Č. Budějovice
END:VEVENT
BEGIN:VEVENT
UID:35313663-3530-4533-a366-666634316163
DTSTAMP:20260421T192718Z
DESCRIPTION:3/22163 H. Králové - Č. Budějovice 3:0 (12\,18\,29)
DTSTART;TZID=Europe/Berlin:20230120T190000
DTEND;TZID=Europe/Berlin:20230120T210000
LOCATION:TJ Slavia Hradec Králové\, Víta Nejedlého 1216 Hradec Králové
SUMMARY:1-Z-II: H. Králové-Č. Budějovice
END:VEVENT
BEGIN:VEVENT
UID:31393233-3766-4332-b135-646164313766
DTSTAMP:20260421T192718Z
DESCRIPTION:4/22166 H. Králové - Č. Budějovice 3:0 (19\,13\,22)
DTSTART;TZID=Europe/Berlin:20230121T100000
DTEND;TZID=Europe/Berlin:20230121T120000
LOCATION:TJ Slavia Hradec Králové\, Víta Nejedlého 1216 Hradec Králové
SUMMARY:1-Z-II: H. Králové-Č. Budějovice
END:VEVENT
BEGIN:VEVENT
UID:35653831-3633-4337-a463-333163383736
DTSTAMP:20260421T192718Z
DESCRIPTION:7/22176 H. Králové - Plzeň 3:1 (11\,-25\,21\,20)
DTSTART;TZID=Europe/Berlin:20230203T190000
DTEND;TZID=Europe/Berlin:20230203T210000
LOCATION:TJ Slavia Hradec Králové\, Víta Nejedlého 1216 Hradec Králové
SUMMARY:1-Z-II: H. Králové-Plzeň
END:VEVENT
BEGIN:VEVENT
UID:38643337-3035-4164-b237-306461323266
DTSTAMP:20260421T192718Z
DESCRIPTION:8/22179 H. Králové - Plzeň 3:0 (12\,10\,21)
DTSTART;TZID=Europe/Berlin:20230204T100000
DTEND;TZID=Europe/Berlin:20230204T120000
LOCATION:TJ Slavia Hradec Králové\, Víta Nejedlého 1216 Hradec Králové
SUMMARY:1-Z-II: H. Králové-Plzeň
END:VEVENT
BEGIN:VEVENT
UID:61633261-6262-4432-b533-343737356363
DTSTAMP:20260421T192718Z
DESCRIPTION:11/22189 H. Králové - Nusle 3:1 (11\,-24\,23\,17)
DTSTART;TZID=Europe/Berlin:20230224T190000
DTEND;TZID=Europe/Berlin:20230224T210000
LOCATION:TJ Slavia Hradec Králové\, Víta Nejedlého 1216 Hradec Králové
SUMMARY:1-Z-II: H. Králové-Nusle
END:VEVENT
BEGIN:VEVENT
UID:34396331-3666-4239-b861-666539313730
DTSTAMP:20260421T192718Z
DESCRIPTION:12/22192 H. Králové - Nusle 3:2 (19\,-23\,15\,-23\,10)
DTSTART;TZID=Europe/Berlin:20230225T100000
DTEND;TZID=Europe/Berlin:20230225T120000
LOCATION:TJ Slavia Hradec Králové\, Víta Nejedlého 1216 Hradec Králové
SUMMARY:1-Z-II: H. Králové-Nusle
END:VEVENT
BEGIN:VEVENT
UID:32313732-3562-4533-a334-666335333436
DTSTAMP:20260421T192718Z
DESCRIPTION:1/22158 Plzeň - H. Králové 3:0 (21\,20\,22)
DTSTART;TZID=Europe/Berlin:20230113T190000
DTEND;TZID=Europe/Berlin:20230113T210000
LOCATION:Městská sportovní hala  -  hala 2\, Úslavská 2357 Plzeň - Východní
  Předměstí
SUMMARY:1-Z-II: Plzeň-H. Králové
END:VEVENT
BEGIN:VEVENT
UID:31646362-6238-4538-a666-656536343839
DTSTAMP:20260421T192719Z
DESCRIPTION:2/22161 Plzeň - H. Králové 1:3 (-17\,17\,-15\,-23)
DTSTART;TZID=Europe/Berlin:20230114T090000
DTEND;TZID=Europe/Berlin:20230114T110000
LOCATION:Sportovní hala - SG Plzeň\, Vejprnická 663 Plzeň - Skvrňany
SUMMARY:1-Z-II: Plzeň-H. Králové
END:VEVENT
BEGIN:VEVENT
UID:33613066-3436-4565-b335-653530383533
DTSTAMP:20260421T192719Z
DESCRIPTION:5/22171 Nusle - H. Králové 0:3 (-21\,-16\,-21)
DTSTART;TZID=Europe/Berlin:20230127T180000
DTEND;TZID=Europe/Berlin:20230127T200000
LOCATION:TJ Sokol Nusle\, Na květnici 700 Praha - Nusle
SUMMARY:1-Z-II: Nusle-H. Králové
END:VEVENT
BEGIN:VEVENT
UID:35396430-3266-4266-b935-613863633532
DTSTAMP:20260421T192719Z
DESCRIPTION:6/22174 Nusle - H. Králové 3:1 (23\,19\,-24\,22)
DTSTART;TZID=Europe/Berlin:20230128T100000
DTEND;TZID=Europe/Berlin:20230128T120000
LOCATION:TJ Sokol Nusle\, Na květnici 700 Praha - Nusle
SUMMARY:1-Z-II: Nusle-H. Králové
END:VEVENT
BEGIN:VEVENT
UID:33656663-3234-4234-a265-363061653465
DTSTAMP:20260421T192719Z
DESCRIPTION:9/22181 Č. Budějovice - H. Králové 3:0 (22\,20\,17)
DTSTART;TZID=Europe/Berlin:20230217T190000
DTEND;TZID=Europe/Berlin:20230217T210000
LOCATION:Sportovní hala\, Stromovka 1216 České Budějovice - České Budějovic
 e 2
SUMMARY:1-Z-II: Č. Budějovice-H. Králové
END:VEVENT
BEGIN:VEVENT
UID:62666532-6431-4730-a164-663333626563
DTSTAMP:20260421T192719Z
DESCRIPTION:10/22184 Č. Budějovice - H. Králové 2:3 (-24\,23\,-19\,17\,-10)
DTSTART;TZID=Europe/Berlin:20230218T120000
DTEND;TZID=Europe/Berlin:20230218T140000
LOCATION:ZŠ Oskara Nedbala České Budějovice\, O. Nedbala 882 České Budějovi
 ce - České Budějovice 2
SUMMARY:1-Z-II: Č. Budějovice-H. Králové
END:VEVENT
BEGIN:VEVENT
UID:36643565-3163-4262-b639-383238653330
DTSTAMP:20260421T192719Z
DESCRIPTION:1/22193 H. Králové - Dobřichovice 3:1 (-10\,22\,17\,21)\n1. kol
 o
DTSTART;TZID=Europe/Berlin:20230303T180000
DTEND;TZID=Europe/Berlin:20230303T200000
LOCATION:TJ Slavia Hradec Králové\, Víta Nejedlého 1216 Hradec Králové
SUMMARY:1-Z-III: H. Králové-Dobřichovice
END:VEVENT
BEGIN:VEVENT
UID:62366162-3135-4137-a263-636361353538
DTSTAMP:20260421T192719Z
DESCRIPTION:2/22201 H. Králové - Bižuterie - SG 0:3 (-18\,-22\,-14)\n2. kol
 o
DTSTART;TZID=Europe/Berlin:20230317T190000
DTEND;TZID=Europe/Berlin:20230317T210000
LOCATION:TJ Slavia Hradec Králové\, Víta Nejedlého 1216 Hradec Králové
SUMMARY:1-Z-III: H. Králové-Bižuterie - SG
END:VEVENT
BEGIN:VEVENT
UID:38396465-3462-4333-b135-373363313933
DTSTAMP:20260421T192719Z
DESCRIPTION:1/22197 Dobřichovice - H. Králové 3:1 (17\,-22\,12\,28)\n1. kol
 o\; ZS: 7:15
DTSTART;TZID=Europe/Berlin:20230304T170000
DTEND;TZID=Europe/Berlin:20230304T190000
LOCATION:TJ Sokol Dobřichovice\, Pražská 375 Dobřichovice
SUMMARY:1-Z-III: Dobřichovice-H. Králové
END:VEVENT
BEGIN:VEVENT
UID:66636666-3531-4633-b536-376431666661
DTSTAMP:20260421T192719Z
DESCRIPTION:2/22203 Bižuterie - SG - H. Králové 3:1 (18\,-13\,20\,18)\n2. k
 olo
DTSTART;TZID=Europe/Berlin:20230318T140000
DTEND;TZID=Europe/Berlin:20230318T160000
LOCATION:Dukla Liberec\, Jeronýmova 558 Liberec - Liberec VII-Horní Růžodol
SUMMARY:1-Z-III: Bižuterie - SG-H. Králové
END:VEVENT
BEGIN:VEVENT
UID:39643234-3563-4363-b464-373038303962
DTSTAMP:20260421T192719Z
DESCRIPTION:3/22206 Prostějov B - H. Králové 3:1 (17\,-19\,10\,20)\nO 3. mí
 sto
DTSTART;TZID=Europe/Berlin:20230324T180000
DTEND;TZID=Europe/Berlin:20230324T200000
LOCATION:Národní sportovní centrum\, Za velodromem 4187 Prostějov
SUMMARY:1-Z-III: Prostějov B-H. Králové
END:VEVENT
BEGIN:VEVENT
UID:39303861-3866-4263-b463-376437646432
DTSTAMP:20260421T192719Z
DESCRIPTION:3/22208 Prostějov B - H. Králové 1:3 (-20\,21\,-23\,-15)\nO 3. 
 místo\; ZS: 15:7
DTSTART;TZID=Europe/Berlin:20230325T120000
DTEND;TZID=Europe/Berlin:20230325T140000
LOCATION:Sportcentrum - dům dětí a mládeže Prostějov\, Olympijská 4228 Pros
 tějov
SUMMARY:1-Z-III: Prostějov B-H. Králové
END:VEVENT
END:VCALENDAR
