BEGIN:VCALENDAR
VERSION:2.0
PRODID:-//Kladno volejbal cz B79018//NONSGML kigkonsult.se iCalcreator 2.41.80//
CALSCALE:GREGORIAN
UID:38643031-3563-4264-b133-313264386465
BEGIN:VEVENT
UID:32376462-3338-4239-a365-303835623061
DTSTAMP:20260422T014838Z
DESCRIPTION:1/3 Kladno B - Příbram B 0:3 (-19\,-26\,-22)\nNH
DTSTART;TZID=Europe/Berlin:20221008T110000
DTEND;TZID=Europe/Berlin:20221008T130000
LOCATION:Hala BIOS\, Jana Palacha 1840 Kladno
SUMMARY:2-M-A: Kladno B-Příbram B
END:VEVENT
BEGIN:VEVENT
UID:62656663-6636-4837-a537-356430393163
DTSTAMP:20260422T014838Z
DESCRIPTION:2/8 Kladno B - Příbram B 0:3 (-17\,-23\,-20)\nNH
DTSTART;TZID=Europe/Berlin:20221008T150000
DTEND;TZID=Europe/Berlin:20221008T170000
LOCATION:Hala BIOS\, Jana Palacha 1840 Kladno
SUMMARY:2-M-A: Kladno B-Příbram B
END:VEVENT
BEGIN:VEVENT
UID:30396433-3734-4134-b833-323734383536
DTSTAMP:20260422T014838Z
DESCRIPTION:5/22 Kladno B - Č. Lípa 2:3 (20\,-21\,22\,-19\,-12)
DTSTART;TZID=Europe/Berlin:20221022T100000
DTEND;TZID=Europe/Berlin:20221022T120000
LOCATION:Kladenská sportovní hala\, Sportovců 817 Kladno - Rozdělov
SUMMARY:2-M-A: Kladno B-Č. Lípa
END:VEVENT
BEGIN:VEVENT
UID:38643933-3263-4337-b438-643265616533
DTSTAMP:20260422T014838Z
DESCRIPTION:6/27 Kladno B - Č. Lípa 1:3 (23\,-21\,-15\,-16)
DTSTART;TZID=Europe/Berlin:20221022T140000
DTEND;TZID=Europe/Berlin:20221022T160000
LOCATION:Kladenská sportovní hala\, Sportovců 817 Kladno - Rozdělov
SUMMARY:2-M-A: Kladno B-Č. Lípa
END:VEVENT
BEGIN:VEVENT
UID:62323830-6534-4239-b437-646437616339
DTSTAMP:20260422T014838Z
DESCRIPTION:9/41 Kladno B - Karlovarsko B 3:0 (22\,18\,28)
DTSTART;TZID=Europe/Berlin:20221112T090000
DTEND;TZID=Europe/Berlin:20221112T110000
LOCATION:Kladenská sportovní hala\, Sportovců 817 Kladno - Rozdělov
SUMMARY:2-M-A: Kladno B-Karlovarsko B
END:VEVENT
BEGIN:VEVENT
UID:36666661-3739-4634-b730-663166373136
DTSTAMP:20260422T014838Z
DESCRIPTION:10/46 Kladno B - Karlovarsko B 3:0 (19\,19\,8)
DTSTART;TZID=Europe/Berlin:20221112T130000
DTEND;TZID=Europe/Berlin:20221112T150000
LOCATION:Kladenská sportovní hala\, Sportovců 817 Kladno - Rozdělov
SUMMARY:2-M-A: Kladno B-Karlovarsko B
END:VEVENT
BEGIN:VEVENT
UID:63353162-3066-4162-a130-303131313437
DTSTAMP:20260422T014838Z
DESCRIPTION:11/55 Kladno B - Domažlice 1:3 (-17\,23\,-19\,-22)
DTSTART;TZID=Europe/Berlin:20221119T090000
DTEND;TZID=Europe/Berlin:20221119T110000
LOCATION:Kladenská sportovní hala\, Sportovců 817 Kladno - Rozdělov
SUMMARY:2-M-A: Kladno B-Domažlice
END:VEVENT
BEGIN:VEVENT
UID:61363739-6230-4535-a138-396232396266
DTSTAMP:20260422T014838Z
DESCRIPTION:12/60 Kladno B - Domažlice 3:2 (-24\,15\,-22\,18\,10)
DTSTART;TZID=Europe/Berlin:20221119T130000
DTEND;TZID=Europe/Berlin:20221119T150000
LOCATION:Kladenská sportovní hala\, Sportovců 817 Kladno - Rozdělov
SUMMARY:2-M-A: Kladno B-Domažlice
END:VEVENT
BEGIN:VEVENT
UID:33323136-6162-4536-b863-346435623963
DTSTAMP:20260422T014838Z
DESCRIPTION:15/74 Kladno B - Malá Skála 3:2 (23\,-19\,-23\,26\,10)
DTSTART;TZID=Europe/Berlin:20221210T110000
DTEND;TZID=Europe/Berlin:20221210T130000
LOCATION:Kladenská sportovní hala\, Sportovců 817 Kladno - Rozdělov
SUMMARY:2-M-A: Kladno B-Malá Skála
END:VEVENT
BEGIN:VEVENT
UID:63653139-3663-4033-b163-646131633061
DTSTAMP:20260422T014838Z
DESCRIPTION:16/79 Kladno B - Malá Skála 2:3 (-20\,-18\,18\,24\,-11)
DTSTART;TZID=Europe/Berlin:20221210T150000
DTEND;TZID=Europe/Berlin:20221210T170000
LOCATION:Kladenská sportovní hala\, Sportovců 817 Kladno - Rozdělov
SUMMARY:2-M-A: Kladno B-Malá Skála
END:VEVENT
BEGIN:VEVENT
UID:62323461-3162-4263-a663-363137313538
DTSTAMP:20260422T014838Z
DESCRIPTION:21/104 Kladno B - Mn. Hradiště 0:3 (-21\,-13\,-22)
DTSTART;TZID=Europe/Berlin:20230108T100000
DTEND;TZID=Europe/Berlin:20230108T120000
LOCATION:Kladenská sportovní hala\, Sportovců 817 Kladno - Rozdělov
SUMMARY:2-M-A: Kladno B-Mn. Hradiště
END:VEVENT
BEGIN:VEVENT
UID:30323739-6439-4364-b964-633834393633
DTSTAMP:20260422T014838Z
DESCRIPTION:22/109 Kladno B - Mn. Hradiště 3:1 (23\,20\,-24\,28)
DTSTART;TZID=Europe/Berlin:20230108T130000
DTEND;TZID=Europe/Berlin:20230108T150000
LOCATION:Kladenská sportovní hala\, Sportovců 817 Kladno - Rozdělov
SUMMARY:2-M-A: Kladno B-Mn. Hradiště
END:VEVENT
BEGIN:VEVENT
UID:62346633-6364-4335-b636-343762326131
DTSTAMP:20260422T014838Z
DESCRIPTION:25/125 Kladno B - Prosek 3:0 (18\,16\,21)
DTSTART;TZID=Europe/Berlin:20230211T100000
DTEND;TZID=Europe/Berlin:20230211T120000
LOCATION:Kladenská sportovní hala\, Sportovců 817 Kladno - Rozdělov
SUMMARY:2-M-A: Kladno B-Prosek
END:VEVENT
BEGIN:VEVENT
UID:36663062-3331-4664-b537-353265653834
DTSTAMP:20260422T014838Z
DESCRIPTION:26/130 Kladno B - Prosek 3:1 (10\,21\,-20\,17)
DTSTART;TZID=Europe/Berlin:20230211T140000
DTEND;TZID=Europe/Berlin:20230211T160000
LOCATION:Kladenská sportovní hala\, Sportovců 817 Kladno - Rozdělov
SUMMARY:2-M-A: Kladno B-Prosek
END:VEVENT
BEGIN:VEVENT
UID:61303231-3565-4931-b233-626530353235
DTSTAMP:20260422T014838Z
DESCRIPTION:31/152 Kladno B - Netolice 0:3 (-21\,-27\,-15)
DTSTART;TZID=Europe/Berlin:20230311T100000
DTEND;TZID=Europe/Berlin:20230311T120000
LOCATION:Kladenská sportovní hala\, Sportovců 817 Kladno - Rozdělov
SUMMARY:2-M-A: Kladno B-Netolice
END:VEVENT
BEGIN:VEVENT
UID:38333137-6562-4139-b363-656538626636
DTSTAMP:20260422T014838Z
DESCRIPTION:32/157 Kladno B - Netolice 0:3 (-12\,-20\,-30)
DTSTART;TZID=Europe/Berlin:20230311T140000
DTEND;TZID=Europe/Berlin:20230311T160000
LOCATION:Kladenská sportovní hala\, Sportovců 817 Kladno - Rozdělov
SUMMARY:2-M-A: Kladno B-Netolice
END:VEVENT
BEGIN:VEVENT
UID:61336231-6337-4434-b464-336438386238
DTSTAMP:20260422T014838Z
DESCRIPTION:35/173 Kladno B - Sokolov 3:1 (17\,14\,-22\,23)
DTSTART;TZID=Europe/Berlin:20230325T110000
DTEND;TZID=Europe/Berlin:20230325T130000
LOCATION:Kladenská sportovní hala\, Sportovců 817 Kladno - Rozdělov
SUMMARY:2-M-A: Kladno B-Sokolov
END:VEVENT
BEGIN:VEVENT
UID:61663438-3933-4738-b766-383833303362
DTSTAMP:20260422T014838Z
DESCRIPTION:36/178 Kladno B - Sokolov 3:0 (15\,18\,15)
DTSTART;TZID=Europe/Berlin:20230325T150000
DTEND;TZID=Europe/Berlin:20230325T170000
LOCATION:Kladenská sportovní hala\, Sportovců 817 Kladno - Rozdělov
SUMMARY:2-M-A: Kladno B-Sokolov
END:VEVENT
BEGIN:VEVENT
UID:61626538-6231-4139-b433-613530653061
DTSTAMP:20260422T014838Z
DESCRIPTION:3/14 Mn. Hradiště - Kladno B 3:0 (21\,20\,21)
DTSTART;TZID=Europe/Berlin:20221113T093000
DTEND;TZID=Europe/Berlin:20221113T113000
LOCATION:Sportovní hala BIOS\, Sokolovská 254 Mnichovo Hradiště
SUMMARY:2-M-A: Mn. Hradiště-Kladno B
END:VEVENT
BEGIN:VEVENT
UID:63373032-3136-4465-b731-396433303031
DTSTAMP:20260422T014838Z
DESCRIPTION:4/19 Mn. Hradiště - Kladno B 3:1 (18\,16\,-24\,21)
DTSTART;TZID=Europe/Berlin:20221113T120000
DTEND;TZID=Europe/Berlin:20221113T140000
LOCATION:Sportovní hala BIOS\, Sokolovská 254 Mnichovo Hradiště
SUMMARY:2-M-A: Mn. Hradiště-Kladno B
END:VEVENT
BEGIN:VEVENT
UID:61646666-3964-4536-b233-383730383733
DTSTAMP:20260422T014838Z
DESCRIPTION:7/35 Prosek - Kladno B 2:3 (29\,-15\,-22\,23\,-13)
DTSTART;TZID=Europe/Berlin:20221105T100000
DTEND;TZID=Europe/Berlin:20221105T120000
LOCATION:SH SK Prosek\, Lovosická 559 Praha - Letňany
SUMMARY:2-M-A: Prosek-Kladno B
END:VEVENT
BEGIN:VEVENT
UID:36386364-6334-4639-a231-643438383731
DTSTAMP:20260422T014838Z
DESCRIPTION:8/40 Prosek - Kladno B 3:1 (-20\,16\,22\,19)
DTSTART;TZID=Europe/Berlin:20221105T140000
DTEND;TZID=Europe/Berlin:20221105T160000
LOCATION:SH SK Prosek\, Lovosická 559 Praha - Letňany
SUMMARY:2-M-A: Prosek-Kladno B
END:VEVENT
BEGIN:VEVENT
UID:30363438-3134-4939-a637-333534396462
DTSTAMP:20260422T014838Z
DESCRIPTION:13/62 Netolice - Kladno B 3:0 (19\,21\,15)
DTSTART;TZID=Europe/Berlin:20221203T100000
DTEND;TZID=Europe/Berlin:20221203T120000
LOCATION:Sportovní hala TJ Netolice\, Tyršova 226 Netolice
SUMMARY:2-M-A: Netolice-Kladno B
END:VEVENT
BEGIN:VEVENT
UID:32663639-3034-4761-a663-386665386635
DTSTAMP:20260422T014838Z
DESCRIPTION:14/67 Netolice - Kladno B 3:0 (21\,18\,17)
DTSTART;TZID=Europe/Berlin:20221203T140000
DTEND;TZID=Europe/Berlin:20221203T160000
LOCATION:Sportovní hala TJ Netolice\, Tyršova 226 Netolice
SUMMARY:2-M-A: Netolice-Kladno B
END:VEVENT
BEGIN:VEVENT
UID:31383232-6639-4139-b264-393966333763
DTSTAMP:20260422T014838Z
DESCRIPTION:17/83 Sokolov - Kladno B 3:0 (7\,20\,21)
DTSTART;TZID=Europe/Berlin:20221217T110000
DTEND;TZID=Europe/Berlin:20221217T130000
LOCATION:Jiskra\, Maxima Gorkého 280 Sokolov
SUMMARY:2-M-A: Sokolov-Kladno B
END:VEVENT
BEGIN:VEVENT
UID:65633066-3564-4632-a661-633365313530
DTSTAMP:20260422T014838Z
DESCRIPTION:18/88 Sokolov - Kladno B 3:2 (16\,11\,-22\,-14\,9)
DTSTART;TZID=Europe/Berlin:20221217T150000
DTEND;TZID=Europe/Berlin:20221217T170000
LOCATION:Jiskra\, Maxima Gorkého 280 Sokolov
SUMMARY:2-M-A: Sokolov-Kladno B
END:VEVENT
BEGIN:VEVENT
UID:36356336-6464-4363-b130-383062326465
DTSTAMP:20260422T014838Z
DESCRIPTION:19/93 Příbram B - Kladno B 3:2 (-20\,23\,17\,-23\,13)
DTSTART;TZID=Europe/Berlin:20230304T100000
DTEND;TZID=Europe/Berlin:20230304T120000
LOCATION:Tělocvična ZŠ Balbínova\, Balbínova 328 Příbram - Příbram II
SUMMARY:2-M-A: Příbram B-Kladno B
END:VEVENT
BEGIN:VEVENT
UID:64343538-3833-4330-b665-663039336337
DTSTAMP:20260422T014838Z
DESCRIPTION:20/98 Příbram B - Kladno B 1:3 (23\,-23\,-14\,-29)
DTSTART;TZID=Europe/Berlin:20230304T140000
DTEND;TZID=Europe/Berlin:20230304T160000
LOCATION:Tělocvična ZŠ Balbínova\, Balbínova 328 Příbram - Příbram II
SUMMARY:2-M-A: Příbram B-Kladno B
END:VEVENT
BEGIN:VEVENT
UID:35356332-3064-4434-a134-333137333062
DTSTAMP:20260422T014838Z
DESCRIPTION:23/112 Č. Lípa - Kladno B 3:1 (16\,28\,-24\,17)
DTSTART;TZID=Europe/Berlin:20230128T100000
DTEND;TZID=Europe/Berlin:20230128T120000
LOCATION:Stará sportovní hala\, Wedrichova 1439 Česká Lípa
SUMMARY:2-M-A: Č. Lípa-Kladno B
END:VEVENT
BEGIN:VEVENT
UID:39626261-3466-4866-b532-643137653333
DTSTAMP:20260422T014838Z
DESCRIPTION:24/117 Č. Lípa - Kladno B 3:0 (15\,19\,15)
DTSTART;TZID=Europe/Berlin:20230128T140000
DTEND;TZID=Europe/Berlin:20230128T160000
LOCATION:Stará sportovní hala\, Wedrichova 1439 Česká Lípa
SUMMARY:2-M-A: Č. Lípa-Kladno B
END:VEVENT
BEGIN:VEVENT
UID:37346563-3962-4635-b862-333261333562
DTSTAMP:20260422T014838Z
DESCRIPTION:27/131 Karlovarsko B - Kladno B 2:3 (-16\,-22\,27\,13\,-11)
DTSTART;TZID=Europe/Berlin:20230218T100000
DTEND;TZID=Europe/Berlin:20230218T120000
LOCATION:Hala Střední pedagogické školy\, Lidická 455 Karlovy Vary - Drahov
 ice
SUMMARY:2-M-A: Karlovarsko B-Kladno B
END:VEVENT
BEGIN:VEVENT
UID:38373862-3135-4432-b263-373637633836
DTSTAMP:20260422T014838Z
DESCRIPTION:28/136 Karlovarsko B - Kladno B 0:3 (-20\,-16\,-17)
DTSTART;TZID=Europe/Berlin:20230218T140000
DTEND;TZID=Europe/Berlin:20230218T160000
LOCATION:Hala Střední pedagogické školy\, Lidická 455 Karlovy Vary - Drahov
 ice
SUMMARY:2-M-A: Karlovarsko B-Kladno B
END:VEVENT
BEGIN:VEVENT
UID:38323565-3030-4934-b439-613136613030
DTSTAMP:20260422T014838Z
DESCRIPTION:29/145 Domažlice - Kladno B 3:1 (-21\,25\,20\,16)
DTSTART;TZID=Europe/Berlin:20230225T110000
DTEND;TZID=Europe/Berlin:20230225T130000
LOCATION:Sportovní hala ZŠ Komenského Domažlice\, Komenského 17 Domažlice -
  Týnské Předměstí
SUMMARY:2-M-A: Domažlice-Kladno B
END:VEVENT
BEGIN:VEVENT
UID:36633530-3033-4934-a239-623832653563
DTSTAMP:20260422T014838Z
DESCRIPTION:30/150 Domažlice - Kladno B 3:0 (14\,19\,19)
DTSTART;TZID=Europe/Berlin:20230225T150000
DTEND;TZID=Europe/Berlin:20230225T170000
LOCATION:Sportovní hala ZŠ Komenského Domažlice\, Komenského 17 Domažlice -
  Týnské Předměstí
SUMMARY:2-M-A: Domažlice-Kladno B
END:VEVENT
BEGIN:VEVENT
UID:66323330-3638-4737-b662-303838396335
DTSTAMP:20260422T014838Z
DESCRIPTION:33/164 Malá Skála - Kladno B 2:3 (-22\,23\,-22\,20\,-13)
DTSTART;TZID=Europe/Berlin:20230318T143000
DTEND;TZID=Europe/Berlin:20230318T163000
LOCATION:tělocvična ZŠ\,  Malá Skála - Vranové 1.díl60
SUMMARY:2-M-A: Malá Skála-Kladno B
END:VEVENT
BEGIN:VEVENT
UID:35646135-3563-4461-b930-383934653663
DTSTAMP:20260422T014838Z
DESCRIPTION:34/169 Malá Skála - Kladno B 3:0 (24\,16\,19)
DTSTART;TZID=Europe/Berlin:20230318T183000
DTEND;TZID=Europe/Berlin:20230318T203000
LOCATION:tělocvična ZŠ\,  Malá Skála - Vranové 1.díl60
SUMMARY:2-M-A: Malá Skála-Kladno B
END:VEVENT
END:VCALENDAR
