BEGIN:VCALENDAR
VERSION:2.0
PRODID:-//VK Napajedla79030//NONSGML kigkonsult.se iCalcreator 2.41.80//
CALSCALE:GREGORIAN
UID:31303136-3039-4334-a364-626238386364
BEGIN:VEVENT
UID:30626438-3431-4464-a339-326264653238
DTSTAMP:20260422T001253Z
DESCRIPTION:1/3 Napajedla - Kometa 0:3 (-22\,-19\,-24)
DTSTART;TZID=Europe/Berlin:20221008T090000
DTEND;TZID=Europe/Berlin:20221008T110000
LOCATION:2.ZŠ Napajedla\, Komenského 298 Napajedla
SUMMARY:2-M-C: Napajedla-Kometa
END:VEVENT
BEGIN:VEVENT
UID:30613066-6136-4264-a136-303638666665
DTSTAMP:20260422T001253Z
DESCRIPTION:2/8 Napajedla - Kometa 0:3 (-19\,-19\,-20)
DTSTART;TZID=Europe/Berlin:20221008T140000
DTEND;TZID=Europe/Berlin:20221008T160000
LOCATION:2.ZŠ Napajedla\, Komenského 298 Napajedla
SUMMARY:2-M-C: Napajedla-Kometa
END:VEVENT
BEGIN:VEVENT
UID:62323762-6161-4666-b939-363638396334
DTSTAMP:20260422T001253Z
DESCRIPTION:5/22 Napajedla - Staré Město 1:3 (23\,-18\,-22\,-17)
DTSTART;TZID=Europe/Berlin:20221022T100000
DTEND;TZID=Europe/Berlin:20221022T120000
LOCATION:2.ZŠ Napajedla\, Komenského 298 Napajedla
SUMMARY:2-M-C: Napajedla-Staré Město
END:VEVENT
BEGIN:VEVENT
UID:39386239-6462-4436-a262-353564333530
DTSTAMP:20260422T001253Z
DESCRIPTION:6/27 Napajedla - Staré Město 3:0 (20\,22\,21)
DTSTART;TZID=Europe/Berlin:20221022T130000
DTEND;TZID=Europe/Berlin:20221022T150000
LOCATION:2.ZŠ Napajedla\, Komenského 298 Napajedla
SUMMARY:2-M-C: Napajedla-Staré Město
END:VEVENT
BEGIN:VEVENT
UID:38373333-6266-4539-a339-336435613664
DTSTAMP:20260422T001253Z
DESCRIPTION:9/41 Napajedla - Holubice 0:3 (-16\,-15\,-15)
DTSTART;TZID=Europe/Berlin:20221112T113000
DTEND;TZID=Europe/Berlin:20221112T133000
LOCATION:2.ZŠ Napajedla\, Komenského 298 Napajedla
SUMMARY:2-M-C: Napajedla-Holubice
END:VEVENT
BEGIN:VEVENT
UID:66643938-3166-4735-a331-366163643135
DTSTAMP:20260422T001253Z
DESCRIPTION:10/46 Napajedla - Holubice 0:3 (-21\,-18\,-13)
DTSTART;TZID=Europe/Berlin:20221112T163000
DTEND;TZID=Europe/Berlin:20221112T183000
LOCATION:2.ZŠ Napajedla\, Komenského 298 Napajedla
SUMMARY:2-M-C: Napajedla-Holubice
END:VEVENT
BEGIN:VEVENT
UID:35633831-3563-4638-b637-346334646339
DTSTAMP:20260422T001253Z
DESCRIPTION:11/55 Napajedla - Nový Jičín 0:3 (-17\,-21\,-15)
DTSTART;TZID=Europe/Berlin:20221119T100000
DTEND;TZID=Europe/Berlin:20221119T120000
LOCATION:2.ZŠ Napajedla\, Komenského 298 Napajedla
SUMMARY:2-M-C: Napajedla-Nový Jičín
END:VEVENT
BEGIN:VEVENT
UID:31323437-6437-4534-a465-646565323235
DTSTAMP:20260422T001253Z
DESCRIPTION:12/60 Napajedla - Nový Jičín 1:3 (18\,-20\,-23\,-20)
DTSTART;TZID=Europe/Berlin:20221119T130000
DTEND;TZID=Europe/Berlin:20221119T150000
LOCATION:2.ZŠ Napajedla\, Komenského 298 Napajedla
SUMMARY:2-M-C: Napajedla-Nový Jičín
END:VEVENT
BEGIN:VEVENT
UID:30333934-6434-4837-b633-663766383362
DTSTAMP:20260422T001253Z
DESCRIPTION:15/74 Napajedla - Palkovice 3:1 (-23\,20\,20\,18)
DTSTART;TZID=Europe/Berlin:20221210T100000
DTEND;TZID=Europe/Berlin:20221210T120000
LOCATION:2.ZŠ Napajedla\, Komenského 298 Napajedla
SUMMARY:2-M-C: Napajedla-Palkovice
END:VEVENT
BEGIN:VEVENT
UID:31366138-3138-4265-b961-663330343531
DTSTAMP:20260422T001253Z
DESCRIPTION:16/79 Napajedla - Palkovice 1:3 (-24\,-24\,22\,-25)
DTSTART;TZID=Europe/Berlin:20221210T140000
DTEND;TZID=Europe/Berlin:20221210T160000
LOCATION:2.ZŠ Napajedla\, Komenského 298 Napajedla
SUMMARY:2-M-C: Napajedla-Palkovice
END:VEVENT
BEGIN:VEVENT
UID:39343731-3633-4439-b938-656437363231
DTSTAMP:20260422T001253Z
DESCRIPTION:21/104 Napajedla - Morávka 0:3 (-17\,-20\,-21)
DTSTART;TZID=Europe/Berlin:20230121T090000
DTEND;TZID=Europe/Berlin:20230121T110000
LOCATION:2.ZŠ Napajedla\, Komenského 298 Napajedla
SUMMARY:2-M-C: Napajedla-Morávka
END:VEVENT
BEGIN:VEVENT
UID:66363966-3463-4535-b832-383230656437
DTSTAMP:20260422T001253Z
DESCRIPTION:22/109 Napajedla - Morávka 1:3 (-17\,23\,-23\,-17)
DTSTART;TZID=Europe/Berlin:20230121T130000
DTEND;TZID=Europe/Berlin:20230121T150000
LOCATION:2.ZŠ Napajedla\, Komenského 298 Napajedla
SUMMARY:2-M-C: Napajedla-Morávka
END:VEVENT
BEGIN:VEVENT
UID:66653334-3930-4230-a138-313039643436
DTSTAMP:20260422T001253Z
DESCRIPTION:25/125 Napajedla - Šlapanice 3:1 (-23\,23\,21\,18)
DTSTART;TZID=Europe/Berlin:20230211T100000
DTEND;TZID=Europe/Berlin:20230211T120000
LOCATION:2.ZŠ Napajedla\, Komenského 298 Napajedla
SUMMARY:2-M-C: Napajedla-Šlapanice
END:VEVENT
BEGIN:VEVENT
UID:38313764-3939-4363-b539-303134633335
DTSTAMP:20260422T001253Z
DESCRIPTION:26/130 Napajedla - Šlapanice 0:3 (-22\,-17\,-21)
DTSTART;TZID=Europe/Berlin:20230211T130000
DTEND;TZID=Europe/Berlin:20230211T150000
LOCATION:2.ZŠ Napajedla\, Komenského 298 Napajedla
SUMMARY:2-M-C: Napajedla-Šlapanice
END:VEVENT
BEGIN:VEVENT
UID:34366161-6365-4865-b230-663762386465
DTSTAMP:20260422T001253Z
DESCRIPTION:31/152 Napajedla - Brno - jih 0:3 (-17\,-19\,-25)
DTSTART;TZID=Europe/Berlin:20230311T100000
DTEND;TZID=Europe/Berlin:20230311T120000
LOCATION:2.ZŠ Napajedla\, Komenského 298 Napajedla
SUMMARY:2-M-C: Napajedla-Brno - jih
END:VEVENT
BEGIN:VEVENT
UID:63636364-6233-4636-b861-343432656538
DTSTAMP:20260422T001253Z
DESCRIPTION:32/157 Napajedla - Brno - jih 0:3 (-13\,-21\,-22)
DTSTART;TZID=Europe/Berlin:20230311T130000
DTEND;TZID=Europe/Berlin:20230311T150000
LOCATION:2.ZŠ Napajedla\, Komenského 298 Napajedla
SUMMARY:2-M-C: Napajedla-Brno - jih
END:VEVENT
BEGIN:VEVENT
UID:64353338-3163-4561-b735-663462383030
DTSTAMP:20260422T001253Z
DESCRIPTION:35/173 Napajedla - Kojetín 3:1 (23\,23\,-19\,20)
DTSTART;TZID=Europe/Berlin:20230325T100000
DTEND;TZID=Europe/Berlin:20230325T120000
LOCATION:2.ZŠ Napajedla\, Komenského 298 Napajedla
SUMMARY:2-M-C: Napajedla-Kojetín
END:VEVENT
BEGIN:VEVENT
UID:62316635-6132-4336-a435-396436613131
DTSTAMP:20260422T001253Z
DESCRIPTION:36/178 Napajedla - Kojetín 3:0 (17\,25\,19)
DTSTART;TZID=Europe/Berlin:20230325T130000
DTEND;TZID=Europe/Berlin:20230325T150000
LOCATION:2.ZŠ Napajedla\, Komenského 298 Napajedla
SUMMARY:2-M-C: Napajedla-Kojetín
END:VEVENT
BEGIN:VEVENT
UID:38333036-3362-4030-b236-333536373435
DTSTAMP:20260422T001253Z
DESCRIPTION:3/14 Morávka - Napajedla 3:0 (15\,16\,21)
DTSTART;TZID=Europe/Berlin:20221015T100000
DTEND;TZID=Europe/Berlin:20221015T120000
LOCATION:tělocvična ZŠ Morávka\,  Morávka178
SUMMARY:2-M-C: Morávka-Napajedla
END:VEVENT
BEGIN:VEVENT
UID:63383037-6265-4136-b738-363566633339
DTSTAMP:20260422T001253Z
DESCRIPTION:4/19 Morávka - Napajedla 3:1 (18\,-18\,19\,11)
DTSTART;TZID=Europe/Berlin:20221015T140000
DTEND;TZID=Europe/Berlin:20221015T160000
LOCATION:tělocvična ZŠ Morávka\,  Morávka178
SUMMARY:2-M-C: Morávka-Napajedla
END:VEVENT
BEGIN:VEVENT
UID:33623235-6237-4662-b835-396366643933
DTSTAMP:20260422T001253Z
DESCRIPTION:7/35 Šlapanice - Napajedla 3:0 (9\,20\,14)
DTSTART;TZID=Europe/Berlin:20221105T110000
DTEND;TZID=Europe/Berlin:20221105T130000
LOCATION:Hala TJ Sokol Šlapanice\, Smetanova 1662 Šlapanice
SUMMARY:2-M-C: Šlapanice-Napajedla
END:VEVENT
BEGIN:VEVENT
UID:64303331-3934-4632-b936-613632313230
DTSTAMP:20260422T001253Z
DESCRIPTION:8/40 Šlapanice - Napajedla 3:0 (23\,18\,19)
DTSTART;TZID=Europe/Berlin:20221105T150000
DTEND;TZID=Europe/Berlin:20221105T170000
LOCATION:Hala TJ Sokol Šlapanice\, Smetanova 1662 Šlapanice
SUMMARY:2-M-C: Šlapanice-Napajedla
END:VEVENT
BEGIN:VEVENT
UID:34656564-6666-4262-b033-656663353739
DTSTAMP:20260422T001253Z
DESCRIPTION:13/62 Brno - jih - Napajedla 3:2 (-24\,-23\,10\,18\,14)
DTSTART;TZID=Europe/Berlin:20221203T110000
DTEND;TZID=Europe/Berlin:20221203T130000
LOCATION:ZŠ Tuháčkova\, Tuháčkova 23 Brno - Komárov
SUMMARY:2-M-C: Brno - jih-Napajedla
END:VEVENT
BEGIN:VEVENT
UID:30613839-6435-4063-b762-643234616665
DTSTAMP:20260422T001253Z
DESCRIPTION:14/67 Brno - jih - Napajedla 3:0 (19\,23\,15)
DTSTART;TZID=Europe/Berlin:20221203T150000
DTEND;TZID=Europe/Berlin:20221203T170000
LOCATION:ZŠ Tuháčkova\, Tuháčkova 23 Brno - Komárov
SUMMARY:2-M-C: Brno - jih-Napajedla
END:VEVENT
BEGIN:VEVENT
UID:61646363-6464-4135-b933-666263383863
DTSTAMP:20260422T001253Z
DESCRIPTION:17/83 Kojetín - Napajedla 3:0 (19\,16\,22)
DTSTART;TZID=Europe/Berlin:20221217T090000
DTEND;TZID=Europe/Berlin:20221217T110000
LOCATION:Městská sportovní hala\, Hanusíkova 1476 Kojetín - Kojetín I-Město
SUMMARY:2-M-C: Kojetín-Napajedla
END:VEVENT
BEGIN:VEVENT
UID:39626637-3337-4863-b631-633464363663
DTSTAMP:20260422T001253Z
DESCRIPTION:18/88 Kojetín - Napajedla 3:0 (21\,16\,17)
DTSTART;TZID=Europe/Berlin:20221217T130000
DTEND;TZID=Europe/Berlin:20221217T150000
LOCATION:Městská sportovní hala\, Hanusíkova 1476 Kojetín - Kojetín I-Město
SUMMARY:2-M-C: Kojetín-Napajedla
END:VEVENT
BEGIN:VEVENT
UID:65333439-6439-4730-b065-356230633163
DTSTAMP:20260422T001253Z
DESCRIPTION:19/93 Kometa - Napajedla 2:3 (-28\,15\,-24\,14\,-13)
DTSTART;TZID=Europe/Berlin:20230114T100000
DTEND;TZID=Europe/Berlin:20230114T120000
LOCATION:TJ Tesla Brno\, Halasovo náměstí 826 Brno - Lesná
SUMMARY:2-M-C: Kometa-Napajedla
END:VEVENT
BEGIN:VEVENT
UID:34636635-3932-4537-a133-303734313233
DTSTAMP:20260422T001253Z
DESCRIPTION:20/98 Kometa - Napajedla 3:1 (23\,-23\,22\,14)
DTSTART;TZID=Europe/Berlin:20230114T130000
DTEND;TZID=Europe/Berlin:20230114T150000
LOCATION:TJ Tesla Brno\, Halasovo náměstí 826 Brno - Lesná
SUMMARY:2-M-C: Kometa-Napajedla
END:VEVENT
BEGIN:VEVENT
UID:63353038-3363-4364-b936-643137633165
DTSTAMP:20260422T001253Z
DESCRIPTION:23/112 Staré Město - Napajedla 2:3 (21\,-22\,-18\,19\,-15)
DTSTART;TZID=Europe/Berlin:20230128T100000
DTEND;TZID=Europe/Berlin:20230128T120000
LOCATION:Městská sportovní hala Širůch\, Nad Hřištěm 1921 Staré Město
SUMMARY:2-M-C: Staré Město-Napajedla
END:VEVENT
BEGIN:VEVENT
UID:61313739-6230-4364-a334-396531623263
DTSTAMP:20260422T001253Z
DESCRIPTION:24/117 Staré Město - Napajedla 3:0 (12\,22\,19)
DTSTART;TZID=Europe/Berlin:20230128T130000
DTEND;TZID=Europe/Berlin:20230128T150000
LOCATION:Městská sportovní hala Širůch\, Nad Hřištěm 1921 Staré Město
SUMMARY:2-M-C: Staré Město-Napajedla
END:VEVENT
BEGIN:VEVENT
UID:31356561-3532-4836-a431-623032303966
DTSTAMP:20260422T001253Z
DESCRIPTION:27/131 Holubice - Napajedla 3:0 (16\,22\,12)
DTSTART;TZID=Europe/Berlin:20230218T100000
DTEND;TZID=Europe/Berlin:20230218T120000
LOCATION:Sportovní hala Holubice\,  Holubice299
SUMMARY:2-M-C: Holubice-Napajedla
END:VEVENT
BEGIN:VEVENT
UID:37623136-3566-4136-b234-323739663832
DTSTAMP:20260422T001253Z
DESCRIPTION:28/136 Holubice - Napajedla 3:0 (12\,20\,20)
DTSTART;TZID=Europe/Berlin:20230218T140000
DTEND;TZID=Europe/Berlin:20230218T160000
LOCATION:Sportovní hala Holubice\,  Holubice299
SUMMARY:2-M-C: Holubice-Napajedla
END:VEVENT
BEGIN:VEVENT
UID:63333466-6162-4934-b161-616362383066
DTSTAMP:20260422T001253Z
DESCRIPTION:29/145 Nový Jičín - Napajedla 3:1 (19\,25\,-23\,21)
DTSTART;TZID=Europe/Berlin:20230225T100000
DTEND;TZID=Europe/Berlin:20230225T120000
LOCATION:Hala ABC\, Purkyňova 116 Nový Jičín
SUMMARY:2-M-C: Nový Jičín-Napajedla
END:VEVENT
BEGIN:VEVENT
UID:64393834-3364-4635-a463-306436353564
DTSTAMP:20260422T001253Z
DESCRIPTION:30/150 Nový Jičín - Napajedla 3:0 (11\,17\,19)
DTSTART;TZID=Europe/Berlin:20230225T140000
DTEND;TZID=Europe/Berlin:20230225T160000
LOCATION:Hala ABC\, Purkyňova 116 Nový Jičín
SUMMARY:2-M-C: Nový Jičín-Napajedla
END:VEVENT
BEGIN:VEVENT
UID:35633839-3965-4833-b362-663039623762
DTSTAMP:20260422T001253Z
DESCRIPTION:33/164 Palkovice - Napajedla 3:0 (21\,16\,17)
DTSTART;TZID=Europe/Berlin:20230318T110000
DTEND;TZID=Europe/Berlin:20230318T130000
LOCATION:Sportovní hala Palkovice\,  Palkovice20
SUMMARY:2-M-C: Palkovice-Napajedla
END:VEVENT
BEGIN:VEVENT
UID:66626633-6239-4239-b030-376566653037
DTSTAMP:20260422T001253Z
DESCRIPTION:34/169 Palkovice - Napajedla 3:1 (16\,19\,-22\,22)
DTSTART;TZID=Europe/Berlin:20230318T140000
DTEND;TZID=Europe/Berlin:20230318T160000
LOCATION:Sportovní hala Palkovice\,  Palkovice20
SUMMARY:2-M-C: Palkovice-Napajedla
END:VEVENT
END:VCALENDAR
