BEGIN:VCALENDAR
VERSION:2.0
PRODID:-//TJ Sokol Brno - jih79037//NONSGML kigkonsult.se iCalcreator 2.41.80//
CALSCALE:GREGORIAN
UID:39386265-6164-4461-b964-323462636334
BEGIN:VEVENT
UID:38613733-3738-4663-b531-643033353666
DTSTAMP:20260421T223036Z
DESCRIPTION:1/5 Brno - jih - Palkovice 3:0 (21\,17\,26)
DTSTART;TZID=Europe/Berlin:20221008T110000
DTEND;TZID=Europe/Berlin:20221008T130000
LOCATION:ZŠ Tuháčkova\, Tuháčkova 23 Brno - Komárov
SUMMARY:2-M-C: Brno - jih-Palkovice
END:VEVENT
BEGIN:VEVENT
UID:39393866-3537-4335-b331-306530653363
DTSTAMP:20260421T223036Z
DESCRIPTION:2/10 Brno - jih - Palkovice 3:0 (20\,15\,21)
DTSTART;TZID=Europe/Berlin:20221008T150000
DTEND;TZID=Europe/Berlin:20221008T170000
LOCATION:ZŠ Tuháčkova\, Tuháčkova 23 Brno - Komárov
SUMMARY:2-M-C: Brno - jih-Palkovice
END:VEVENT
BEGIN:VEVENT
UID:37613161-3463-4533-b465-623233666635
DTSTAMP:20260421T223036Z
DESCRIPTION:5/24 Brno - jih - Kometa 3:2 (-21\,18\,-19\,15\,7)
DTSTART;TZID=Europe/Berlin:20221022T100000
DTEND;TZID=Europe/Berlin:20221022T120000
LOCATION:ZŠ Tuháčkova\, Tuháčkova 23 Brno - Komárov
SUMMARY:2-M-C: Brno - jih-Kometa
END:VEVENT
BEGIN:VEVENT
UID:31366666-3932-4638-b232-326361616331
DTSTAMP:20260421T223036Z
DESCRIPTION:6/29 Brno - jih - Kometa 3:1 (21\,17\,-27\,17)
DTSTART;TZID=Europe/Berlin:20221022T140000
DTEND;TZID=Europe/Berlin:20221022T160000
LOCATION:ZŠ Tuháčkova\, Tuháčkova 23 Brno - Komárov
SUMMARY:2-M-C: Brno - jih-Kometa
END:VEVENT
BEGIN:VEVENT
UID:39623239-6336-4931-a663-653763363331
DTSTAMP:20260421T223036Z
DESCRIPTION:9/43 Brno - jih - Staré Město 3:1 (18\,16\,-24\,18)
DTSTART;TZID=Europe/Berlin:20221112T110000
DTEND;TZID=Europe/Berlin:20221112T130000
LOCATION:ZŠ Tuháčkova\, Tuháčkova 23 Brno - Komárov
SUMMARY:2-M-C: Brno - jih-Staré Město
END:VEVENT
BEGIN:VEVENT
UID:39353635-3034-4166-b863-646166303362
DTSTAMP:20260421T223036Z
DESCRIPTION:10/48 Brno - jih - Staré Město 3:1 (-21\,23\,13\,19)
DTSTART;TZID=Europe/Berlin:20221112T150000
DTEND;TZID=Europe/Berlin:20221112T170000
LOCATION:ZŠ Tuháčkova\, Tuháčkova 23 Brno - Komárov
SUMMARY:2-M-C: Brno - jih-Staré Město
END:VEVENT
BEGIN:VEVENT
UID:62323430-3532-4030-a530-646466626661
DTSTAMP:20260421T223036Z
DESCRIPTION:13/62 Brno - jih - Napajedla 3:2 (-24\,-23\,10\,18\,14)
DTSTART;TZID=Europe/Berlin:20221203T110000
DTEND;TZID=Europe/Berlin:20221203T130000
LOCATION:ZŠ Tuháčkova\, Tuháčkova 23 Brno - Komárov
SUMMARY:2-M-C: Brno - jih-Napajedla
END:VEVENT
BEGIN:VEVENT
UID:30626464-6633-4665-b032-313038343163
DTSTAMP:20260421T223036Z
DESCRIPTION:14/67 Brno - jih - Napajedla 3:0 (19\,23\,15)
DTSTART;TZID=Europe/Berlin:20221203T150000
DTEND;TZID=Europe/Berlin:20221203T170000
LOCATION:ZŠ Tuháčkova\, Tuháčkova 23 Brno - Komárov
SUMMARY:2-M-C: Brno - jih-Napajedla
END:VEVENT
BEGIN:VEVENT
UID:33393737-3663-4436-a236-396364623937
DTSTAMP:20260421T223036Z
DESCRIPTION:15/75 Brno - jih - Nový Jičín 3:0 (18\,24\,20)
DTSTART;TZID=Europe/Berlin:20221210T100000
DTEND;TZID=Europe/Berlin:20221210T120000
LOCATION:ZŠ Tuháčkova\, Tuháčkova 23 Brno - Komárov
SUMMARY:2-M-C: Brno - jih-Nový Jičín
END:VEVENT
BEGIN:VEVENT
UID:39353935-3361-4965-b539-383664653737
DTSTAMP:20260421T223036Z
DESCRIPTION:16/80 Brno - jih - Nový Jičín 0:3 (-17\,-26\,-25)
DTSTART;TZID=Europe/Berlin:20221210T140000
DTEND;TZID=Europe/Berlin:20221210T160000
LOCATION:ZŠ Tuháčkova\, Tuháčkova 23 Brno - Komárov
SUMMARY:2-M-C: Brno - jih-Nový Jičín
END:VEVENT
BEGIN:VEVENT
UID:30656562-3635-4564-a333-393161656639
DTSTAMP:20260421T223036Z
DESCRIPTION:17/81 Brno - jih - Holubice 1:3 (-25\,-15\,23\,-22)
DTSTART;TZID=Europe/Berlin:20221217T110000
DTEND;TZID=Europe/Berlin:20221217T130000
LOCATION:ZŠ Tuháčkova\, Tuháčkova 23 Brno - Komárov
SUMMARY:2-M-C: Brno - jih-Holubice
END:VEVENT
BEGIN:VEVENT
UID:66383865-6666-4933-a438-626162313836
DTSTAMP:20260421T223036Z
DESCRIPTION:18/86 Brno - jih - Holubice 0:3 (-25\,-20\,-18)
DTSTART;TZID=Europe/Berlin:20221217T150000
DTEND;TZID=Europe/Berlin:20221217T170000
LOCATION:ZŠ Tuháčkova\, Tuháčkova 23 Brno - Komárov
SUMMARY:2-M-C: Brno - jih-Holubice
END:VEVENT
BEGIN:VEVENT
UID:37633639-6230-4130-b035-356137653031
DTSTAMP:20260421T223036Z
DESCRIPTION:21/102 Brno - jih - Kojetín 3:0 (21\,14\,19)
DTSTART;TZID=Europe/Berlin:20230121T110000
DTEND;TZID=Europe/Berlin:20230121T130000
LOCATION:ZŠ Tuháčkova\, Tuháčkova 23 Brno - Komárov
SUMMARY:2-M-C: Brno - jih-Kojetín
END:VEVENT
BEGIN:VEVENT
UID:35633631-6261-4239-b265-336161316462
DTSTAMP:20260421T223036Z
DESCRIPTION:22/107 Brno - jih - Kojetín 3:0 (17\,27\,11)
DTSTART;TZID=Europe/Berlin:20230121T150000
DTEND;TZID=Europe/Berlin:20230121T170000
LOCATION:ZŠ Tuháčkova\, Tuháčkova 23 Brno - Komárov
SUMMARY:2-M-C: Brno - jih-Kojetín
END:VEVENT
BEGIN:VEVENT
UID:62346262-3665-4733-a437-353136376235
DTSTAMP:20260421T223036Z
DESCRIPTION:25/123 Brno - jih - Morávka 2:3 (25\,-23\,-15\,16\,-14)
DTSTART;TZID=Europe/Berlin:20230211T100000
DTEND;TZID=Europe/Berlin:20230211T120000
LOCATION:ZŠ Tuháčkova\, Tuháčkova 23 Brno - Komárov
SUMMARY:2-M-C: Brno - jih-Morávka
END:VEVENT
BEGIN:VEVENT
UID:34313634-3531-4061-a430-343830663263
DTSTAMP:20260421T223036Z
DESCRIPTION:26/128 Brno - jih - Morávka 0:3 (-20\,-28\,-14)
DTSTART;TZID=Europe/Berlin:20230211T140000
DTEND;TZID=Europe/Berlin:20230211T160000
LOCATION:ZŠ Tuháčkova\, Tuháčkova 23 Brno - Komárov
SUMMARY:2-M-C: Brno - jih-Morávka
END:VEVENT
BEGIN:VEVENT
UID:35303761-6234-4932-b462-386464323938
DTSTAMP:20260421T223036Z
DESCRIPTION:29/144 Brno - jih - Šlapanice 3:2 (20\,19\,-19\,-16\,8)
DTSTART;TZID=Europe/Berlin:20230304T110000
DTEND;TZID=Europe/Berlin:20230304T130000
LOCATION:ZŠ Tuháčkova\, Tuháčkova 23 Brno - Komárov
SUMMARY:2-M-C: Brno - jih-Šlapanice
END:VEVENT
BEGIN:VEVENT
UID:34663433-3961-4564-a664-636364363663
DTSTAMP:20260421T223036Z
DESCRIPTION:30/149 Brno - jih - Šlapanice 0:3 (-19\,-22\,-22)
DTSTART;TZID=Europe/Berlin:20230304T150000
DTEND;TZID=Europe/Berlin:20230304T170000
LOCATION:ZŠ Tuháčkova\, Tuháčkova 23 Brno - Komárov
SUMMARY:2-M-C: Brno - jih-Šlapanice
END:VEVENT
BEGIN:VEVENT
UID:33333765-6232-4031-b731-326263646139
DTSTAMP:20260421T223036Z
DESCRIPTION:3/12 Kojetín - Brno - jih 1:3 (17\,-21\,-16\,-20)
DTSTART;TZID=Europe/Berlin:20221029T110000
DTEND;TZID=Europe/Berlin:20221029T130000
LOCATION:Městská sportovní hala\, Hanusíkova 1476 Kojetín - Kojetín I-Město
SUMMARY:2-M-C: Kojetín-Brno - jih
END:VEVENT
BEGIN:VEVENT
UID:62333733-3733-4235-b332-663433323230
DTSTAMP:20260421T223036Z
DESCRIPTION:4/17 Kojetín - Brno - jih 3:1 (-24\,21\,25\,22)
DTSTART;TZID=Europe/Berlin:20221029T150000
DTEND;TZID=Europe/Berlin:20221029T170000
LOCATION:Městská sportovní hala\, Hanusíkova 1476 Kojetín - Kojetín I-Město
SUMMARY:2-M-C: Kojetín-Brno - jih
END:VEVENT
BEGIN:VEVENT
UID:34356363-6534-4462-a230-613230626130
DTSTAMP:20260421T223036Z
DESCRIPTION:7/33 Morávka - Brno - jih 3:2 (-23\,-21\,16\,15\,13)
DTSTART;TZID=Europe/Berlin:20221105T100000
DTEND;TZID=Europe/Berlin:20221105T120000
LOCATION:tělocvična ZŠ Morávka\,  Morávka178
SUMMARY:2-M-C: Morávka-Brno - jih
END:VEVENT
BEGIN:VEVENT
UID:62376339-3234-4232-b565-643436353035
DTSTAMP:20260421T223036Z
DESCRIPTION:8/38 Morávka - Brno - jih 3:1 (-25\,21\,21\,20)
DTSTART;TZID=Europe/Berlin:20221105T140000
DTEND;TZID=Europe/Berlin:20221105T160000
LOCATION:tělocvična ZŠ Morávka\,  Morávka178
SUMMARY:2-M-C: Morávka-Brno - jih
END:VEVENT
BEGIN:VEVENT
UID:66663466-6635-4535-a337-643530373637
DTSTAMP:20260421T223036Z
DESCRIPTION:11/54 Šlapanice - Brno - jih 3:1 (-23\,14\,19\,23)
DTSTART;TZID=Europe/Berlin:20221119T110000
DTEND;TZID=Europe/Berlin:20221119T130000
LOCATION:Hala TJ Sokol Šlapanice\, Smetanova 1662 Šlapanice
SUMMARY:2-M-C: Šlapanice-Brno - jih
END:VEVENT
BEGIN:VEVENT
UID:31663831-6530-4565-a231-643934326432
DTSTAMP:20260421T223036Z
DESCRIPTION:12/59 Šlapanice - Brno - jih 2:3 (-21\,-20\,19\,14\,-10)
DTSTART;TZID=Europe/Berlin:20221119T150000
DTEND;TZID=Europe/Berlin:20221119T170000
LOCATION:Hala TJ Sokol Šlapanice\, Smetanova 1662 Šlapanice
SUMMARY:2-M-C: Šlapanice-Brno - jih
END:VEVENT
BEGIN:VEVENT
UID:61356463-6566-4166-a138-316434616539
DTSTAMP:20260421T223036Z
DESCRIPTION:19/95 Palkovice - Brno - jih 0:3 (-22\,-16\,-22)
DTSTART;TZID=Europe/Berlin:20230114T100000
DTEND;TZID=Europe/Berlin:20230114T120000
LOCATION:Sportovní hala Palkovice\,  Palkovice20
SUMMARY:2-M-C: Palkovice-Brno - jih
END:VEVENT
BEGIN:VEVENT
UID:35373539-3133-4032-b665-393765613662
DTSTAMP:20260421T223036Z
DESCRIPTION:20/100 Palkovice - Brno - jih 0:3 (-19\,-19\,-15)
DTSTART;TZID=Europe/Berlin:20230114T140000
DTEND;TZID=Europe/Berlin:20230114T160000
LOCATION:Sportovní hala Palkovice\,  Palkovice20
SUMMARY:2-M-C: Palkovice-Brno - jih
END:VEVENT
BEGIN:VEVENT
UID:32656334-3263-4135-b664-643438346561
DTSTAMP:20260421T223036Z
DESCRIPTION:23/114 Kometa - Brno - jih 3:0 (23\,21\,20)
DTSTART;TZID=Europe/Berlin:20230128T100000
DTEND;TZID=Europe/Berlin:20230128T120000
LOCATION:TJ Tesla Brno\, Halasovo náměstí 826 Brno - Lesná
SUMMARY:2-M-C: Kometa-Brno - jih
END:VEVENT
BEGIN:VEVENT
UID:32636233-3761-4530-b932-306633376166
DTSTAMP:20260421T223036Z
DESCRIPTION:24/119 Kometa - Brno - jih 3:0 (26\,19\,18)
DTSTART;TZID=Europe/Berlin:20230128T130000
DTEND;TZID=Europe/Berlin:20230128T150000
LOCATION:TJ Tesla Brno\, Halasovo náměstí 826 Brno - Lesná
SUMMARY:2-M-C: Kometa-Brno - jih
END:VEVENT
BEGIN:VEVENT
UID:32363533-3766-4438-b035-363533313030
DTSTAMP:20260421T223036Z
DESCRIPTION:27/133 Staré Město - Brno - jih 3:1 (22\,-20\,21\,14)
DTSTART;TZID=Europe/Berlin:20230218T100000
DTEND;TZID=Europe/Berlin:20230218T120000
LOCATION:Městská sportovní hala Širůch\, Nad Hřištěm 1921 Staré Město
SUMMARY:2-M-C: Staré Město-Brno - jih
END:VEVENT
BEGIN:VEVENT
UID:34323633-3062-4438-b337-316136396435
DTSTAMP:20260421T223036Z
DESCRIPTION:28/138 Staré Město - Brno - jih 3:1 (21\,-20\,14\,23)
DTSTART;TZID=Europe/Berlin:20230218T130000
DTEND;TZID=Europe/Berlin:20230218T150000
LOCATION:Městská sportovní hala Širůch\, Nad Hřištěm 1921 Staré Město
SUMMARY:2-M-C: Staré Město-Brno - jih
END:VEVENT
BEGIN:VEVENT
UID:37613131-3432-4539-b237-663264396335
DTSTAMP:20260421T223036Z
DESCRIPTION:31/152 Napajedla - Brno - jih 0:3 (-17\,-19\,-25)
DTSTART;TZID=Europe/Berlin:20230311T100000
DTEND;TZID=Europe/Berlin:20230311T120000
LOCATION:2.ZŠ Napajedla\, Komenského 298 Napajedla
SUMMARY:2-M-C: Napajedla-Brno - jih
END:VEVENT
BEGIN:VEVENT
UID:66323462-6537-4233-a535-363933636662
DTSTAMP:20260421T223036Z
DESCRIPTION:32/157 Napajedla - Brno - jih 0:3 (-13\,-21\,-22)
DTSTART;TZID=Europe/Berlin:20230311T130000
DTEND;TZID=Europe/Berlin:20230311T150000
LOCATION:2.ZŠ Napajedla\, Komenského 298 Napajedla
SUMMARY:2-M-C: Napajedla-Brno - jih
END:VEVENT
BEGIN:VEVENT
UID:64646335-3663-4632-b964-333935363062
DTSTAMP:20260421T223036Z
DESCRIPTION:33/165 Nový Jičín - Brno - jih 3:1 (22\,-25\,21\,17)
DTSTART;TZID=Europe/Berlin:20230318T100000
DTEND;TZID=Europe/Berlin:20230318T120000
LOCATION:Hala ABC\, Purkyňova 116 Nový Jičín
SUMMARY:2-M-C: Nový Jičín-Brno - jih
END:VEVENT
BEGIN:VEVENT
UID:33303966-3339-4731-b862-383630346565
DTSTAMP:20260421T223036Z
DESCRIPTION:34/170 Nový Jičín - Brno - jih 3:1 (-19\,28\,22\,21)
DTSTART;TZID=Europe/Berlin:20230318T140000
DTEND;TZID=Europe/Berlin:20230318T160000
LOCATION:Hala ABC\, Purkyňova 116 Nový Jičín
SUMMARY:2-M-C: Nový Jičín-Brno - jih
END:VEVENT
BEGIN:VEVENT
UID:63623337-3163-4364-b238-396238393130
DTSTAMP:20260421T223036Z
DESCRIPTION:35/171 Holubice - Brno - jih 3:0 (19\,17\,18)
DTSTART;TZID=Europe/Berlin:20230325T100000
DTEND;TZID=Europe/Berlin:20230325T120000
LOCATION:Sportovní hala Holubice\,  Holubice299
SUMMARY:2-M-C: Holubice-Brno - jih
END:VEVENT
BEGIN:VEVENT
UID:30353066-3839-4739-a632-653861306230
DTSTAMP:20260421T223036Z
DESCRIPTION:36/176 Holubice - Brno - jih 3:0 (23\,18\,16)
DTSTART;TZID=Europe/Berlin:20230325T140000
DTEND;TZID=Europe/Berlin:20230325T160000
LOCATION:Sportovní hala Holubice\,  Holubice299
SUMMARY:2-M-C: Holubice-Brno - jih
END:VEVENT
BEGIN:VEVENT
UID:37653631-6263-4734-b733-383338323233
DTSTAMP:20260421T223036Z
DESCRIPTION:1/2 Brno - jih - Šlapanice 1:3 (25\,-15\,-20\,-16)
DTSTART;TZID=Europe/Berlin:20220917T133000
DTEND;TZID=Europe/Berlin:20220917T153000
LOCATION:Hala u ZŠ TGM Drásov\, Školní 167 Drásov
SUMMARY:CP-M-E: Brno - jih-Šlapanice
END:VEVENT
BEGIN:VEVENT
UID:62646539-3536-4437-a237-313831363763
DTSTAMP:20260421T223036Z
DESCRIPTION:1/1 VS Drásov - Brno - jih 3:1 (20\,-23\,18\,21)
DTSTART;TZID=Europe/Berlin:20220917T100000
DTEND;TZID=Europe/Berlin:20220917T120000
LOCATION:Hala u ZŠ TGM Drásov\, Školní 167 Drásov
SUMMARY:CP-M-E: VS Drásov-Brno - jih
END:VEVENT
END:VCALENDAR
