BEGIN:VCALENDAR
VERSION:2.0
PRODID:-//Vrtule Frýdlant, z.s.79049//NONSGML kigkonsult.se iCalcreator 2.41.80//
CALSCALE:GREGORIAN
UID:66356333-3964-4639-b337-376631356266
BEGIN:VEVENT
UID:33376239-6565-4539-a232-613233643031
DTSTAMP:20260422T070110Z
DESCRIPTION:3/8 Vrtule Frýdlant\, z.s. - TJ Vysoké nad Jizerou\, z.s.
DTSTART;TZID=Europe/Berlin:20241026T100000
DTEND;TZID=Europe/Berlin:20241026T120000
LOCATION:Střední škola hospodářská a lesnická \, Bělíkova 1387 Frýdlant
SUMMARY:LIB-M-1: Vrtule Frýdlant\, z.s.-TJ Vysoké nad Jizerou\, z.s.
END:VEVENT
BEGIN:VEVENT
UID:32356261-3062-4333-a166-353338323236
DTSTAMP:20260422T070110Z
DESCRIPTION:4/11 Vrtule Frýdlant\, z.s. - TJ Vysoké nad Jizerou\, z.s.
DTSTART;TZID=Europe/Berlin:20241026T130000
DTEND;TZID=Europe/Berlin:20241026T150000
LOCATION:Střední škola hospodářská a lesnická \, Bělíkova 1387 Frýdlant
SUMMARY:LIB-M-1: Vrtule Frýdlant\, z.s.-TJ Vysoké nad Jizerou\, z.s.
END:VEVENT
BEGIN:VEVENT
UID:35646639-6263-4362-b962-346266313737
DTSTAMP:20260422T070110Z
DESCRIPTION:5/13 Vrtule Frýdlant\, z.s. - TJ Zikuda Turnov
DTSTART;TZID=Europe/Berlin:20241102T100000
DTEND;TZID=Europe/Berlin:20241102T120000
LOCATION:Střední škola hospodářská a lesnická \, Bělíkova 1387 Frýdlant
SUMMARY:LIB-M-1: Vrtule Frýdlant\, z.s.-TJ Zikuda Turnov
END:VEVENT
BEGIN:VEVENT
UID:61383064-6138-4364-a332-626230376636
DTSTAMP:20260422T070110Z
DESCRIPTION:6/16 Vrtule Frýdlant\, z.s. - TJ Zikuda Turnov
DTSTART;TZID=Europe/Berlin:20241102T130000
DTEND;TZID=Europe/Berlin:20241102T150000
LOCATION:Střední škola hospodářská a lesnická \, Bělíkova 1387 Frýdlant
SUMMARY:LIB-M-1: Vrtule Frýdlant\, z.s.-TJ Zikuda Turnov
END:VEVENT
BEGIN:VEVENT
UID:36373536-3835-4035-b134-386564636663
DTSTAMP:20260422T070110Z
DESCRIPTION:9/27 Vrtule Frýdlant\, z.s. - TJ Spartak Smržovka\, z.s.
DTSTART;TZID=Europe/Berlin:20241123T100000
DTEND;TZID=Europe/Berlin:20241123T120000
LOCATION:Střední škola hospodářská a lesnická \, Bělíkova 1387 Frýdlant
SUMMARY:LIB-M-1: Vrtule Frýdlant\, z.s.-TJ Spartak Smržovka\, z.s.
END:VEVENT
BEGIN:VEVENT
UID:30383937-3163-4335-a332-316164333861
DTSTAMP:20260422T070110Z
DESCRIPTION:10/30 Vrtule Frýdlant\, z.s. - TJ Spartak Smržovka\, z.s.
DTSTART;TZID=Europe/Berlin:20241123T130000
DTEND;TZID=Europe/Berlin:20241123T150000
LOCATION:Střední škola hospodářská a lesnická \, Bělíkova 1387 Frýdlant
SUMMARY:LIB-M-1: Vrtule Frýdlant\, z.s.-TJ Spartak Smržovka\, z.s.
END:VEVENT
BEGIN:VEVENT
UID:63356533-6261-4362-a231-623163646630
DTSTAMP:20260422T070110Z
DESCRIPTION:11/33 Vrtule Frýdlant\, z.s. - TJ Bižuterie Jablonec n/N
DTSTART;TZID=Europe/Berlin:20250125T100000
DTEND;TZID=Europe/Berlin:20250125T120000
LOCATION:Střední škola hospodářská a lesnická \, Bělíkova 1387 Frýdlant
SUMMARY:LIB-M-1: Vrtule Frýdlant\, z.s.-TJ Bižuterie Jablonec n/N
END:VEVENT
BEGIN:VEVENT
UID:34353132-6165-4163-a266-323435386530
DTSTAMP:20260422T070110Z
DESCRIPTION:12/36 Vrtule Frýdlant\, z.s. - TJ Bižuterie Jablonec n/N
DTSTART;TZID=Europe/Berlin:20250125T130000
DTEND;TZID=Europe/Berlin:20250125T150000
LOCATION:Střední škola hospodářská a lesnická \, Bělíkova 1387 Frýdlant
SUMMARY:LIB-M-1: Vrtule Frýdlant\, z.s.-TJ Bižuterie Jablonec n/N
END:VEVENT
BEGIN:VEVENT
UID:34303831-6530-4666-a239-643035343432
DTSTAMP:20260422T070110Z
DESCRIPTION:17/50 Vrtule Frýdlant\, z.s. - Malá Skála B
DTSTART;TZID=Europe/Berlin:20250215T100000
DTEND;TZID=Europe/Berlin:20250215T120000
LOCATION:Střední škola hospodářská a lesnická \, Bělíkova 1387 Frýdlant
SUMMARY:LIB-M-1: Vrtule Frýdlant\, z.s.-Malá Skála B
END:VEVENT
BEGIN:VEVENT
UID:35313339-6136-4337-b866-376562393836
DTSTAMP:20260422T070110Z
DESCRIPTION:18/53 Vrtule Frýdlant\, z.s. - Malá Skála B
DTSTART;TZID=Europe/Berlin:20250215T130000
DTEND;TZID=Europe/Berlin:20250215T150000
LOCATION:Střední škola hospodářská a lesnická \, Bělíkova 1387 Frýdlant
SUMMARY:LIB-M-1: Vrtule Frýdlant\, z.s.-Malá Skála B
END:VEVENT
BEGIN:VEVENT
UID:64623839-6334-4534-a232-356166323961
DTSTAMP:20260422T070110Z
DESCRIPTION:1/3 TJ Bižuterie Jablonec n/N - Vrtule Frýdlant\, z.s.
DTSTART;TZID=Europe/Berlin:20241019T100000
DTEND;TZID=Europe/Berlin:20241019T120000
LOCATION:Městská sportovní hala\, U Přehrady 4747 Jablonec nad Nisou
SUMMARY:LIB-M-1: TJ Bižuterie Jablonec n/N-Vrtule Frýdlant\, z.s.
END:VEVENT
BEGIN:VEVENT
UID:64363464-3566-4032-a435-376263633432
DTSTAMP:20260422T070110Z
DESCRIPTION:2/6 TJ Bižuterie Jablonec n/N - Vrtule Frýdlant\, z.s.
DTSTART;TZID=Europe/Berlin:20241019T130000
DTEND;TZID=Europe/Berlin:20241019T150000
LOCATION:Městská sportovní hala\, U Přehrady 4747 Jablonec nad Nisou
SUMMARY:LIB-M-1: TJ Bižuterie Jablonec n/N-Vrtule Frýdlant\, z.s.
END:VEVENT
BEGIN:VEVENT
UID:38366463-6230-4365-b030-623962643431
DTSTAMP:20260422T070110Z
DESCRIPTION:7/20 Malá Skála B - Vrtule Frýdlant\, z.s.
DTSTART;TZID=Europe/Berlin:20241109T100000
DTEND;TZID=Europe/Berlin:20241109T120000
LOCATION:tělocvična ZŠ\,  Malá Skála - Vranové 1.díl60
SUMMARY:LIB-M-1: Malá Skála B-Vrtule Frýdlant\, z.s.
END:VEVENT
BEGIN:VEVENT
UID:33366561-6139-4434-b839-343865313263
DTSTAMP:20260422T070110Z
DESCRIPTION:8/23 Malá Skála B - Vrtule Frýdlant\, z.s.
DTSTART;TZID=Europe/Berlin:20241109T130000
DTEND;TZID=Europe/Berlin:20241109T150000
LOCATION:tělocvična ZŠ\,  Malá Skála - Vranové 1.díl60
SUMMARY:LIB-M-1: Malá Skála B-Vrtule Frýdlant\, z.s.
END:VEVENT
BEGIN:VEVENT
UID:65653330-3861-4135-a564-623431346665
DTSTAMP:20260422T070110Z
DESCRIPTION:13/38 TJ Vysoké nad Jizerou\, z.s. - Vrtule Frýdlant\, z.s.
DTSTART;TZID=Europe/Berlin:20250201T100000
DTEND;TZID=Europe/Berlin:20250201T120000
LOCATION:Sokolovna\, Tyršova 295 Vysoké nad Jizerou
SUMMARY:LIB-M-1: TJ Vysoké nad Jizerou\, z.s.-Vrtule Frýdlant\, z.s.
END:VEVENT
BEGIN:VEVENT
UID:61326263-3937-4963-a136-383038343339
DTSTAMP:20260422T070110Z
DESCRIPTION:14/41 TJ Vysoké nad Jizerou\, z.s. - Vrtule Frýdlant\, z.s.
DTSTART;TZID=Europe/Berlin:20250201T130000
DTEND;TZID=Europe/Berlin:20250201T150000
LOCATION:Sokolovna\, Tyršova 295 Vysoké nad Jizerou
SUMMARY:LIB-M-1: TJ Vysoké nad Jizerou\, z.s.-Vrtule Frýdlant\, z.s.
END:VEVENT
BEGIN:VEVENT
UID:35626638-6436-4664-a430-306431663466
DTSTAMP:20260422T070110Z
DESCRIPTION:15/43 TJ Zikuda Turnov - Vrtule Frýdlant\, z.s.
DTSTART;TZID=Europe/Berlin:20250208T100000
DTEND;TZID=Europe/Berlin:20250208T120000
LOCATION:Tělocvična ZŠ Skálova\, Skálova 600 Turnov
SUMMARY:LIB-M-1: TJ Zikuda Turnov-Vrtule Frýdlant\, z.s.
END:VEVENT
BEGIN:VEVENT
UID:30366466-3439-4363-a463-656133623732
DTSTAMP:20260422T070110Z
DESCRIPTION:16/46 TJ Zikuda Turnov - Vrtule Frýdlant\, z.s.
DTSTART;TZID=Europe/Berlin:20250208T130000
DTEND;TZID=Europe/Berlin:20250208T150000
LOCATION:Tělocvična ZŠ Skálova\, Skálova 600 Turnov
SUMMARY:LIB-M-1: TJ Zikuda Turnov-Vrtule Frýdlant\, z.s.
END:VEVENT
BEGIN:VEVENT
UID:31653430-6633-4066-b866-623965316530
DTSTAMP:20260422T070110Z
DESCRIPTION:19/57 TJ Spartak Smržovka\, z.s. - Vrtule Frýdlant\, z.s.
DTSTART;TZID=Europe/Berlin:20250222T100000
DTEND;TZID=Europe/Berlin:20250222T120000
LOCATION:Sportovní hala\, Tyršova 1369 Smržovka
SUMMARY:LIB-M-1: TJ Spartak Smržovka\, z.s.-Vrtule Frýdlant\, z.s.
END:VEVENT
BEGIN:VEVENT
UID:34333134-3237-4262-a439-316464646537
DTSTAMP:20260422T070110Z
DESCRIPTION:20/60 TJ Spartak Smržovka\, z.s. - Vrtule Frýdlant\, z.s.
DTSTART;TZID=Europe/Berlin:20250222T130000
DTEND;TZID=Europe/Berlin:20250222T150000
LOCATION:Sportovní hala\, Tyršova 1369 Smržovka
SUMMARY:LIB-M-1: TJ Spartak Smržovka\, z.s.-Vrtule Frýdlant\, z.s.
END:VEVENT
END:VCALENDAR
