BEGIN:VCALENDAR
VERSION:2.0
PRODID:-//TJ OP Prostějov79073//NONSGML kigkonsult.se iCalcreator 2.41.80//
CALSCALE:GREGORIAN
UID:33626632-3337-4633-b331-323035346436
BEGIN:VEVENT
UID:61626539-3239-4362-b130-316264386139
DTSTAMP:20260422T154759Z
DESCRIPTION:3/13 Prostějov - Brno - Juliánov 1:3 (-19\,-17\,20\,-16)
DTSTART;TZID=Europe/Berlin:20221015T090000
DTEND;TZID=Europe/Berlin:20221015T110000
LOCATION:Letní hala u zimního stadionu\, Kostelecká 3113 Prostějov
SUMMARY:2-Z-C: Prostějov-Brno - Juliánov
END:VEVENT
BEGIN:VEVENT
UID:32653239-3265-4535-b239-383338663033
DTSTAMP:20260422T154759Z
DESCRIPTION:4/18 Prostějov - Brno - Juliánov 1:3 (-15\,-19\,23\,-19)
DTSTART;TZID=Europe/Berlin:20221015T130000
DTEND;TZID=Europe/Berlin:20221015T150000
LOCATION:Letní hala u zimního stadionu\, Kostelecká 3113 Prostějov
SUMMARY:2-Z-C: Prostějov-Brno - Juliánov
END:VEVENT
BEGIN:VEVENT
UID:39386337-6466-4664-b162-373530383063
DTSTAMP:20260422T154759Z
DESCRIPTION:7/32 Prostějov - Frýdek - Místek B 1:3 (-20\,22\,-12\,-20)
DTSTART;TZID=Europe/Berlin:20221105T100000
DTEND;TZID=Europe/Berlin:20221105T120000
LOCATION:Letní hala u zimního stadionu\, Kostelecká 3113 Prostějov
SUMMARY:2-Z-C: Prostějov-Frýdek - Místek B
END:VEVENT
BEGIN:VEVENT
UID:32653431-3636-4063-b034-373936373031
DTSTAMP:20260422T154759Z
DESCRIPTION:8/37 Prostějov - Frýdek - Místek B 2:3 (-27\,22\,19\,-11\,-13)
DTSTART;TZID=Europe/Berlin:20221105T140000
DTEND;TZID=Europe/Berlin:20221105T160000
LOCATION:Letní hala u zimního stadionu\, Kostelecká 3113 Prostějov
SUMMARY:2-Z-C: Prostějov-Frýdek - Místek B
END:VEVENT
BEGIN:VEVENT
UID:31393662-3235-4862-a261-313665663462
DTSTAMP:20260422T154759Z
DESCRIPTION:13/65 Prostějov - Nový Jičín 1:3 (-18\,21\,-16\,-27)
DTSTART;TZID=Europe/Berlin:20221203T100000
DTEND;TZID=Europe/Berlin:20221203T120000
LOCATION:Letní hala u zimního stadionu\, Kostelecká 3113 Prostějov
SUMMARY:2-Z-C: Prostějov-Nový Jičín
END:VEVENT
BEGIN:VEVENT
UID:61376362-3365-4965-b836-373435356232
DTSTAMP:20260422T154759Z
DESCRIPTION:14/70 Prostějov - Nový Jičín 0:3 (-13\,-19\,-20)
DTSTART;TZID=Europe/Berlin:20221203T140000
DTEND;TZID=Europe/Berlin:20221203T160000
LOCATION:Letní hala u zimního stadionu\, Kostelecká 3113 Prostějov
SUMMARY:2-Z-C: Prostějov-Nový Jičín
END:VEVENT
BEGIN:VEVENT
UID:61306439-6661-4031-b861-656639343062
DTSTAMP:20260422T154759Z
DESCRIPTION:17/84 Prostějov - Bílovec 0:3 (-20\,-16\,-24)
DTSTART;TZID=Europe/Berlin:20221217T100000
DTEND;TZID=Europe/Berlin:20221217T120000
LOCATION:Letní hala u zimního stadionu\, Kostelecká 3113 Prostějov
SUMMARY:2-Z-C: Prostějov-Bílovec
END:VEVENT
BEGIN:VEVENT
UID:65346163-3965-4338-a162-636331616532
DTSTAMP:20260422T154759Z
DESCRIPTION:18/89 Prostějov - Bílovec 3:2 (-13\,21\,-11\,22\,6)
DTSTART;TZID=Europe/Berlin:20221217T140000
DTEND;TZID=Europe/Berlin:20221217T160000
LOCATION:Letní hala u zimního stadionu\, Kostelecká 3113 Prostějov
SUMMARY:2-Z-C: Prostějov-Bílovec
END:VEVENT
BEGIN:VEVENT
UID:61383439-3133-4737-b136-643730366537
DTSTAMP:20260422T154759Z
DESCRIPTION:19/93 Prostějov - Kroměříž 1:3 (21\,-23\,-21\,-20)
DTSTART;TZID=Europe/Berlin:20230114T100000
DTEND;TZID=Europe/Berlin:20230114T120000
LOCATION:Letní hala u zimního stadionu\, Kostelecká 3113 Prostějov
SUMMARY:2-Z-C: Prostějov-Kroměříž
END:VEVENT
BEGIN:VEVENT
UID:34343630-6265-4737-b232-363331626163
DTSTAMP:20260422T154759Z
DESCRIPTION:20/98 Prostějov - Kroměříž 1:3 (21\,-19\,-19\,-18)
DTSTART;TZID=Europe/Berlin:20230114T140000
DTEND;TZID=Europe/Berlin:20230114T160000
LOCATION:Letní hala u zimního stadionu\, Kostelecká 3113 Prostějov
SUMMARY:2-Z-C: Prostějov-Kroměříž
END:VEVENT
BEGIN:VEVENT
UID:34393863-3938-4535-a266-643732316533
DTSTAMP:20260422T154759Z
DESCRIPTION:23/114 Prostějov - Ostrava C 1:3 (-23\,-16\,22\,-10)
DTSTART;TZID=Europe/Berlin:20230128T100000
DTEND;TZID=Europe/Berlin:20230128T120000
LOCATION:Letní hala u zimního stadionu\, Kostelecká 3113 Prostějov
SUMMARY:2-Z-C: Prostějov-Ostrava C
END:VEVENT
BEGIN:VEVENT
UID:66326561-3163-4338-a266-616663316362
DTSTAMP:20260422T154759Z
DESCRIPTION:24/119 Prostějov - Ostrava C 1:3 (-20\,22\,-21\,-22)
DTSTART;TZID=Europe/Berlin:20230128T140000
DTEND;TZID=Europe/Berlin:20230128T160000
LOCATION:Letní hala u zimního stadionu\, Kostelecká 3113 Prostějov
SUMMARY:2-Z-C: Prostějov-Ostrava C
END:VEVENT
BEGIN:VEVENT
UID:61383536-6562-4661-b534-313266623532
DTSTAMP:20260422T154759Z
DESCRIPTION:27/135 Prostějov - Opava 0:3 (-15\,-19\,-15)
DTSTART;TZID=Europe/Berlin:20230218T100000
DTEND;TZID=Europe/Berlin:20230218T120000
LOCATION:Letní hala u zimního stadionu\, Kostelecká 3113 Prostějov
SUMMARY:2-Z-C: Prostějov-Opava
END:VEVENT
BEGIN:VEVENT
UID:35373366-3762-4239-a430-626161343561
DTSTAMP:20260422T154759Z
DESCRIPTION:28/140 Prostějov - Opava 0:3 (-17\,-22\,-12)
DTSTART;TZID=Europe/Berlin:20230218T140000
DTEND;TZID=Europe/Berlin:20230218T160000
LOCATION:Letní hala u zimního stadionu\, Kostelecká 3113 Prostějov
SUMMARY:2-Z-C: Prostějov-Opava
END:VEVENT
BEGIN:VEVENT
UID:33643730-6165-4962-b332-376437323633
DTSTAMP:20260422T154759Z
DESCRIPTION:29/141 Prostějov - Ostrava B 0:3 (-19\,-16\,-18)
DTSTART;TZID=Europe/Berlin:20230225T100000
DTEND;TZID=Europe/Berlin:20230225T120000
LOCATION:Letní hala u zimního stadionu\, Kostelecká 3113 Prostějov
SUMMARY:2-Z-C: Prostějov-Ostrava B
END:VEVENT
BEGIN:VEVENT
UID:63613239-6333-4339-b633-333332663934
DTSTAMP:20260422T154759Z
DESCRIPTION:30/146 Prostějov - Ostrava B 1:3 (-20\,23\,-23\,-16)
DTSTART;TZID=Europe/Berlin:20230225T140000
DTEND;TZID=Europe/Berlin:20230225T160000
LOCATION:Letní hala u zimního stadionu\, Kostelecká 3113 Prostějov
SUMMARY:2-Z-C: Prostějov-Ostrava B
END:VEVENT
BEGIN:VEVENT
UID:30323866-3439-4130-b962-356165663430
DTSTAMP:20260422T154759Z
DESCRIPTION:33/162 Prostějov - Vsetín 2:3 (-17\,15\,-19\,15\,-12)
DTSTART;TZID=Europe/Berlin:20230318T100000
DTEND;TZID=Europe/Berlin:20230318T120000
LOCATION:Letní hala u zimního stadionu\, Kostelecká 3113 Prostějov
SUMMARY:2-Z-C: Prostějov-Vsetín
END:VEVENT
BEGIN:VEVENT
UID:64633630-6431-4133-a632-373832646234
DTSTAMP:20260422T154759Z
DESCRIPTION:34/167 Prostějov - Vsetín 3:1 (-22\,24\,18\,15)
DTSTART;TZID=Europe/Berlin:20230318T140000
DTEND;TZID=Europe/Berlin:20230318T160000
LOCATION:Letní hala u zimního stadionu\, Kostelecká 3113 Prostějov
SUMMARY:2-Z-C: Prostějov-Vsetín
END:VEVENT
BEGIN:VEVENT
UID:33323261-3339-4534-a566-313939383161
DTSTAMP:20260422T154759Z
DESCRIPTION:1/3 Kroměříž - Prostějov 1:3 (9\,-30\,-14\,-19)
DTSTART;TZID=Europe/Berlin:20221008T100000
DTEND;TZID=Europe/Berlin:20221008T120000
LOCATION:ZŠ Slovan\, Zeyerova 3354 Kroměříž
SUMMARY:2-Z-C: Kroměříž-Prostějov
END:VEVENT
BEGIN:VEVENT
UID:32366532-6437-4333-a234-666139346439
DTSTAMP:20260422T154759Z
DESCRIPTION:2/8 Kroměříž - Prostějov 3:0 (19\,25\,20)
DTSTART;TZID=Europe/Berlin:20221008T140000
DTEND;TZID=Europe/Berlin:20221008T160000
LOCATION:ZŠ Slovan\, Zeyerova 3354 Kroměříž
SUMMARY:2-Z-C: Kroměříž-Prostějov
END:VEVENT
BEGIN:VEVENT
UID:65333766-3031-4738-a336-643537373533
DTSTAMP:20260422T154759Z
DESCRIPTION:5/24 Ostrava C - Prostějov 3:0 (23\,19\,15)
DTSTART;TZID=Europe/Berlin:20221022T100000
DTEND;TZID=Europe/Berlin:20221022T120000
LOCATION:Hala mládeže\, Gajdošova 1893 Ostrava - Moravská Ostrava
SUMMARY:2-Z-C: Ostrava C-Prostějov
END:VEVENT
BEGIN:VEVENT
UID:66346665-3831-4230-a538-343962383065
DTSTAMP:20260422T154759Z
DESCRIPTION:6/29 Ostrava C - Prostějov 3:2 (-24\,19\,20\,-21\,12)
DTSTART;TZID=Europe/Berlin:20221022T140000
DTEND;TZID=Europe/Berlin:20221022T160000
LOCATION:Hala mládeže\, Gajdošova 1893 Ostrava - Moravská Ostrava
SUMMARY:2-Z-C: Ostrava C-Prostějov
END:VEVENT
BEGIN:VEVENT
UID:66613866-6637-4430-a432-336462636237
DTSTAMP:20260422T154759Z
DESCRIPTION:9/45 Opava - Prostějov 3:0 (22\,7\,10)
DTSTART;TZID=Europe/Berlin:20221112T100000
DTEND;TZID=Europe/Berlin:20221112T120000
LOCATION:Základní škola Opava\, Otická 18\, Otická 722 Opava - Předměstí
SUMMARY:2-Z-C: Opava-Prostějov
END:VEVENT
BEGIN:VEVENT
UID:33383466-3766-4161-b661-653135353638
DTSTAMP:20260422T154759Z
DESCRIPTION:10/50 Opava - Prostějov 3:0 (14\,19\,11)
DTSTART;TZID=Europe/Berlin:20221112T140000
DTEND;TZID=Europe/Berlin:20221112T160000
LOCATION:Základní škola Opava\, Otická 18\, Otická 722 Opava - Předměstí
SUMMARY:2-Z-C: Opava-Prostějov
END:VEVENT
BEGIN:VEVENT
UID:39323434-3164-4235-a533-643430373163
DTSTAMP:20260422T154759Z
DESCRIPTION:11/51 Ostrava B - Prostějov 3:0 (12\,20\,11)
DTSTART;TZID=Europe/Berlin:20221119T100000
DTEND;TZID=Europe/Berlin:20221119T120000
LOCATION:Hala mládeže\, Gajdošova 1893 Ostrava - Moravská Ostrava
SUMMARY:2-Z-C: Ostrava B-Prostějov
END:VEVENT
BEGIN:VEVENT
UID:66383136-3261-4365-a364-663964613664
DTSTAMP:20260422T154759Z
DESCRIPTION:12/56 Ostrava B - Prostějov 3:0 (16\,14\,8)
DTSTART;TZID=Europe/Berlin:20221119T140000
DTEND;TZID=Europe/Berlin:20221119T160000
LOCATION:Hala mládeže\, Gajdošova 1893 Ostrava - Moravská Ostrava
SUMMARY:2-Z-C: Ostrava B-Prostějov
END:VEVENT
BEGIN:VEVENT
UID:62646338-6532-4964-b531-303433383135
DTSTAMP:20260422T154759Z
DESCRIPTION:15/72 Vsetín - Prostějov 3:1 (17\,21\,-23\,21)
DTSTART;TZID=Europe/Berlin:20221211T100000
DTEND;TZID=Europe/Berlin:20221211T120000
LOCATION:Sportovní hala Na Lapači\, Na Lapači 247 Vsetín - Rokytnice
SUMMARY:2-Z-C: Vsetín-Prostějov
END:VEVENT
BEGIN:VEVENT
UID:38613833-6336-4934-b264-333165306437
DTSTAMP:20260422T154759Z
DESCRIPTION:16/77 Vsetín - Prostějov 0:3 (-20\,-24\,-15)
DTSTART;TZID=Europe/Berlin:20221211T140000
DTEND;TZID=Europe/Berlin:20221211T160000
LOCATION:Sportovní hala Na Lapači\, Na Lapači 247 Vsetín - Rokytnice
SUMMARY:2-Z-C: Vsetín-Prostějov
END:VEVENT
BEGIN:VEVENT
UID:37636334-6137-4231-b034-636637366163
DTSTAMP:20260422T154759Z
DESCRIPTION:21/103 Brno - Juliánov - Prostějov 3:0 (16\,21\,18)
DTSTART;TZID=Europe/Berlin:20230121T100000
DTEND;TZID=Europe/Berlin:20230121T120000
LOCATION:Sokol Brno - Juliánov\, Slatinská 2831 Brno - Židenice
SUMMARY:2-Z-C: Brno - Juliánov-Prostějov
END:VEVENT
BEGIN:VEVENT
UID:37366135-3536-4864-b938-363664313234
DTSTAMP:20260422T154759Z
DESCRIPTION:22/108 Brno - Juliánov - Prostějov 3:1 (15\,-24\,16\,7)
DTSTART;TZID=Europe/Berlin:20230121T140000
DTEND;TZID=Europe/Berlin:20230121T160000
LOCATION:Sokol Brno - Juliánov\, Slatinská 2831 Brno - Židenice
SUMMARY:2-Z-C: Brno - Juliánov-Prostějov
END:VEVENT
BEGIN:VEVENT
UID:61383336-3664-4736-b137-316465383764
DTSTAMP:20260422T154759Z
DESCRIPTION:25/122 Frýdek - Místek B - Prostějov 3:0 (21\,20\,17)
DTSTART;TZID=Europe/Berlin:20230211T100000
DTEND;TZID=Europe/Berlin:20230211T120000
LOCATION:Sokolovna Frýdek-Místek\, Novodvorská 667 Frýdek-Místek - Frýdek
SUMMARY:2-Z-C: Frýdek - Místek B-Prostějov
END:VEVENT
BEGIN:VEVENT
UID:63363362-6630-4133-a231-303832373236
DTSTAMP:20260422T154759Z
DESCRIPTION:26/127 Frýdek - Místek B - Prostějov 3:1 (12\,-12\,23\,14)
DTSTART;TZID=Europe/Berlin:20230211T140000
DTEND;TZID=Europe/Berlin:20230211T160000
LOCATION:Sokolovna Frýdek-Místek\, Novodvorská 667 Frýdek-Místek - Frýdek
SUMMARY:2-Z-C: Frýdek - Místek B-Prostějov
END:VEVENT
BEGIN:VEVENT
UID:35656538-6666-4561-a430-386565316565
DTSTAMP:20260422T154759Z
DESCRIPTION:31/155 Nový Jičín - Prostějov 2:3 (12\,21\,-17\,-15\,-13)
DTSTART;TZID=Europe/Berlin:20230311T100000
DTEND;TZID=Europe/Berlin:20230311T120000
LOCATION:Hala ABC\, Purkyňova 116 Nový Jičín
SUMMARY:2-Z-C: Nový Jičín-Prostějov
END:VEVENT
BEGIN:VEVENT
UID:62613361-3736-4664-b063-656332393038
DTSTAMP:20260422T154759Z
DESCRIPTION:32/160 Nový Jičín - Prostějov 3:0 (20\,24\,23)
DTSTART;TZID=Europe/Berlin:20230311T140000
DTEND;TZID=Europe/Berlin:20230311T160000
LOCATION:Hala ABC\, Purkyňova 116 Nový Jičín
SUMMARY:2-Z-C: Nový Jičín-Prostějov
END:VEVENT
BEGIN:VEVENT
UID:37303634-3236-4536-b765-383530663637
DTSTAMP:20260422T154759Z
DESCRIPTION:35/174 Bílovec - Prostějov 3:X\nUtkání zrušeno.
DTSTART;TZID=Europe/Berlin:20230325T100000
DTEND;TZID=Europe/Berlin:20230325T120000
LOCATION:Tělocvična GMK Bílovec\, 17. listopadu 526 Bílovec
SUMMARY:2-Z-C: Bílovec-Prostějov
END:VEVENT
BEGIN:VEVENT
UID:64353264-3962-4134-b432-666265376161
DTSTAMP:20260422T154759Z
DESCRIPTION:36/179 Bílovec - Prostějov 3:X\nUtkání zrušeno.
DTSTART;TZID=Europe/Berlin:20230325T140000
DTEND;TZID=Europe/Berlin:20230325T160000
LOCATION:Tělocvična GMK Bílovec\, 17. listopadu 526 Bílovec
SUMMARY:2-Z-C: Bílovec-Prostějov
END:VEVENT
END:VCALENDAR
