BEGIN:VCALENDAR
VERSION:2.0
PRODID:-//VK AUSTIN Vsetín79076//NONSGML kigkonsult.se iCalcreator 2.41.80//
CALSCALE:GREGORIAN
UID:39313961-3636-4432-b565-393763306132
BEGIN:VEVENT
UID:62396266-6263-4234-b166-343839636262
DTSTAMP:20260422T052714Z
DESCRIPTION:1/1 Vsetín - Ostrava B 2:3 (-26\,19\,-17\,23\,-14)
DTSTART;TZID=Europe/Berlin:20221008T090000
DTEND;TZID=Europe/Berlin:20221008T110000
LOCATION:Sportovní hala Na Lapači\, Na Lapači 247 Vsetín - Rokytnice
SUMMARY:2-Z-C: Vsetín-Ostrava B
END:VEVENT
BEGIN:VEVENT
UID:64386465-3666-4361-a433-376431396534
DTSTAMP:20260422T052714Z
DESCRIPTION:2/6 Vsetín - Ostrava B 0:3 (-20\,-16\,-20)
DTSTART;TZID=Europe/Berlin:20221008T130000
DTEND;TZID=Europe/Berlin:20221008T150000
LOCATION:Sportovní hala Na Lapači\, Na Lapači 247 Vsetín - Rokytnice
SUMMARY:2-Z-C: Vsetín-Ostrava B
END:VEVENT
BEGIN:VEVENT
UID:38636165-3737-4562-a365-666362623861
DTSTAMP:20260422T052714Z
DESCRIPTION:3/15 Vsetín - Bílovec 2:3 (-13\,-14\,21\,24\,-11)
DTSTART;TZID=Europe/Berlin:20221015T100000
DTEND;TZID=Europe/Berlin:20221015T120000
LOCATION:Sportovní hala Na Lapači\, Na Lapači 247 Vsetín - Rokytnice
SUMMARY:2-Z-C: Vsetín-Bílovec
END:VEVENT
BEGIN:VEVENT
UID:37666239-3635-4231-b730-326138333465
DTSTAMP:20260422T052714Z
DESCRIPTION:4/20 Vsetín - Bílovec 0:3 (-23\,-19\,-10)
DTSTART;TZID=Europe/Berlin:20221015T140000
DTEND;TZID=Europe/Berlin:20221015T160000
LOCATION:Sportovní hala Na Lapači\, Na Lapači 247 Vsetín - Rokytnice
SUMMARY:2-Z-C: Vsetín-Bílovec
END:VEVENT
BEGIN:VEVENT
UID:32633965-6430-4330-b561-353865326338
DTSTAMP:20260422T052714Z
DESCRIPTION:7/34 Vsetín - Brno - Juliánov 1:3 (20\,-14\,-14\,-22)
DTSTART;TZID=Europe/Berlin:20221105T100000
DTEND;TZID=Europe/Berlin:20221105T120000
LOCATION:Sportovní hala Na Lapači\, Na Lapači 247 Vsetín - Rokytnice
SUMMARY:2-Z-C: Vsetín-Brno - Juliánov
END:VEVENT
BEGIN:VEVENT
UID:37313837-6637-4835-b435-363937633962
DTSTAMP:20260422T052714Z
DESCRIPTION:8/39 Vsetín - Brno - Juliánov 3:1 (24\,16\,-20\,20)
DTSTART;TZID=Europe/Berlin:20221105T140000
DTEND;TZID=Europe/Berlin:20221105T160000
LOCATION:Sportovní hala Na Lapači\, Na Lapači 247 Vsetín - Rokytnice
SUMMARY:2-Z-C: Vsetín-Brno - Juliánov
END:VEVENT
BEGIN:VEVENT
UID:39393266-3634-4161-b431-643963386338
DTSTAMP:20260422T052714Z
DESCRIPTION:11/53 Vsetín - Frýdek - Místek B 2:3 (-8\,15\,-22\,26\,-10)
DTSTART;TZID=Europe/Berlin:20221119T100000
DTEND;TZID=Europe/Berlin:20221119T120000
LOCATION:Sportovní hala Na Lapači\, Na Lapači 247 Vsetín - Rokytnice
SUMMARY:2-Z-C: Vsetín-Frýdek - Místek B
END:VEVENT
BEGIN:VEVENT
UID:36303937-3339-4336-b764-336530653263
DTSTAMP:20260422T052714Z
DESCRIPTION:12/58 Vsetín - Frýdek - Místek B 2:3 (-21\,22\,-8\,25\,-17)
DTSTART;TZID=Europe/Berlin:20221119T140000
DTEND;TZID=Europe/Berlin:20221119T160000
LOCATION:Sportovní hala Na Lapači\, Na Lapači 247 Vsetín - Rokytnice
SUMMARY:2-Z-C: Vsetín-Frýdek - Místek B
END:VEVENT
BEGIN:VEVENT
UID:35343761-3333-4039-b231-323030303838
DTSTAMP:20260422T052714Z
DESCRIPTION:15/72 Vsetín - Prostějov 3:1 (17\,21\,-23\,21)
DTSTART;TZID=Europe/Berlin:20221211T100000
DTEND;TZID=Europe/Berlin:20221211T120000
LOCATION:Sportovní hala Na Lapači\, Na Lapači 247 Vsetín - Rokytnice
SUMMARY:2-Z-C: Vsetín-Prostějov
END:VEVENT
BEGIN:VEVENT
UID:32316331-6363-4161-b232-326464643166
DTSTAMP:20260422T052714Z
DESCRIPTION:16/77 Vsetín - Prostějov 0:3 (-20\,-24\,-15)
DTSTART;TZID=Europe/Berlin:20221211T140000
DTEND;TZID=Europe/Berlin:20221211T160000
LOCATION:Sportovní hala Na Lapači\, Na Lapači 247 Vsetín - Rokytnice
SUMMARY:2-Z-C: Vsetín-Prostějov
END:VEVENT
BEGIN:VEVENT
UID:31306261-6139-4935-b033-633533383434
DTSTAMP:20260422T052714Z
DESCRIPTION:17/85 Vsetín - Nový Jičín 1:3 (24\,-18\,-14\,-22)
DTSTART;TZID=Europe/Berlin:20221217T100000
DTEND;TZID=Europe/Berlin:20221217T120000
LOCATION:Sportovní hala Na Lapači\, Na Lapači 247 Vsetín - Rokytnice
SUMMARY:2-Z-C: Vsetín-Nový Jičín
END:VEVENT
BEGIN:VEVENT
UID:38633539-3934-4736-b135-303830666430
DTSTAMP:20260422T052714Z
DESCRIPTION:18/90 Vsetín - Nový Jičín 1:3 (-19\,-21\,26\,-25)
DTSTART;TZID=Europe/Berlin:20221217T130000
DTEND;TZID=Europe/Berlin:20221217T150000
LOCATION:Sportovní hala Na Lapači\, Na Lapači 247 Vsetín - Rokytnice
SUMMARY:2-Z-C: Vsetín-Nový Jičín
END:VEVENT
BEGIN:VEVENT
UID:38326565-3237-4832-b038-323362616436
DTSTAMP:20260422T052714Z
DESCRIPTION:23/112 Vsetín - Kroměříž 1:3 (13\,-21\,-18\,-21)
DTSTART;TZID=Europe/Berlin:20230128T090000
DTEND;TZID=Europe/Berlin:20230128T110000
LOCATION:Sportovní hala Na Lapači\, Na Lapači 247 Vsetín - Rokytnice
SUMMARY:2-Z-C: Vsetín-Kroměříž
END:VEVENT
BEGIN:VEVENT
UID:32316663-3039-4133-b735-613133303663
DTSTAMP:20260422T052714Z
DESCRIPTION:24/117 Vsetín - Kroměříž 3:2 (23\,23\,-16\,-22\,4)
DTSTART;TZID=Europe/Berlin:20230128T130000
DTEND;TZID=Europe/Berlin:20230128T150000
LOCATION:Sportovní hala Na Lapači\, Na Lapači 247 Vsetín - Rokytnice
SUMMARY:2-Z-C: Vsetín-Kroměříž
END:VEVENT
BEGIN:VEVENT
UID:35326266-6266-4734-a565-643739373461
DTSTAMP:20260422T052714Z
DESCRIPTION:27/133 Vsetín - Ostrava C 0:3 (-23\,-21\,-21)
DTSTART;TZID=Europe/Berlin:20230218T100000
DTEND;TZID=Europe/Berlin:20230218T120000
LOCATION:Sportovní hala Na Lapači\, Na Lapači 247 Vsetín - Rokytnice
SUMMARY:2-Z-C: Vsetín-Ostrava C
END:VEVENT
BEGIN:VEVENT
UID:66386665-6564-4530-a231-303439313262
DTSTAMP:20260422T052714Z
DESCRIPTION:28/138 Vsetín - Ostrava C 3:1 (24\,-17\,20\,18)
DTSTART;TZID=Europe/Berlin:20230218T140000
DTEND;TZID=Europe/Berlin:20230218T160000
LOCATION:Sportovní hala Na Lapači\, Na Lapači 247 Vsetín - Rokytnice
SUMMARY:2-Z-C: Vsetín-Ostrava C
END:VEVENT
BEGIN:VEVENT
UID:64383432-6534-4238-b233-393437306431
DTSTAMP:20260422T052714Z
DESCRIPTION:31/154 Vsetín - Opava 0:3 (-23\,-17\,-12)
DTSTART;TZID=Europe/Berlin:20230311T100000
DTEND;TZID=Europe/Berlin:20230311T120000
LOCATION:Sportovní hala Na Lapači\, Na Lapači 247 Vsetín - Rokytnice
SUMMARY:2-Z-C: Vsetín-Opava
END:VEVENT
BEGIN:VEVENT
UID:35326637-3139-4236-b561-613637646233
DTSTAMP:20260422T052714Z
DESCRIPTION:32/159 Vsetín - Opava 0:3 (-14\,-18\,-16)
DTSTART;TZID=Europe/Berlin:20230311T140000
DTEND;TZID=Europe/Berlin:20230311T160000
LOCATION:Sportovní hala Na Lapači\, Na Lapači 247 Vsetín - Rokytnice
SUMMARY:2-Z-C: Vsetín-Opava
END:VEVENT
BEGIN:VEVENT
UID:65613861-3265-4534-b938-323964333630
DTSTAMP:20260422T052714Z
DESCRIPTION:5/22 Kroměříž - Vsetín 3:0 (14\,21\,18)
DTSTART;TZID=Europe/Berlin:20221022T100000
DTEND;TZID=Europe/Berlin:20221022T120000
LOCATION:ZŠ Slovan\, Zeyerova 3354 Kroměříž
SUMMARY:2-Z-C: Kroměříž-Vsetín
END:VEVENT
BEGIN:VEVENT
UID:38643436-6663-4838-a339-646635646337
DTSTAMP:20260422T052714Z
DESCRIPTION:6/27 Kroměříž - Vsetín 3:0 (28\,19\,13)
DTSTART;TZID=Europe/Berlin:20221022T140000
DTEND;TZID=Europe/Berlin:20221022T160000
LOCATION:ZŠ Slovan\, Zeyerova 3354 Kroměříž
SUMMARY:2-Z-C: Kroměříž-Vsetín
END:VEVENT
BEGIN:VEVENT
UID:39633865-6134-4839-b763-333032383761
DTSTAMP:20260422T052714Z
DESCRIPTION:9/43 Ostrava C - Vsetín 3:0 (18\,19\,8)
DTSTART;TZID=Europe/Berlin:20221112T090000
DTEND;TZID=Europe/Berlin:20221112T110000
LOCATION:Hala mládeže\, Gajdošova 1893 Ostrava - Moravská Ostrava
SUMMARY:2-Z-C: Ostrava C-Vsetín
END:VEVENT
BEGIN:VEVENT
UID:63616666-6566-4330-b131-316633663761
DTSTAMP:20260422T052714Z
DESCRIPTION:10/48 Ostrava C - Vsetín 2:3 (-26\,20\,-21\,15\,-13)
DTSTART;TZID=Europe/Berlin:20221112T130000
DTEND;TZID=Europe/Berlin:20221112T150000
LOCATION:Hala mládeže\, Gajdošova 1893 Ostrava - Moravská Ostrava
SUMMARY:2-Z-C: Ostrava C-Vsetín
END:VEVENT
BEGIN:VEVENT
UID:64353665-3737-4465-b564-386565306234
DTSTAMP:20260422T052714Z
DESCRIPTION:13/64 Opava - Vsetín 3:0 (17\,9\,19)
DTSTART;TZID=Europe/Berlin:20221203T100000
DTEND;TZID=Europe/Berlin:20221203T120000
LOCATION:Základní škola Opava\, Otická 18\, Otická 722 Opava - Předměstí
SUMMARY:2-Z-C: Opava-Vsetín
END:VEVENT
BEGIN:VEVENT
UID:65626361-6664-4165-b364-643034666237
DTSTAMP:20260422T052714Z
DESCRIPTION:14/69 Opava - Vsetín 3:0 (8\,12\,14)
DTSTART;TZID=Europe/Berlin:20221203T140000
DTEND;TZID=Europe/Berlin:20221203T160000
LOCATION:Základní škola Opava\, Otická 18\, Otická 722 Opava - Předměstí
SUMMARY:2-Z-C: Opava-Vsetín
END:VEVENT
BEGIN:VEVENT
UID:30653464-3565-4538-a163-316437396264
DTSTAMP:20260422T052714Z
DESCRIPTION:19/91 Ostrava B - Vsetín 3:2 (8\,21\,-22\,-21\,9)
DTSTART;TZID=Europe/Berlin:20230114T110000
DTEND;TZID=Europe/Berlin:20230114T130000
LOCATION:Hala mládeže\, Gajdošova 1893 Ostrava - Moravská Ostrava
SUMMARY:2-Z-C: Ostrava B-Vsetín
END:VEVENT
BEGIN:VEVENT
UID:61313766-3066-4432-b963-343033356234
DTSTAMP:20260422T052714Z
DESCRIPTION:20/96 Ostrava B - Vsetín 3:0 (16\,10\,14)
DTSTART;TZID=Europe/Berlin:20230114T150000
DTEND;TZID=Europe/Berlin:20230114T170000
LOCATION:Hala mládeže\, Gajdošova 1893 Ostrava - Moravská Ostrava
SUMMARY:2-Z-C: Ostrava B-Vsetín
END:VEVENT
BEGIN:VEVENT
UID:33346661-6664-4134-b939-386434383963
DTSTAMP:20260422T052714Z
DESCRIPTION:21/105 Bílovec - Vsetín 3:0 (19\,12\,16)
DTSTART;TZID=Europe/Berlin:20230121T090000
DTEND;TZID=Europe/Berlin:20230121T110000
LOCATION:Tělocvična GMK Bílovec\, 17. listopadu 526 Bílovec
SUMMARY:2-Z-C: Bílovec-Vsetín
END:VEVENT
BEGIN:VEVENT
UID:37616665-6163-4138-a565-623032386663
DTSTAMP:20260422T052714Z
DESCRIPTION:22/110 Bílovec - Vsetín 3:1 (16\,14\,-21\,10)
DTSTART;TZID=Europe/Berlin:20230121T130000
DTEND;TZID=Europe/Berlin:20230121T150000
LOCATION:Tělocvična GMK Bílovec\, 17. listopadu 526 Bílovec
SUMMARY:2-Z-C: Bílovec-Vsetín
END:VEVENT
BEGIN:VEVENT
UID:35646633-3661-4436-b839-393831646662
DTSTAMP:20260422T052714Z
DESCRIPTION:25/124 Brno - Juliánov - Vsetín 3:0 (19\,20\,22)
DTSTART;TZID=Europe/Berlin:20230211T100000
DTEND;TZID=Europe/Berlin:20230211T120000
LOCATION:Sokol Brno - Juliánov\, Slatinská 2831 Brno - Židenice
SUMMARY:2-Z-C: Brno - Juliánov-Vsetín
END:VEVENT
BEGIN:VEVENT
UID:35383635-3832-4531-a562-663938336334
DTSTAMP:20260422T052714Z
DESCRIPTION:26/129 Brno - Juliánov - Vsetín 3:1 (16\,18\,-23\,23)
DTSTART;TZID=Europe/Berlin:20230211T140000
DTEND;TZID=Europe/Berlin:20230211T160000
LOCATION:Sokol Brno - Juliánov\, Slatinská 2831 Brno - Židenice
SUMMARY:2-Z-C: Brno - Juliánov-Vsetín
END:VEVENT
BEGIN:VEVENT
UID:62393363-3335-4530-b037-346464646239
DTSTAMP:20260422T052714Z
DESCRIPTION:29/143 Frýdek - Místek B - Vsetín 3:1 (16\,-15\,17\,25)
DTSTART;TZID=Europe/Berlin:20230225T100000
DTEND;TZID=Europe/Berlin:20230225T120000
LOCATION:Sokolovna Frýdek-Místek\, Novodvorská 667 Frýdek-Místek - Frýdek
SUMMARY:2-Z-C: Frýdek - Místek B-Vsetín
END:VEVENT
BEGIN:VEVENT
UID:63613839-3065-4365-b739-376664656136
DTSTAMP:20260422T052714Z
DESCRIPTION:30/148 Frýdek - Místek B - Vsetín 3:1 (18\,-20\,17\,19)
DTSTART;TZID=Europe/Berlin:20230225T140000
DTEND;TZID=Europe/Berlin:20230225T160000
LOCATION:Sokolovna Frýdek-Místek\, Novodvorská 667 Frýdek-Místek - Frýdek
SUMMARY:2-Z-C: Frýdek - Místek B-Vsetín
END:VEVENT
BEGIN:VEVENT
UID:34656563-3432-4930-a533-383839323233
DTSTAMP:20260422T052714Z
DESCRIPTION:33/162 Prostějov - Vsetín 2:3 (-17\,15\,-19\,15\,-12)
DTSTART;TZID=Europe/Berlin:20230318T100000
DTEND;TZID=Europe/Berlin:20230318T120000
LOCATION:Letní hala u zimního stadionu\, Kostelecká 3113 Prostějov
SUMMARY:2-Z-C: Prostějov-Vsetín
END:VEVENT
BEGIN:VEVENT
UID:61363434-3963-4366-b939-636533353831
DTSTAMP:20260422T052714Z
DESCRIPTION:34/167 Prostějov - Vsetín 3:1 (-22\,24\,18\,15)
DTSTART;TZID=Europe/Berlin:20230318T140000
DTEND;TZID=Europe/Berlin:20230318T160000
LOCATION:Letní hala u zimního stadionu\, Kostelecká 3113 Prostějov
SUMMARY:2-Z-C: Prostějov-Vsetín
END:VEVENT
BEGIN:VEVENT
UID:32393138-6161-4061-a664-343535626666
DTSTAMP:20260422T052714Z
DESCRIPTION:35/175 Nový Jičín - Vsetín 3:1 (19\,-22\,19\,13)
DTSTART;TZID=Europe/Berlin:20230325T110000
DTEND;TZID=Europe/Berlin:20230325T130000
LOCATION:Hala ABC\, Purkyňova 116 Nový Jičín
SUMMARY:2-Z-C: Nový Jičín-Vsetín
END:VEVENT
BEGIN:VEVENT
UID:64396638-3636-4435-b235-666662366539
DTSTAMP:20260422T052714Z
DESCRIPTION:36/180 Nový Jičín - Vsetín 1:3 (16\,-14\,-18\,-17)
DTSTART;TZID=Europe/Berlin:20230325T150000
DTEND;TZID=Europe/Berlin:20230325T170000
LOCATION:Hala ABC\, Purkyňova 116 Nový Jičín
SUMMARY:2-Z-C: Nový Jičín-Vsetín
END:VEVENT
END:VCALENDAR
