BEGIN:VCALENDAR
VERSION:2.0
PRODID:-//SK Volejbal Kolín79099//NONSGML kigkonsult.se iCalcreator 2.41.80//
CALSCALE:GREGORIAN
UID:37333233-3561-4639-a638-653532373230
BEGIN:VEVENT
UID:35376564-6366-4134-b465-336436316230
DTSTAMP:20260421T224737Z
DESCRIPTION:2/8 Kolín - Kojetín 2:3 (17\,18\,-22\,-18\,-14)
DTSTART;TZID=Europe/Berlin:20221016T130000
DTEND;TZID=Europe/Berlin:20221016T150000
LOCATION:ZŠ Komenského\, Komenského 1 Velké Meziříčí
SUMMARY:EX-U22M-1D: Kolín-Kojetín
END:VEVENT
BEGIN:VEVENT
UID:32366562-3738-4264-b530-613037636562
DTSTAMP:20260421T224737Z
DESCRIPTION:2/10 Kolín - V. Meziříčí 3:0 (21\,20\,20)
DTSTART;TZID=Europe/Berlin:20221016T170000
DTEND;TZID=Europe/Berlin:20221016T190000
LOCATION:ZŠ Komenského\, Komenského 1 Velké Meziříčí
SUMMARY:EX-U22M-1D: Kolín-V. Meziříčí
END:VEVENT
BEGIN:VEVENT
UID:32663637-3838-4464-a366-383638303563
DTSTAMP:20260421T224737Z
DESCRIPTION:1/2 Lvi - Kolín 0:3 (-19\,-20\,-29)
DTSTART;TZID=Europe/Berlin:20221015T120000
DTEND;TZID=Europe/Berlin:20221015T140000
LOCATION:ZŠ Komenského\, Komenského 1 Velké Meziříčí
SUMMARY:EX-U22M-1D: Lvi-Kolín
END:VEVENT
BEGIN:VEVENT
UID:63373730-3433-4434-b462-643961306334
DTSTAMP:20260421T224737Z
DESCRIPTION:1/5 Nymburk - Kolín 0:3 (-17\,-9\,-11)
DTSTART;TZID=Europe/Berlin:20221015T180000
DTEND;TZID=Europe/Berlin:20221015T200000
LOCATION:ZŠ Komenského\, Komenského 1 Velké Meziříčí
SUMMARY:EX-U22M-1D: Nymburk-Kolín
END:VEVENT
BEGIN:VEVENT
UID:66313166-6636-4364-b230-616361373362
DTSTAMP:20260421T224737Z
DESCRIPTION:1/1 Kolín - Brno 0:3 (-20\,-20\,-14)
DTSTART;TZID=Europe/Berlin:20221119T100000
DTEND;TZID=Europe/Berlin:20221119T120000
LOCATION:hala STAV\, SOŠ Kolín\, Brankovická 1417 Kolín - Kolín V
SUMMARY:EX-U22M-2A: Kolín-Brno
END:VEVENT
BEGIN:VEVENT
UID:66326666-6164-4836-b863-303633643766
DTSTAMP:20260421T224737Z
DESCRIPTION:1/4 Kolín - Kojetín 2:3 (22\,22\,-17\,-25\,-16)
DTSTART;TZID=Europe/Berlin:20221119T160000
DTEND;TZID=Europe/Berlin:20221119T180000
LOCATION:hala STAV\, SOŠ Kolín\, Brankovická 1417 Kolín - Kolín V
SUMMARY:EX-U22M-2A: Kolín-Kojetín
END:VEVENT
BEGIN:VEVENT
UID:30653237-3234-4237-a263-336131363034
DTSTAMP:20260421T224737Z
DESCRIPTION:2/7 Kolín - Beskydy 1:3 (-23\,-23\,19\,-24)
DTSTART;TZID=Europe/Berlin:20221120T110000
DTEND;TZID=Europe/Berlin:20221120T130000
LOCATION:hala STAV\, SOŠ Kolín\, Brankovická 1417 Kolín - Kolín V
SUMMARY:EX-U22M-2A: Kolín-Beskydy
END:VEVENT
BEGIN:VEVENT
UID:33376264-6661-4233-b037-663936323937
DTSTAMP:20260421T224737Z
DESCRIPTION:2/10 Č. Budějovice - Kolín 3:0 (19\,24\,23)
DTSTART;TZID=Europe/Berlin:20221120T170000
DTEND;TZID=Europe/Berlin:20221120T190000
LOCATION:hala STAV\, SOŠ Kolín\, Brankovická 1417 Kolín - Kolín V
SUMMARY:EX-U22M-2A: Č. Budějovice-Kolín
END:VEVENT
BEGIN:VEVENT
UID:37396466-3636-4761-b630-623331323664
DTSTAMP:20260421T224737Z
DESCRIPTION:2/6 Kolín - Kojetín 0:3 (-15\,-17\,-21)
DTSTART;TZID=Europe/Berlin:20221211T090000
DTEND;TZID=Europe/Berlin:20221211T110000
LOCATION:Sportovní hala Lužiny\, Bellušova 1877 Praha - Stodůlky
SUMMARY:EX-U22M-3B: Kolín-Kojetín
END:VEVENT
BEGIN:VEVENT
UID:32636530-6666-4363-b931-393134303666
DTSTAMP:20260421T224737Z
DESCRIPTION:1/1 Lvi - Kolín 3:0 (16\,23\,16)
DTSTART;TZID=Europe/Berlin:20221210T100000
DTEND;TZID=Europe/Berlin:20221210T120000
LOCATION:Sportovní hala Lužiny\, Bellušova 1877 Praha - Stodůlky
SUMMARY:EX-U22M-3B: Lvi-Kolín
END:VEVENT
BEGIN:VEVENT
UID:37343361-3865-4534-b631-326236343961
DTSTAMP:20260421T224737Z
DESCRIPTION:1/3 Zlín - Kolín 3:1 (23\,-17\,15\,13)
DTSTART;TZID=Europe/Berlin:20221210T140000
DTEND;TZID=Europe/Berlin:20221210T160000
LOCATION:Sportovní hala Lužiny\, Bellušova 1877 Praha - Stodůlky
SUMMARY:EX-U22M-3B: Zlín-Kolín
END:VEVENT
BEGIN:VEVENT
UID:30626561-3564-4361-a139-626262313765
DTSTAMP:20260421T224737Z
DESCRIPTION:2/8 Karlovarsko - Kolín 1:3 (-14\,21\,-21\,-14)
DTSTART;TZID=Europe/Berlin:20221211T130000
DTEND;TZID=Europe/Berlin:20221211T150000
LOCATION:Sportovní hala Lužiny\, Bellušova 1877 Praha - Stodůlky
SUMMARY:EX-U22M-3B: Karlovarsko-Kolín
END:VEVENT
BEGIN:VEVENT
UID:65323938-6337-4364-b062-643832323634
DTSTAMP:20260421T224737Z
DESCRIPTION:2/6 Kolín - Prosek 3:0 (15\,16\,21)\nNH- TJ Slavia Hradec Králo
 vé
DTSTART;TZID=Europe/Berlin:20230122T090000
DTEND;TZID=Europe/Berlin:20230122T110000
LOCATION:Hala Pouchov\, K Sokolovně 544 Hradec Králové - Pouchov
SUMMARY:EX-U22M-4C: Kolín-Prosek
END:VEVENT
BEGIN:VEVENT
UID:63323065-3664-4562-b232-633665363065
DTSTAMP:20260421T224737Z
DESCRIPTION:1/1 H. Králové - Kolín 3:2 (-13\,21\,18\,-23\,9)
DTSTART;TZID=Europe/Berlin:20230121T100000
DTEND;TZID=Europe/Berlin:20230121T120000
LOCATION:Hala Pouchov\, K Sokolovně 544 Hradec Králové - Pouchov
SUMMARY:EX-U22M-4C: H. Králové-Kolín
END:VEVENT
BEGIN:VEVENT
UID:66303730-3664-4933-b435-393437616161
DTSTAMP:20260421T224737Z
DESCRIPTION:1/3 Zlín - Kolín 2:3 (16\,19\,-24\,-16\,-12)
DTSTART;TZID=Europe/Berlin:20230121T130000
DTEND;TZID=Europe/Berlin:20230121T150000
LOCATION:Hala Pouchov\, K Sokolovně 544 Hradec Králové - Pouchov
SUMMARY:EX-U22M-4C: Zlín-Kolín
END:VEVENT
BEGIN:VEVENT
UID:30343261-3464-4736-b236-333462373832
DTSTAMP:20260421T224737Z
DESCRIPTION:2/8 Benátky n. J. - Kolín 1:3 (23\,-27\,-17\,-22)
DTSTART;TZID=Europe/Berlin:20230122T120000
DTEND;TZID=Europe/Berlin:20230122T140000
LOCATION:Hala Pouchov\, K Sokolovně 544 Hradec Králové - Pouchov
SUMMARY:EX-U22M-4C: Benátky n. J.-Kolín
END:VEVENT
BEGIN:VEVENT
UID:32613765-3032-4966-b733-643264366431
DTSTAMP:20260421T224737Z
DESCRIPTION:2/6 Kolín - Č. Budějovice 0:3 (-20\,-20\,-20)
DTSTART;TZID=Europe/Berlin:20230319T090000
DTEND;TZID=Europe/Berlin:20230319T110000
LOCATION:Hala Pouchov\, K Sokolovně 544 Hradec Králové - Pouchov
SUMMARY:EX-U22M-5B: Kolín-Č. Budějovice
END:VEVENT
BEGIN:VEVENT
UID:38363166-3239-4739-b838-656535636130
DTSTAMP:20260421T224737Z
DESCRIPTION:1/1 H. Králové - Kolín 3:2 (18\,24\,-23\,-23\,13)
DTSTART;TZID=Europe/Berlin:20230318T100000
DTEND;TZID=Europe/Berlin:20230318T120000
LOCATION:Hala Pouchov\, K Sokolovně 544 Hradec Králové - Pouchov
SUMMARY:EX-U22M-5B: H. Králové-Kolín
END:VEVENT
BEGIN:VEVENT
UID:39613066-3466-4037-a461-393231646263
DTSTAMP:20260421T224737Z
DESCRIPTION:1/3 Karlovarsko - Kolín 3:0 (16\,11\,19)
DTSTART;TZID=Europe/Berlin:20230318T130000
DTEND;TZID=Europe/Berlin:20230318T150000
LOCATION:Hala Pouchov\, K Sokolovně 544 Hradec Králové - Pouchov
SUMMARY:EX-U22M-5B: Karlovarsko-Kolín
END:VEVENT
BEGIN:VEVENT
UID:39646464-3035-4231-b662-633637643164
DTSTAMP:20260421T224737Z
DESCRIPTION:2/8 Kojetín - Kolín 2:3 (-19\,-25\,17\,25\,-13)
DTSTART;TZID=Europe/Berlin:20230319T120000
DTEND;TZID=Europe/Berlin:20230319T140000
LOCATION:Hala Pouchov\, K Sokolovně 544 Hradec Králové - Pouchov
SUMMARY:EX-U22M-5B: Kojetín-Kolín
END:VEVENT
BEGIN:VEVENT
UID:37313032-6530-4439-b035-653431623636
DTSTAMP:20260421T224737Z
DESCRIPTION:1/1 Kolín - Karlovarsko 3:0 (12\,16\,15)
DTSTART;TZID=Europe/Berlin:20230422T100000
DTEND;TZID=Europe/Berlin:20230422T120000
LOCATION:hala STAV\, SOŠ Kolín\, Brankovická 1417 Kolín - Kolín V
SUMMARY:EX-U22M-6B: Kolín-Karlovarsko
END:VEVENT
BEGIN:VEVENT
UID:65653561-6133-4466-b739-353362376463
DTSTAMP:20260421T224737Z
DESCRIPTION:1/4 Kolín - Kojetín 3:1 (-22\,18\,13\,18)
DTSTART;TZID=Europe/Berlin:20230422T160000
DTEND;TZID=Europe/Berlin:20230422T180000
LOCATION:hala STAV\, SOŠ Kolín\, Brankovická 1417 Kolín - Kolín V
SUMMARY:EX-U22M-6B: Kolín-Kojetín
END:VEVENT
BEGIN:VEVENT
UID:38323865-6663-4931-b932-613564653234
DTSTAMP:20260421T224737Z
DESCRIPTION:2/7 Kolín - Ostrava 3:1 (22\,23\,-25\,16)
DTSTART;TZID=Europe/Berlin:20230423T110000
DTEND;TZID=Europe/Berlin:20230423T130000
LOCATION:hala STAV\, SOŠ Kolín\, Brankovická 1417 Kolín - Kolín V
SUMMARY:EX-U22M-6B: Kolín-Ostrava
END:VEVENT
BEGIN:VEVENT
UID:31376566-6163-4462-b262-333464643862
DTSTAMP:20260421T224737Z
DESCRIPTION:2/10 Liberec - Kolín 0:3 (-21\,-24\,-17)
DTSTART;TZID=Europe/Berlin:20230423T170000
DTEND;TZID=Europe/Berlin:20230423T190000
LOCATION:hala STAV\, SOŠ Kolín\, Brankovická 1417 Kolín - Kolín V
SUMMARY:EX-U22M-6B: Liberec-Kolín
END:VEVENT
BEGIN:VEVENT
UID:35333434-6633-4330-b739-366462373862
DTSTAMP:20260421T224737Z
DESCRIPTION:1/1 Kolín - Lvi 1:3 (-18\,-36\,23\,-17)
DTSTART;TZID=Europe/Berlin:20230518T150000
DTEND;TZID=Europe/Berlin:20230518T170000
LOCATION:Sportovní hala\, Stromovka 1216 České Budějovice - České Budějovic
 e 2
SUMMARY:EX-U22M-F1: Kolín-Lvi
END:VEVENT
BEGIN:VEVENT
UID:39393438-6364-4232-b234-616634396535
DTSTAMP:20260421T224737Z
DESCRIPTION:2/5 Příbram - Kolín 3:0 (24\,11\,17)
DTSTART;TZID=Europe/Berlin:20230519T100000
DTEND;TZID=Europe/Berlin:20230519T120000
LOCATION:Sportovní hala\, Stromovka 1216 České Budějovice - České Budějovic
 e 2
SUMMARY:EX-U22M-F1: Příbram-Kolín
END:VEVENT
BEGIN:VEVENT
UID:35666264-3735-4761-b430-383231656132
DTSTAMP:20260421T224737Z
DESCRIPTION:2/9 Beskydy - Kolín 3:0 (21\,18\,18)
DTSTART;TZID=Europe/Berlin:20230519T150000
DTEND;TZID=Europe/Berlin:20230519T170000
LOCATION:Sportovní hala\, Stromovka 1216 České Budějovice - České Budějovic
 e 2
SUMMARY:EX-U22M-F1: Beskydy-Kolín
END:VEVENT
BEGIN:VEVENT
UID:64386561-3639-4366-b962-376233346534
DTSTAMP:20260421T224737Z
DESCRIPTION:1/2 Brno - Kolín 1:3 (26\,-21\,-22\,-23)\n3F2-4F1
DTSTART;TZID=Europe/Berlin:20230520T120000
DTEND;TZID=Europe/Berlin:20230520T140000
LOCATION:Sportovní gymnázium Ludvíka Daňka\, Botanická 63 Brno - Ponava
SUMMARY:EX-U22M-F: Brno-Kolín
END:VEVENT
BEGIN:VEVENT
UID:31613266-3330-4132-b035-333262653664
DTSTAMP:20260421T224737Z
DESCRIPTION:2/6 Lvi - KolínLenert Adam./Činátl Dominik./Hudík Martin\no 5.-
 6. místo
DTSTART;TZID=Europe/Berlin:20230521T110000
DTEND;TZID=Europe/Berlin:20230521T130000
LOCATION:Sportovní hala Lužiny\, Bellušova 1877 Praha - Stodůlky
SUMMARY:EX-U22M-F: Lvi-Kolín
END:VEVENT
END:VCALENDAR
