BEGIN:VCALENDAR
VERSION:2.0
PRODID:-//SGLD Brno79102//NONSGML kigkonsult.se iCalcreator 2.41.80//
CALSCALE:GREGORIAN
UID:61323535-3264-4631-a532-373263336663
BEGIN:VEVENT
UID:31313431-3162-4934-b934-333762393364
DTSTAMP:20260421T210122Z
DESCRIPTION:1/1 Brno - Svitavy 3:0 (16\,19\,20)
DTSTART;TZID=Europe/Berlin:20221015T100000
DTEND;TZID=Europe/Berlin:20221015T120000
LOCATION:Sportovní gymnázium Ludvíka Daňka\, Botanická 63 Brno - Ponava
SUMMARY:EX-U22M-1B: Brno-Svitavy
END:VEVENT
BEGIN:VEVENT
UID:63646364-3432-4165-b666-633733623662
DTSTAMP:20260421T210122Z
DESCRIPTION:1/4 Brno - H. Králové 3:0 (16\,20\,15)
DTSTART;TZID=Europe/Berlin:20221015T160000
DTEND;TZID=Europe/Berlin:20221015T180000
LOCATION:Sportovní gymnázium Ludvíka Daňka\, Botanická 63 Brno - Ponava
SUMMARY:EX-U22M-1B: Brno-H. Králové
END:VEVENT
BEGIN:VEVENT
UID:66643164-3764-4338-b435-303931623438
DTSTAMP:20260421T210122Z
DESCRIPTION:2/7 Brno - Ústí n. L. 3:0 (19\,23\,14)
DTSTART;TZID=Europe/Berlin:20221016T110000
DTEND;TZID=Europe/Berlin:20221016T130000
LOCATION:Sportovní gymnázium Ludvíka Daňka\, Botanická 63 Brno - Ponava
SUMMARY:EX-U22M-1B: Brno-Ústí n. L.
END:VEVENT
BEGIN:VEVENT
UID:31626337-3237-4735-b931-383366313039
DTSTAMP:20260421T210122Z
DESCRIPTION:2/10 Zlín - Brno 0:3 (-24\,-18\,-17)
DTSTART;TZID=Europe/Berlin:20221016T170000
DTEND;TZID=Europe/Berlin:20221016T190000
LOCATION:Sportovní gymnázium Ludvíka Daňka\, Botanická 63 Brno - Ponava
SUMMARY:EX-U22M-1B: Zlín-Brno
END:VEVENT
BEGIN:VEVENT
UID:32653638-3964-4634-a161-346562353362
DTSTAMP:20260421T210122Z
DESCRIPTION:2/6 Brno - Kojetín 3:1 (-18\,25\,16\,23)
DTSTART;TZID=Europe/Berlin:20221120T090000
DTEND;TZID=Europe/Berlin:20221120T110000
LOCATION:hala STAV\, SOŠ Kolín\, Brankovická 1417 Kolín - Kolín V
SUMMARY:EX-U22M-2A: Brno-Kojetín
END:VEVENT
BEGIN:VEVENT
UID:63303637-6266-4132-a635-653161656463
DTSTAMP:20260421T210122Z
DESCRIPTION:1/1 Kolín - Brno 0:3 (-20\,-20\,-14)
DTSTART;TZID=Europe/Berlin:20221119T100000
DTEND;TZID=Europe/Berlin:20221119T120000
LOCATION:hala STAV\, SOŠ Kolín\, Brankovická 1417 Kolín - Kolín V
SUMMARY:EX-U22M-2A: Kolín-Brno
END:VEVENT
BEGIN:VEVENT
UID:61336432-6530-4563-a561-656563343336
DTSTAMP:20260421T210122Z
DESCRIPTION:1/3 Beskydy - Brno 1:3 (15\,-14\,-23\,-23)
DTSTART;TZID=Europe/Berlin:20221119T140000
DTEND;TZID=Europe/Berlin:20221119T160000
LOCATION:hala STAV\, SOŠ Kolín\, Brankovická 1417 Kolín - Kolín V
SUMMARY:EX-U22M-2A: Beskydy-Brno
END:VEVENT
BEGIN:VEVENT
UID:32363966-3036-4362-b136-623737356534
DTSTAMP:20260421T210122Z
DESCRIPTION:2/8 Č. Budějovice - Brno 3:0 (21\,6\,22)
DTSTART;TZID=Europe/Berlin:20221120T130000
DTEND;TZID=Europe/Berlin:20221120T150000
LOCATION:hala STAV\, SOŠ Kolín\, Brankovická 1417 Kolín - Kolín V
SUMMARY:EX-U22M-2A: Č. Budějovice-Brno
END:VEVENT
BEGIN:VEVENT
UID:66356465-3764-4638-a661-333564383736
DTSTAMP:20260421T210122Z
DESCRIPTION:2/6 Brno - Liberec 1:3 (22\,-13\,-15\,-21)
DTSTART;TZID=Europe/Berlin:20221211T090000
DTEND;TZID=Europe/Berlin:20221211T110000
LOCATION:ZŠ Oskara Nedbala České Budějovice\, O. Nedbala 882 České Budějovi
 ce - České Budějovice 2
SUMMARY:EX-U22M-3A: Brno-Liberec
END:VEVENT
BEGIN:VEVENT
UID:34616363-3438-4637-a234-353233626432
DTSTAMP:20260421T210122Z
DESCRIPTION:1/1 Č. Budějovice - Brno 2:3 (22\,-21\,21\,-18\,-10)
DTSTART;TZID=Europe/Berlin:20221210T100000
DTEND;TZID=Europe/Berlin:20221210T120000
LOCATION:ZŠ Oskara Nedbala České Budějovice\, O. Nedbala 882 České Budějovi
 ce - České Budějovice 2
SUMMARY:EX-U22M-3A: Č. Budějovice-Brno
END:VEVENT
BEGIN:VEVENT
UID:64366662-3831-4337-b966-333630383261
DTSTAMP:20260421T210122Z
DESCRIPTION:1/3 Beskydy - Brno 3:0 (25\,24\,23)
DTSTART;TZID=Europe/Berlin:20221210T140000
DTEND;TZID=Europe/Berlin:20221210T160000
LOCATION:ZŠ Oskara Nedbala České Budějovice\, O. Nedbala 882 České Budějovi
 ce - České Budějovice 2
SUMMARY:EX-U22M-3A: Beskydy-Brno
END:VEVENT
BEGIN:VEVENT
UID:33616137-6465-4562-b835-353465303438
DTSTAMP:20260421T210122Z
DESCRIPTION:2/8 Příbram - Brno 1:3 (-20\,-17\,17\,-23)
DTSTART;TZID=Europe/Berlin:20221211T130000
DTEND;TZID=Europe/Berlin:20221211T150000
LOCATION:ZŠ Oskara Nedbala České Budějovice\, O. Nedbala 882 České Budějovi
 ce - České Budějovice 2
SUMMARY:EX-U22M-3A: Příbram-Brno
END:VEVENT
BEGIN:VEVENT
UID:34663966-6261-4161-a537-623563626161
DTSTAMP:20260421T210122Z
DESCRIPTION:1/1 Brno - Svitavy 3:0 (18\,19\,20)
DTSTART;TZID=Europe/Berlin:20230121T100000
DTEND;TZID=Europe/Berlin:20230121T120000
LOCATION:Sportovní gymnázium Ludvíka Daňka\, Botanická 63 Brno - Ponava
SUMMARY:EX-U22M-4B: Brno-Svitavy
END:VEVENT
BEGIN:VEVENT
UID:32393337-6133-4864-b164-336132663666
DTSTAMP:20260421T210122Z
DESCRIPTION:1/4 Brno - Ostrava 3:0 (14\,14\,20)
DTSTART;TZID=Europe/Berlin:20230121T160000
DTEND;TZID=Europe/Berlin:20230121T180000
LOCATION:Sportovní gymnázium Ludvíka Daňka\, Botanická 63 Brno - Ponava
SUMMARY:EX-U22M-4B: Brno-Ostrava
END:VEVENT
BEGIN:VEVENT
UID:39313530-3665-4163-a464-323436333535
DTSTAMP:20260421T210122Z
DESCRIPTION:2/7 Brno - Karlovarsko 3:2 (-17\,21\,-22\,19\,8)
DTSTART;TZID=Europe/Berlin:20230122T110000
DTEND;TZID=Europe/Berlin:20230122T130000
LOCATION:Sportovní gymnázium Ludvíka Daňka\, Botanická 63 Brno - Ponava
SUMMARY:EX-U22M-4B: Brno-Karlovarsko
END:VEVENT
BEGIN:VEVENT
UID:38386134-3763-4564-b231-626536303734
DTSTAMP:20260421T210122Z
DESCRIPTION:2/10 Beskydy - Brno 3:2 (-23\,-21\,17\,17\,11)
DTSTART;TZID=Europe/Berlin:20230122T170000
DTEND;TZID=Europe/Berlin:20230122T190000
LOCATION:Sportovní gymnázium Ludvíka Daňka\, Botanická 63 Brno - Ponava
SUMMARY:EX-U22M-4B: Beskydy-Brno
END:VEVENT
BEGIN:VEVENT
UID:34386362-6334-4662-a535-346161353862
DTSTAMP:20260421T210122Z
DESCRIPTION:1/1 Brno - Beskydy 3:1 (16\,17\,-20\,17)
DTSTART;TZID=Europe/Berlin:20230318T100000
DTEND;TZID=Europe/Berlin:20230318T120000
LOCATION:Sportovní gymnázium Ludvíka Daňka\, Botanická 63 Brno - Ponava
SUMMARY:EX-U22M-5A: Brno-Beskydy
END:VEVENT
BEGIN:VEVENT
UID:38363735-3934-4264-b333-663636623232
DTSTAMP:20260421T210122Z
DESCRIPTION:1/4 Brno - Příbram 3:2 (-19\,-27\,20\,23\,11)
DTSTART;TZID=Europe/Berlin:20230318T160000
DTEND;TZID=Europe/Berlin:20230318T180000
LOCATION:Sportovní gymnázium Ludvíka Daňka\, Botanická 63 Brno - Ponava
SUMMARY:EX-U22M-5A: Brno-Příbram
END:VEVENT
BEGIN:VEVENT
UID:39343639-3563-4633-b831-636231333930
DTSTAMP:20260421T210122Z
DESCRIPTION:2/7 Brno - Liberec 3:1 (21\,-21\,20\,20)
DTSTART;TZID=Europe/Berlin:20230319T110000
DTEND;TZID=Europe/Berlin:20230319T130000
LOCATION:Sportovní gymnázium Ludvíka Daňka\, Botanická 63 Brno - Ponava
SUMMARY:EX-U22M-5A: Brno-Liberec
END:VEVENT
BEGIN:VEVENT
UID:31643764-3936-4536-b265-373836326363
DTSTAMP:20260421T210122Z
DESCRIPTION:2/10 Lvi - Brno 0:3 (-8\,-22\,-18)
DTSTART;TZID=Europe/Berlin:20230319T170000
DTEND;TZID=Europe/Berlin:20230319T190000
LOCATION:Sportovní gymnázium Ludvíka Daňka\, Botanická 63 Brno - Ponava
SUMMARY:EX-U22M-5A: Lvi-Brno
END:VEVENT
BEGIN:VEVENT
UID:61376365-3437-4335-b438-666363356139
DTSTAMP:20260421T210122Z
DESCRIPTION:2/6 Brno - Č. Budějovice 3:0 (11\,14\,22)
DTSTART;TZID=Europe/Berlin:20230423T090000
DTEND;TZID=Europe/Berlin:20230423T110000
LOCATION:Sportovní hala Lužiny\, Bellušova 1877 Praha - Stodůlky
SUMMARY:EX-U22M-6A: Brno-Č. Budějovice
END:VEVENT
BEGIN:VEVENT
UID:39353964-3738-4836-b539-613965303238
DTSTAMP:20260421T210122Z
DESCRIPTION:1/1 Lvi - Brno 1:3 (-21\,18\,-23\,-21)
DTSTART;TZID=Europe/Berlin:20230422T100000
DTEND;TZID=Europe/Berlin:20230422T120000
LOCATION:Sportovní hala Lužiny\, Bellušova 1877 Praha - Stodůlky
SUMMARY:EX-U22M-6A: Lvi-Brno
END:VEVENT
BEGIN:VEVENT
UID:63613762-3531-4266-b137-383062323730
DTSTAMP:20260421T210122Z
DESCRIPTION:1/3 Beskydy - Brno 3:2 (-21\,-21\,20\,21\,10)
DTSTART;TZID=Europe/Berlin:20230422T140000
DTEND;TZID=Europe/Berlin:20230422T160000
LOCATION:Sportovní hala Lužiny\, Bellušova 1877 Praha - Stodůlky
SUMMARY:EX-U22M-6A: Beskydy-Brno
END:VEVENT
BEGIN:VEVENT
UID:38376664-6235-4762-b736-643036663265
DTSTAMP:20260421T210122Z
DESCRIPTION:2/8 Příbram - Brno 3:1 (23\,-23\,18\,18)
DTSTART;TZID=Europe/Berlin:20230423T130000
DTEND;TZID=Europe/Berlin:20230423T150000
LOCATION:Sportovní hala Lužiny\, Bellušova 1877 Praha - Stodůlky
SUMMARY:EX-U22M-6A: Příbram-Brno
END:VEVENT
BEGIN:VEVENT
UID:32373632-3636-4734-a438-313164353963
DTSTAMP:20260421T210122Z
DESCRIPTION:1/4 Brno - Liberec 3:2 (-12\,19\,-20\,22\,9)
DTSTART;TZID=Europe/Berlin:20230518T170000
DTEND;TZID=Europe/Berlin:20230518T190000
LOCATION:ZŠ Oskara Nedbala České Budějovice\, O. Nedbala 882 České Budějovi
 ce - České Budějovice 2
SUMMARY:EX-U22M-F2: Brno-Liberec
END:VEVENT
BEGIN:VEVENT
UID:38353038-6530-4963-a637-656562386164
DTSTAMP:20260421T210122Z
DESCRIPTION:2/6 Brno - Kojetín 2:3 (-23\,-22\,18\,23\,-11)
DTSTART;TZID=Europe/Berlin:20230519T100000
DTEND;TZID=Europe/Berlin:20230519T120000
LOCATION:ZŠ Oskara Nedbala České Budějovice\, O. Nedbala 882 České Budějovi
 ce - České Budějovice 2
SUMMARY:EX-U22M-F2: Brno-Kojetín
END:VEVENT
BEGIN:VEVENT
UID:34663162-3162-4139-b561-396135343862
DTSTAMP:20260421T210122Z
DESCRIPTION:2/12 Č. Budějovice - Brno 3:0 (18\,20\,19)
DTSTART;TZID=Europe/Berlin:20230519T170000
DTEND;TZID=Europe/Berlin:20230519T190000
LOCATION:ZŠ Oskara Nedbala České Budějovice\, O. Nedbala 882 České Budějovi
 ce - České Budějovice 2
SUMMARY:EX-U22M-F2: Č. Budějovice-Brno
END:VEVENT
BEGIN:VEVENT
UID:39336363-3935-4564-a466-623562386361
DTSTAMP:20260421T210122Z
DESCRIPTION:1/2 Brno - Kolín 1:3 (26\,-21\,-22\,-23)\n3F2-4F1
DTSTART;TZID=Europe/Berlin:20230520T120000
DTEND;TZID=Europe/Berlin:20230520T140000
LOCATION:Sportovní gymnázium Ludvíka Daňka\, Botanická 63 Brno - Ponava
SUMMARY:EX-U22M-F: Brno-Kolín
END:VEVENT
BEGIN:VEVENT
UID:63366537-3136-4633-b130-323064326332
DTSTAMP:20260421T210122Z
DESCRIPTION:2/5 Kojetín - Brno 3:2 (-21\,22\,17\,-20\,13)\no 7.-8. místo
DTSTART;TZID=Europe/Berlin:20230521T090000
DTEND;TZID=Europe/Berlin:20230521T110000
LOCATION:Městská sportovní hala\, Hanusíkova 1476 Kojetín - Kojetín I-Město
SUMMARY:EX-U22M-F: Kojetín-Brno
END:VEVENT
END:VCALENDAR
