BEGIN:VCALENDAR
VERSION:2.0
PRODID:-//VSC Zlín79108//NONSGML kigkonsult.se iCalcreator 2.41.80//
CALSCALE:GREGORIAN
UID:65363538-6638-4163-a236-356566643165
BEGIN:VEVENT
UID:36623633-6433-4634-b165-356465333961
DTSTAMP:20260421T153301Z
DESCRIPTION:2/8 Zlín - Svitavy 0:3 (-19\,-19\,-17)
DTSTART;TZID=Europe/Berlin:20221016T130000
DTEND;TZID=Europe/Berlin:20221016T150000
LOCATION:Sportovní gymnázium Ludvíka Daňka\, Botanická 63 Brno - Ponava
SUMMARY:EX-U22M-1B: Zlín-Svitavy
END:VEVENT
BEGIN:VEVENT
UID:33656233-6337-4238-b464-396436363731
DTSTAMP:20260421T153301Z
DESCRIPTION:2/10 Zlín - Brno 0:3 (-24\,-18\,-17)
DTSTART;TZID=Europe/Berlin:20221016T170000
DTEND;TZID=Europe/Berlin:20221016T190000
LOCATION:Sportovní gymnázium Ludvíka Daňka\, Botanická 63 Brno - Ponava
SUMMARY:EX-U22M-1B: Zlín-Brno
END:VEVENT
BEGIN:VEVENT
UID:61633961-3532-4136-a132-363033353535
DTSTAMP:20260421T153301Z
DESCRIPTION:1/2 H. Králové - Zlín 3:1 (20\,17\,-22\,21)
DTSTART;TZID=Europe/Berlin:20221015T120000
DTEND;TZID=Europe/Berlin:20221015T140000
LOCATION:Sportovní gymnázium Ludvíka Daňka\, Botanická 63 Brno - Ponava
SUMMARY:EX-U22M-1B: H. Králové-Zlín
END:VEVENT
BEGIN:VEVENT
UID:36363962-3836-4637-b863-316138343035
DTSTAMP:20260421T153301Z
DESCRIPTION:1/5 Ústí n. L. - Zlín 0:3 (-21\,-23\,-20)
DTSTART;TZID=Europe/Berlin:20221015T180000
DTEND;TZID=Europe/Berlin:20221015T200000
LOCATION:Sportovní gymnázium Ludvíka Daňka\, Botanická 63 Brno - Ponava
SUMMARY:EX-U22M-1B: Ústí n. L.-Zlín
END:VEVENT
BEGIN:VEVENT
UID:30383336-6236-4265-a361-643861663532
DTSTAMP:20260421T153301Z
DESCRIPTION:1/1 Zlín - V. Meziříčí 3:0 (14\,16\,18)
DTSTART;TZID=Europe/Berlin:20221119T100000
DTEND;TZID=Europe/Berlin:20221119T120000
LOCATION:Tělocvična střední zdravotnické školy Zlín\, Broučkova 372 Zlín - 
 Příluky
SUMMARY:EX-U22M-2B: Zlín-V. Meziříčí
END:VEVENT
BEGIN:VEVENT
UID:62646637-3661-4365-b036-633263636236
DTSTAMP:20260421T153301Z
DESCRIPTION:2/10 Zlín - Svitavy 3:0 (25\,21\,21)
DTSTART;TZID=Europe/Berlin:20221120T170000
DTEND;TZID=Europe/Berlin:20221120T190000
LOCATION:Tělocvična střední zdravotnické školy Zlín\, Broučkova 372 Zlín - 
 Příluky
SUMMARY:EX-U22M-2B: Zlín-Svitavy
END:VEVENT
BEGIN:VEVENT
UID:62633465-6339-4936-a561-656263623032
DTSTAMP:20260421T153301Z
DESCRIPTION:1/3 Příbram - Zlín 3:1 (19\,-20\,16\,19)
DTSTART;TZID=Europe/Berlin:20221119T140000
DTEND;TZID=Europe/Berlin:20221119T160000
LOCATION:Tělocvična střední zdravotnické školy Zlín\, Broučkova 372 Zlín - 
 Příluky
SUMMARY:EX-U22M-2B: Příbram-Zlín
END:VEVENT
BEGIN:VEVENT
UID:35646239-3532-4364-b330-303263623933
DTSTAMP:20260421T153301Z
DESCRIPTION:2/8 Liberec - Zlín 3:0 (22\,16\,16)\nNH- sportovní hala Zlín\, 
 U Zimního stadionu 4286\, Zlín
DTSTART;TZID=Europe/Berlin:20221120T130000
DTEND;TZID=Europe/Berlin:20221120T150000
LOCATION:Tělocvična střední zdravotnické školy Zlín\, Broučkova 372 Zlín - 
 Příluky
SUMMARY:EX-U22M-2B: Liberec-Zlín
END:VEVENT
BEGIN:VEVENT
UID:37626637-3164-4739-a335-646134346662
DTSTAMP:20260421T153301Z
DESCRIPTION:1/3 Zlín - Kolín 3:1 (23\,-17\,15\,13)
DTSTART;TZID=Europe/Berlin:20221210T140000
DTEND;TZID=Europe/Berlin:20221210T160000
LOCATION:Sportovní hala Lužiny\, Bellušova 1877 Praha - Stodůlky
SUMMARY:EX-U22M-3B: Zlín-Kolín
END:VEVENT
BEGIN:VEVENT
UID:32376161-3064-4863-b633-363465386565
DTSTAMP:20260421T153301Z
DESCRIPTION:1/5 Zlín - Karlovarsko 0:3 (-20\,-27\,-21)
DTSTART;TZID=Europe/Berlin:20221210T180000
DTEND;TZID=Europe/Berlin:20221210T200000
LOCATION:Sportovní hala Lužiny\, Bellušova 1877 Praha - Stodůlky
SUMMARY:EX-U22M-3B: Zlín-Karlovarsko
END:VEVENT
BEGIN:VEVENT
UID:61363030-6333-4963-b136-353561653436
DTSTAMP:20260421T153301Z
DESCRIPTION:2/7 Lvi - Zlín 3:0 (21\,13\,16)
DTSTART;TZID=Europe/Berlin:20221211T110000
DTEND;TZID=Europe/Berlin:20221211T130000
LOCATION:Sportovní hala Lužiny\, Bellušova 1877 Praha - Stodůlky
SUMMARY:EX-U22M-3B: Lvi-Zlín
END:VEVENT
BEGIN:VEVENT
UID:30303864-3661-4864-b739-623365643130
DTSTAMP:20260421T153301Z
DESCRIPTION:2/9 Kojetín - Zlín 3:0 (17\,19\,21)
DTSTART;TZID=Europe/Berlin:20221211T150000
DTEND;TZID=Europe/Berlin:20221211T170000
LOCATION:Sportovní hala Lužiny\, Bellušova 1877 Praha - Stodůlky
SUMMARY:EX-U22M-3B: Kojetín-Zlín
END:VEVENT
BEGIN:VEVENT
UID:36333133-6339-4530-a337-663264333663
DTSTAMP:20260421T153301Z
DESCRIPTION:1/3 Zlín - Kolín 2:3 (16\,19\,-24\,-16\,-12)
DTSTART;TZID=Europe/Berlin:20230121T130000
DTEND;TZID=Europe/Berlin:20230121T150000
LOCATION:Hala Pouchov\, K Sokolovně 544 Hradec Králové - Pouchov
SUMMARY:EX-U22M-4C: Zlín-Kolín
END:VEVENT
BEGIN:VEVENT
UID:35623730-3564-4966-b662-316336633736
DTSTAMP:20260421T153301Z
DESCRIPTION:1/5 Zlín - Benátky n. J. 3:2 (-21\,16\,20\,-22\,12)
DTSTART;TZID=Europe/Berlin:20230121T160000
DTEND;TZID=Europe/Berlin:20230121T180000
LOCATION:Hala Pouchov\, K Sokolovně 544 Hradec Králové - Pouchov
SUMMARY:EX-U22M-4C: Zlín-Benátky n. J.
END:VEVENT
BEGIN:VEVENT
UID:63393931-6539-4138-a436-616237333066
DTSTAMP:20260421T153301Z
DESCRIPTION:2/7 H. Králové - Zlín 2:3 (16\,-27\,29\,-23\,-14)
DTSTART;TZID=Europe/Berlin:20230122T120000
DTEND;TZID=Europe/Berlin:20230122T140000
LOCATION:Hala Pouchov\, K Sokolovně 544 Hradec Králové - Pouchov
SUMMARY:EX-U22M-4C: H. Králové-Zlín
END:VEVENT
BEGIN:VEVENT
UID:64616265-6365-4563-a566-626436643065
DTSTAMP:20260421T153301Z
DESCRIPTION:2/9 Prosek - Zlín 3:2 (24\,-15\,20\,-24\,14)
DTSTART;TZID=Europe/Berlin:20230122T150000
DTEND;TZID=Europe/Berlin:20230122T170000
LOCATION:Hala Pouchov\, K Sokolovně 544 Hradec Králové - Pouchov
SUMMARY:EX-U22M-4C: Prosek-Zlín
END:VEVENT
BEGIN:VEVENT
UID:30663232-6462-4433-b535-653734313330
DTSTAMP:20260421T153301Z
DESCRIPTION:1/2 Zlín - Svitavy 3:2 (24\,-24\,-21\,19\,13)
DTSTART;TZID=Europe/Berlin:20230318T130000
DTEND;TZID=Europe/Berlin:20230318T150000
LOCATION:Sportcentrum SLUNETA\, Jateční 1026 Ústí nad Labem - Klíše
SUMMARY:EX-U22M-5C: Zlín-Svitavy
END:VEVENT
BEGIN:VEVENT
UID:34663533-3130-4165-b461-653866623765
DTSTAMP:20260421T153301Z
DESCRIPTION:2/9 Zlín - Ostrava 2:3 (26\,20\,-16\,-12\,-12)
DTSTART;TZID=Europe/Berlin:20230319T120000
DTEND;TZID=Europe/Berlin:20230319T140000
LOCATION:Sportcentrum SLUNETA\, Jateční 1026 Ústí nad Labem - Klíše
SUMMARY:EX-U22M-5C: Zlín-Ostrava
END:VEVENT
BEGIN:VEVENT
UID:63343562-3336-4662-b631-393136373261
DTSTAMP:20260421T153301Z
DESCRIPTION:1/4 Ústí n. L. - Zlín 0:3 (-13\,-22\,-15)
DTSTART;TZID=Europe/Berlin:20230318T160000
DTEND;TZID=Europe/Berlin:20230318T180000
LOCATION:Sportcentrum SLUNETA\, Jateční 1026 Ústí nad Labem - Klíše
SUMMARY:EX-U22M-5C: Ústí n. L.-Zlín
END:VEVENT
BEGIN:VEVENT
UID:64393063-3936-4337-a565-333461663565
DTSTAMP:20260421T153301Z
DESCRIPTION:2/6 V. Meziříčí - Zlín 1:3 (-23\,18\,-21\,-24)
DTSTART;TZID=Europe/Berlin:20230319T090000
DTEND;TZID=Europe/Berlin:20230319T110000
LOCATION:Sportcentrum SLUNETA\, Jateční 1026 Ústí nad Labem - Klíše
SUMMARY:EX-U22M-5C: V. Meziříčí-Zlín
END:VEVENT
BEGIN:VEVENT
UID:39373063-6663-4437-a635-373933353134
DTSTAMP:20260421T153301Z
DESCRIPTION:1/3 Zlín - Svitavy 2:3 (27\,-22\,24\,-17\,-10)\nNH- sportovní h
 ala na Pouchově. K Sokolovně 544/19\, Hradec Králové
DTSTART;TZID=Europe/Berlin:20230422T130000
DTEND;TZID=Europe/Berlin:20230422T150000
LOCATION:TJ Slavia Hradec Králové\, Víta Nejedlého 1216 Hradec Králové
SUMMARY:EX-U22M-6C: Zlín-Svitavy
END:VEVENT
BEGIN:VEVENT
UID:32393139-3739-4138-a231-626661306530
DTSTAMP:20260421T153301Z
DESCRIPTION:1/5 Zlín - V. Meziříčí 3:2 (21\,-28\,-16\,19\,9)\nNH- sportovní
  hala na Pouchově. K Sokolovně 544/19\, Hradec Králové
DTSTART;TZID=Europe/Berlin:20230422T160000
DTEND;TZID=Europe/Berlin:20230422T180000
LOCATION:TJ Slavia Hradec Králové\, Víta Nejedlého 1216 Hradec Králové
SUMMARY:EX-U22M-6C: Zlín-V. Meziříčí
END:VEVENT
BEGIN:VEVENT
UID:39343662-3538-4336-b939-346635366166
DTSTAMP:20260421T153301Z
DESCRIPTION:2/7 H. Králové - Zlín 0:3 (-18\,-25\,-19)
DTSTART;TZID=Europe/Berlin:20230423T090000
DTEND;TZID=Europe/Berlin:20230423T110000
LOCATION:TJ Slavia Hradec Králové\, Víta Nejedlého 1216 Hradec Králové
SUMMARY:EX-U22M-6C: H. Králové-Zlín
END:VEVENT
BEGIN:VEVENT
UID:30626365-3163-4162-b437-333039303438
DTSTAMP:20260421T153301Z
DESCRIPTION:2/9 Prosek - Zlín 3:1 (23\,-15\,22\,21)
DTSTART;TZID=Europe/Berlin:20230423T120000
DTEND;TZID=Europe/Berlin:20230423T140000
LOCATION:TJ Slavia Hradec Králové\, Víta Nejedlého 1216 Hradec Králové
SUMMARY:EX-U22M-6C: Prosek-Zlín
END:VEVENT
END:VCALENDAR
