BEGIN:VCALENDAR
VERSION:2.0
PRODID:-//VK Lvi Praha79111//NONSGML kigkonsult.se iCalcreator 2.41.80//
CALSCALE:GREGORIAN
UID:30393737-6432-4433-b832-666532383561
BEGIN:VEVENT
UID:62626665-6132-4935-b339-653331653666
DTSTAMP:20260421T201613Z
DESCRIPTION:1/1 Olymp - Lvi 3:0 (22\,11\,16)
DTSTART;TZID=Europe/Berlin:20220918T100000
DTEND;TZID=Europe/Berlin:20220918T120000
LOCATION:PVK Olymp Praha\, Přípotoční 300 Praha - Vršovice
SUMMARY:EX-U22Z-1C: Olymp-Lvi
END:VEVENT
BEGIN:VEVENT
UID:36663966-6662-4638-a365-323962653663
DTSTAMP:20260421T201613Z
DESCRIPTION:5/2 Lvi - Ostrava 0:3 (-9\,-19\,-17)
DTSTART;TZID=Europe/Berlin:20221002T133000
DTEND;TZID=Europe/Berlin:20221002T153000
LOCATION:SOŠ a SOU Lanškroun\, Sokolská 288 Lanškroun - Ostrovské Předměstí
SUMMARY:EX-U22Z-2B: Lvi-Ostrava
END:VEVENT
BEGIN:VEVENT
UID:34663531-3262-4337-b663-626663393739
DTSTAMP:20260421T201613Z
DESCRIPTION:4/1 Lanškroun - Lvi 3:1 (22\,24\,-17\,18)
DTSTART;TZID=Europe/Berlin:20221002T100000
DTEND;TZID=Europe/Berlin:20221002T120000
LOCATION:SOŠ a SOU Lanškroun\, Sokolská 288 Lanškroun - Ostrovské Předměstí
SUMMARY:EX-U22Z-2B: Lanškroun-Lvi
END:VEVENT
BEGIN:VEVENT
UID:66316438-3636-4231-b131-626134343038
DTSTAMP:20260421T201613Z
DESCRIPTION:7/1 Lvi - Prostějov 0:3 (-23\,-23\,-22)
DTSTART;TZID=Europe/Berlin:20221106T103000
DTEND;TZID=Europe/Berlin:20221106T123000
LOCATION:ZŠ Balabenka\, náměstí Na Balabence 800 Praha - Libeň
SUMMARY:EX-U22Z-3C: Lvi-Prostějov
END:VEVENT
BEGIN:VEVENT
UID:37303237-6362-4765-b465-383263303130
DTSTAMP:20260421T201613Z
DESCRIPTION:9/3 U. Hradiště - Lvi 2:3 (17\,-12\,15\,-22\,-13)
DTSTART;TZID=Europe/Berlin:20221106T143000
DTEND;TZID=Europe/Berlin:20221106T163000
LOCATION:ZŠ Balabenka\, náměstí Na Balabence 800 Praha - Libeň
SUMMARY:EX-U22Z-3C: U. Hradiště-Lvi
END:VEVENT
BEGIN:VEVENT
UID:36633932-3761-4833-a638-396462306138
DTSTAMP:20260421T201613Z
DESCRIPTION:11/2 Lvi - H. Králové 3:0 (20\,14\,17)
DTSTART;TZID=Europe/Berlin:20221204T133000
DTEND;TZID=Europe/Berlin:20221204T153000
LOCATION:Městská sportovní hala\, Petřivalského 2884 Přerov - Přerov I-Měst
 o
SUMMARY:EX-U22Z-4C: Lvi-H. Králové
END:VEVENT
BEGIN:VEVENT
UID:66356130-3334-4531-a439-306361376633
DTSTAMP:20260421T201613Z
DESCRIPTION:10/1 Přerov - Lvi 0:3 (-19\,-21\,-23)
DTSTART;TZID=Europe/Berlin:20221204T100000
DTEND;TZID=Europe/Berlin:20221204T120000
LOCATION:Městská sportovní hala\, Petřivalského 2884 Přerov - Přerov I-Měst
 o
SUMMARY:EX-U22Z-4C: Přerov-Lvi
END:VEVENT
BEGIN:VEVENT
UID:66303266-3936-4137-b534-623335643938
DTSTAMP:20260421T201613Z
DESCRIPTION:13/1 Lvi - Lanškroun 3:2 (-17\,23\,-14\,15\,11)
DTSTART;TZID=Europe/Berlin:20230115T100000
DTEND;TZID=Europe/Berlin:20230115T120000
LOCATION:ZŠ Balabenka\, náměstí Na Balabence 800 Praha - Libeň
SUMMARY:EX-U22Z-5B: Lvi-Lanškroun
END:VEVENT
BEGIN:VEVENT
UID:61316231-6462-4661-a631-393830643833
DTSTAMP:20260421T201613Z
DESCRIPTION:15/3 Liberec - Lvi 3:0 (12\,8\,19)
DTSTART;TZID=Europe/Berlin:20230115T170000
DTEND;TZID=Europe/Berlin:20230115T190000
LOCATION:ZŠ Balabenka\, náměstí Na Balabence 800 Praha - Libeň
SUMMARY:EX-U22Z-5B: Liberec-Lvi
END:VEVENT
BEGIN:VEVENT
UID:62373638-6137-4934-b264-626565613638
DTSTAMP:20260421T201613Z
DESCRIPTION:18/3 Lvi - H. Králové 0:3 (-20\,-21\,-16)
DTSTART;TZID=Europe/Berlin:20230205T170000
DTEND;TZID=Europe/Berlin:20230205T190000
LOCATION:TJ Slavia Hradec Králové\, Víta Nejedlého 1216 Hradec Králové
SUMMARY:EX-U22Z-6B: Lvi-H. Králové
END:VEVENT
BEGIN:VEVENT
UID:32313633-3866-4837-b332-393162383634
DTSTAMP:20260421T201613Z
DESCRIPTION:17/2 Kr. Pole - Lvi 3:0 (21\,9\,17)
DTSTART;TZID=Europe/Berlin:20230205T133000
DTEND;TZID=Europe/Berlin:20230205T153000
LOCATION:TJ Slavia Hradec Králové\, Víta Nejedlého 1216 Hradec Králové
SUMMARY:EX-U22Z-6B: Kr. Pole-Lvi
END:VEVENT
BEGIN:VEVENT
UID:34346232-3833-4066-b538-356434326135
DTSTAMP:20260421T201613Z
DESCRIPTION:19/1 Lvi - Střešovice 3:1 (-18\,17\,16\,14)
DTSTART;TZID=Europe/Berlin:20230305T100000
DTEND;TZID=Europe/Berlin:20230305T120000
LOCATION:ZŠ Balabenka\, náměstí Na Balabence 800 Praha - Libeň
SUMMARY:EX-U22Z-7C: Lvi-Střešovice
END:VEVENT
BEGIN:VEVENT
UID:35633564-3166-4530-b965-343832623062
DTSTAMP:20260421T201613Z
DESCRIPTION:21/3 Prostějov - Lvi 3:0 (20\,20\,22)
DTSTART;TZID=Europe/Berlin:20230305T170000
DTEND;TZID=Europe/Berlin:20230305T190000
LOCATION:ZŠ Balabenka\, náměstí Na Balabence 800 Praha - Libeň
SUMMARY:EX-U22Z-7C: Prostějov-Lvi
END:VEVENT
BEGIN:VEVENT
UID:61646638-6264-4132-a138-616462393262
DTSTAMP:20260421T201613Z
DESCRIPTION:22/1 Lvi - H. Králové 2:3 (-27\,-16\,20\,22\,-14)
DTSTART;TZID=Europe/Berlin:20230402T100000
DTEND;TZID=Europe/Berlin:20230402T120000
LOCATION:ZŠ Balabenka\, náměstí Na Balabence 800 Praha - Libeň
SUMMARY:EX-U22Z-8C: Lvi-H. Králové
END:VEVENT
BEGIN:VEVENT
UID:39623439-3761-4064-a365-623833623433
DTSTAMP:20260421T201613Z
DESCRIPTION:24/3 U. Hradiště - Lvi 3:0 (16\,20\,20)
DTSTART;TZID=Europe/Berlin:20230402T170000
DTEND;TZID=Europe/Berlin:20230402T190000
LOCATION:ZŠ Balabenka\, náměstí Na Balabence 800 Praha - Libeň
SUMMARY:EX-U22Z-8C: U. Hradiště-Lvi
END:VEVENT
BEGIN:VEVENT
UID:35363365-6333-4362-a364-323437616263
DTSTAMP:20260421T201613Z
DESCRIPTION:2/3 Lvi - Liberec 0:3 (-10\,-20\,-9)
DTSTART;TZID=Europe/Berlin:20230506T100000
DTEND;TZID=Europe/Berlin:20230506T120000
LOCATION:Hala mládeže\, Gajdošova 1893 Ostrava - Moravská Ostrava
SUMMARY:EX-U22Z-F2: Lvi-Liberec
END:VEVENT
BEGIN:VEVENT
UID:30383837-3032-4864-b439-343962376239
DTSTAMP:20260421T201613Z
DESCRIPTION:1/1 Kr. Pole - Lvi 3:1 (22\,-24\,24\,19)
DTSTART;TZID=Europe/Berlin:20230505T150000
DTEND;TZID=Europe/Berlin:20230505T170000
LOCATION:Hala mládeže\, Gajdošova 1893 Ostrava - Moravská Ostrava
SUMMARY:EX-U22Z-F2: Kr. Pole-Lvi
END:VEVENT
BEGIN:VEVENT
UID:34323334-3935-4634-a531-383364656134
DTSTAMP:20260421T201613Z
DESCRIPTION:2/5 H. Králové - Lvi 1:3 (20\,-18\,-15\,-21)
DTSTART;TZID=Europe/Berlin:20230506T150000
DTEND;TZID=Europe/Berlin:20230506T170000
LOCATION:Hala mládeže\, Gajdošova 1893 Ostrava - Moravská Ostrava
SUMMARY:EX-U22Z-F2: H. Králové-Lvi
END:VEVENT
BEGIN:VEVENT
UID:61336637-3839-4663-b965-326130626630
DTSTAMP:20260421T201613Z
DESCRIPTION:1/2 Lvi - Lanškroun 3:1 (19\,23\,-22\,20)\n3F2-4F1
DTSTART;TZID=Europe/Berlin:20230507T120000
DTEND;TZID=Europe/Berlin:20230507T140000
LOCATION:Sportovní hala Lužiny\, Bellušova 1877 Praha - Stodůlky
SUMMARY:EX-U22Z-F: Lvi-Lanškroun
END:VEVENT
BEGIN:VEVENT
UID:36653738-3335-4233-b066-623130653137
DTSTAMP:20260421T201613Z
DESCRIPTION:2/6 Lvi - Kr. Pole 3:1 (22\,-20\,17\,17)\no 5.-6. místo
DTSTART;TZID=Europe/Berlin:20230508T110000
DTEND;TZID=Europe/Berlin:20230508T130000
LOCATION:Sportovní hala Lužiny\, Bellušova 1877 Praha - Stodůlky
SUMMARY:EX-U22Z-F: Lvi-Kr. Pole
END:VEVENT
END:VCALENDAR
