BEGIN:VCALENDAR
VERSION:2.0
PRODID:-//Tatran Střešovice79114//NONSGML kigkonsult.se iCalcreator 2.41.80//
CALSCALE:GREGORIAN
UID:34663438-3439-4161-b834-313731653563
BEGIN:VEVENT
UID:66663962-6565-4932-b066-356336643765
DTSTAMP:20260421T145541Z
DESCRIPTION:2/2 Střešovice - Prostějov 1:3 (-16\,15\,-23\,-14)
DTSTART;TZID=Europe/Berlin:20220918T130000
DTEND;TZID=Europe/Berlin:20220918T150000
LOCATION:Sportovní gymnázium Ludvíka Daňka\, Botanická 63 Brno - Ponava
SUMMARY:EX-U22Z-1A: Střešovice-Prostějov
END:VEVENT
BEGIN:VEVENT
UID:64346330-3132-4932-b934-633335326466
DTSTAMP:20260421T145541Z
DESCRIPTION:1/1 Kr. Pole - Střešovice 3:0 (16\,13\,17)
DTSTART;TZID=Europe/Berlin:20220918T100000
DTEND;TZID=Europe/Berlin:20220918T120000
LOCATION:Sportovní gymnázium Ludvíka Daňka\, Botanická 63 Brno - Ponava
SUMMARY:EX-U22Z-1A: Kr. Pole-Střešovice
END:VEVENT
BEGIN:VEVENT
UID:35613566-3864-4734-a633-376561343839
DTSTAMP:20260421T145541Z
DESCRIPTION:4/1 Střešovice - U. Hradiště 0:3 (-25\,-22\,-21)
DTSTART;TZID=Europe/Berlin:20221002T100000
DTEND;TZID=Europe/Berlin:20221002T120000
LOCATION:TJ Tatran Střešovice\, Sibeliova 368 Praha - Střešovice
SUMMARY:EX-U22Z-2D: Střešovice-U. Hradiště
END:VEVENT
BEGIN:VEVENT
UID:36333532-3530-4461-a639-623061326131
DTSTAMP:20260421T145541Z
DESCRIPTION:5/2 Střešovice - U. Hradiště 1:3 (18\,-21\,-21\,-27)
DTSTART;TZID=Europe/Berlin:20221002T140000
DTEND;TZID=Europe/Berlin:20221002T160000
LOCATION:TJ Tatran Střešovice\, Sibeliova 368 Praha - Střešovice
SUMMARY:EX-U22Z-2D: Střešovice-U. Hradiště
END:VEVENT
BEGIN:VEVENT
UID:37653733-6663-4163-b338-363361303138
DTSTAMP:20260421T145541Z
DESCRIPTION:7/1 Přerov - Střešovice 3:0 (23\,18\,21)
DTSTART;TZID=Europe/Berlin:20221106T100000
DTEND;TZID=Europe/Berlin:20221106T120000
LOCATION:Městská sportovní hala\, Petřivalského 2884 Přerov - Přerov I-Měst
 o
SUMMARY:EX-U22Z-3D: Přerov-Střešovice
END:VEVENT
BEGIN:VEVENT
UID:33633863-3364-4732-a633-626366663161
DTSTAMP:20260421T145541Z
DESCRIPTION:8/2 Přerov - Střešovice 3:2 (21\,-28\,-20\,14\,17)
DTSTART;TZID=Europe/Berlin:20221106T140000
DTEND;TZID=Europe/Berlin:20221106T160000
LOCATION:Městská sportovní hala\, Petřivalského 2884 Přerov - Přerov I-Měst
 o
SUMMARY:EX-U22Z-3D: Přerov-Střešovice
END:VEVENT
BEGIN:VEVENT
UID:34356333-3838-4461-b835-396139666463
DTSTAMP:20260421T145541Z
DESCRIPTION:10/1 U. Hradiště - Střešovice 2:3 (20\,-15\,-14\,17\,-8)
DTSTART;TZID=Europe/Berlin:20221204T090000
DTEND;TZID=Europe/Berlin:20221204T110000
LOCATION:Gymnázium Uherské Hradiště\, Velehradská třída 218 Uherské Hradišt
 ě
SUMMARY:EX-U22Z-4D: U. Hradiště-Střešovice
END:VEVENT
BEGIN:VEVENT
UID:34343139-6464-4131-b330-393635303737
DTSTAMP:20260421T145541Z
DESCRIPTION:11/2 U. Hradiště - Střešovice 0:3 (-20\,-12\,-17)
DTSTART;TZID=Europe/Berlin:20221204T123000
DTEND;TZID=Europe/Berlin:20221204T143000
LOCATION:Gymnázium Uherské Hradiště\, Velehradská třída 218 Uherské Hradišt
 ě
SUMMARY:EX-U22Z-4D: U. Hradiště-Střešovice
END:VEVENT
BEGIN:VEVENT
UID:63353962-6566-4562-a331-303630623235
DTSTAMP:20260421T145541Z
DESCRIPTION:15/3 Střešovice - Prostějov 0:3 (-18\,-19\,-21)
DTSTART;TZID=Europe/Berlin:20230115T170000
DTEND;TZID=Europe/Berlin:20230115T190000
LOCATION:Národní sportovní centrum\, Za velodromem 4187 Prostějov
SUMMARY:EX-U22Z-5C: Střešovice-Prostějov
END:VEVENT
BEGIN:VEVENT
UID:64333532-3535-4232-b432-663334393666
DTSTAMP:20260421T145541Z
DESCRIPTION:14/2 H. Králové - Střešovice 3:0 (23\,18\,12)
DTSTART;TZID=Europe/Berlin:20230115T133000
DTEND;TZID=Europe/Berlin:20230115T153000
LOCATION:Národní sportovní centrum\, Za velodromem 4187 Prostějov
SUMMARY:EX-U22Z-5C: H. Králové-Střešovice
END:VEVENT
BEGIN:VEVENT
UID:37316439-6336-4266-a632-313766363966
DTSTAMP:20260421T145541Z
DESCRIPTION:16/1 Střešovice - U. Hradiště 3:0 (18\,21\,23)
DTSTART;TZID=Europe/Berlin:20230203T093000
DTEND;TZID=Europe/Berlin:20230203T113000
LOCATION:Sportovní hala ZŠ\, náměstí Českého povstání 511 Praha - Ruzyně
SUMMARY:EX-U22Z-6D: Střešovice-U. Hradiště
END:VEVENT
BEGIN:VEVENT
UID:62663263-3563-4861-b163-373436356463
DTSTAMP:20260421T145541Z
DESCRIPTION:17/2 Střešovice - U. Hradiště 3:2 (16\,-17\,-21\,20\,10)
DTSTART;TZID=Europe/Berlin:20230203T123000
DTEND;TZID=Europe/Berlin:20230203T143000
LOCATION:Sportovní hala ZŠ\, náměstí Českého povstání 511 Praha - Ruzyně
SUMMARY:EX-U22Z-6D: Střešovice-U. Hradiště
END:VEVENT
BEGIN:VEVENT
UID:62346134-3133-4437-a663-303331383236
DTSTAMP:20260421T145541Z
DESCRIPTION:20/2 Střešovice - Prostějov 2:3 (-15\,19\,15\,-14\,-6)
DTSTART;TZID=Europe/Berlin:20230305T133000
DTEND;TZID=Europe/Berlin:20230305T153000
LOCATION:ZŠ Balabenka\, náměstí Na Balabence 800 Praha - Libeň
SUMMARY:EX-U22Z-7C: Střešovice-Prostějov
END:VEVENT
BEGIN:VEVENT
UID:63643461-6566-4135-b062-383739303134
DTSTAMP:20260421T145541Z
DESCRIPTION:19/1 Lvi - Střešovice 3:1 (-18\,17\,16\,14)
DTSTART;TZID=Europe/Berlin:20230305T100000
DTEND;TZID=Europe/Berlin:20230305T120000
LOCATION:ZŠ Balabenka\, náměstí Na Balabence 800 Praha - Libeň
SUMMARY:EX-U22Z-7C: Lvi-Střešovice
END:VEVENT
BEGIN:VEVENT
UID:62333132-6265-4638-b865-643533373535
DTSTAMP:20260421T145541Z
DESCRIPTION:22/1 Přerov - Střešovice 3:0 (22\,17\,19)
DTSTART;TZID=Europe/Berlin:20230402T093000
DTEND;TZID=Europe/Berlin:20230402T113000
LOCATION:Městská sportovní hala\, Petřivalského 2884 Přerov - Přerov I-Měst
 o
SUMMARY:EX-U22Z-8D: Přerov-Střešovice
END:VEVENT
BEGIN:VEVENT
UID:37616164-6238-4261-b133-343433353834
DTSTAMP:20260421T145541Z
DESCRIPTION:23/2 Přerov - Střešovice 3:0 (22\,14\,15)
DTSTART;TZID=Europe/Berlin:20230402T133000
DTEND;TZID=Europe/Berlin:20230402T153000
LOCATION:Městská sportovní hala\, Petřivalského 2884 Přerov - Přerov I-Měst
 o
SUMMARY:EX-U22Z-8D: Přerov-Střešovice
END:VEVENT
BEGIN:VEVENT
UID:38303539-3166-4436-b735-636261646637
DTSTAMP:20260421T145541Z
DESCRIPTION:1/1 Střešovice - Brno 3:1 (14\,-20\,21\,23)
DTSTART;TZID=Europe/Berlin:20230506T100000
DTEND;TZID=Europe/Berlin:20230506T120000
LOCATION:TJ Tatran Střešovice\, Sibeliova 368 Praha - Střešovice
SUMMARY:EX-U22Z-KII: Střešovice-Brno
END:VEVENT
BEGIN:VEVENT
UID:30306362-6135-4239-b366-343664366161
DTSTAMP:20260421T145541Z
DESCRIPTION:1/3 Střešovice - Nymburk 0:3 (-23\,-27\,-20)
DTSTART;TZID=Europe/Berlin:20230506T170000
DTEND;TZID=Europe/Berlin:20230506T190000
LOCATION:TJ Tatran Střešovice\, Sibeliova 368 Praha - Střešovice
SUMMARY:EX-U22Z-KII: Střešovice-Nymburk
END:VEVENT
END:VCALENDAR
