BEGIN:VCALENDAR
VERSION:2.0
PRODID:-//VK Valašské Meziříčí79128//NONSGML kigkonsult.se iCalcreator 2.41.80//
CALSCALE:GREGORIAN
UID:61333461-6632-4164-b033-393735363433
BEGIN:VEVENT
UID:38396533-3764-4437-b434-303630363131
DTSTAMP:20260422T070133Z
DESCRIPTION:1/2 Val. Meziříčí - Opava 2:3 (-17\,-20\,21\,20\,-11)
DTSTART;TZID=Europe/Berlin:20220924T100000
DTEND;TZID=Europe/Berlin:20220924T120000
LOCATION:ZŠ Šafaříkova\, Šafaříkova 726 Valašské Meziříčí
SUMMARY:1-U22M-C: Val. Meziříčí-Opava
END:VEVENT
BEGIN:VEVENT
UID:32343839-3039-4161-b933-373538333032
DTSTAMP:20260422T070133Z
DESCRIPTION:2/6 Val. Meziříčí - Opava 3:0 (21\,29\,21)
DTSTART;TZID=Europe/Berlin:20220924T140000
DTEND;TZID=Europe/Berlin:20220924T160000
LOCATION:ZŠ Šafaříkova\, Šafaříkova 726 Valašské Meziříčí
SUMMARY:1-U22M-C: Val. Meziříčí-Opava
END:VEVENT
BEGIN:VEVENT
UID:33653837-6139-4764-b833-643037313233
DTSTAMP:20260422T070133Z
DESCRIPTION:7/28 Val. Meziříčí - Šlapanice X:3
DTSTART;TZID=Europe/Berlin:20221009T110000
DTEND;TZID=Europe/Berlin:20221009T130000
LOCATION:ZŠ Šafaříkova\, Šafaříkova 726 Valašské Meziříčí
SUMMARY:1-U22M-C: Val. Meziříčí-Šlapanice
END:VEVENT
BEGIN:VEVENT
UID:33623463-3366-4263-b466-306532313435
DTSTAMP:20260422T070133Z
DESCRIPTION:8/32 Val. Meziříčí - Šlapanice X:3
DTSTART;TZID=Europe/Berlin:20221009T140000
DTEND;TZID=Europe/Berlin:20221009T160000
LOCATION:ZŠ Šafaříkova\, Šafaříkova 726 Valašské Meziříčí
SUMMARY:1-U22M-C: Val. Meziříčí-Šlapanice
END:VEVENT
BEGIN:VEVENT
UID:33616239-3238-4865-b563-346164316537
DTSTAMP:20260422T070133Z
DESCRIPTION:11/43 Val. Meziříčí - Havířov 3:0 (11\,18\,12)
DTSTART;TZID=Europe/Berlin:20221113T100000
DTEND;TZID=Europe/Berlin:20221113T120000
LOCATION:ZŠ Šafaříkova\, Šafaříkova 726 Valašské Meziříčí
SUMMARY:1-U22M-C: Val. Meziříčí-Havířov
END:VEVENT
BEGIN:VEVENT
UID:30346337-6264-4133-a333-613465376636
DTSTAMP:20260422T070133Z
DESCRIPTION:12/47 Val. Meziříčí - Havířov 3:0 (12\,13\,16)
DTSTART;TZID=Europe/Berlin:20221113T140000
DTEND;TZID=Europe/Berlin:20221113T160000
LOCATION:ZŠ Šafaříkova\, Šafaříkova 726 Valašské Meziříčí
SUMMARY:1-U22M-C: Val. Meziříčí-Havířov
END:VEVENT
BEGIN:VEVENT
UID:31386634-6561-4761-b536-323635636363
DTSTAMP:20260422T070133Z
DESCRIPTION:17/68 Val. Meziříčí - Blue Ostrava 3:2 (15\,-18\,19\,-19\,12)
DTSTART;TZID=Europe/Berlin:20230115T100000
DTEND;TZID=Europe/Berlin:20230115T120000
LOCATION:ZŠ Šafaříkova\, Šafaříkova 726 Valašské Meziříčí
SUMMARY:1-U22M-C: Val. Meziříčí-Blue Ostrava
END:VEVENT
BEGIN:VEVENT
UID:36323738-3761-4464-a562-306231616638
DTSTAMP:20260422T070133Z
DESCRIPTION:18/72 Val. Meziříčí - Blue Ostrava 3:1 (22\,-20\,27\,17)
DTSTART;TZID=Europe/Berlin:20230115T140000
DTEND;TZID=Europe/Berlin:20230115T160000
LOCATION:ZŠ Šafaříkova\, Šafaříkova 726 Valašské Meziříčí
SUMMARY:1-U22M-C: Val. Meziříčí-Blue Ostrava
END:VEVENT
BEGIN:VEVENT
UID:62353562-3862-4233-b438-323936643639
DTSTAMP:20260422T070133Z
DESCRIPTION:23/90 Val. Meziříčí - Olomouc 3:1 (16\,16\,-21\,16)
DTSTART;TZID=Europe/Berlin:20230225T100000
DTEND;TZID=Europe/Berlin:20230225T120000
LOCATION:ZŠ Šafaříkova\, Šafaříkova 726 Valašské Meziříčí
SUMMARY:1-U22M-C: Val. Meziříčí-Olomouc
END:VEVENT
BEGIN:VEVENT
UID:66356533-6539-4565-b262-346366643133
DTSTAMP:20260422T070133Z
DESCRIPTION:24/94 Val. Meziříčí - Olomouc 3:1 (-23\,21\,18\,18)
DTSTART;TZID=Europe/Berlin:20230225T140000
DTEND;TZID=Europe/Berlin:20230225T160000
LOCATION:ZŠ Šafaříkova\, Šafaříkova 726 Valašské Meziříčí
SUMMARY:1-U22M-C: Val. Meziříčí-Olomouc
END:VEVENT
BEGIN:VEVENT
UID:63316163-3462-4331-b862-666433343533
DTSTAMP:20260422T070133Z
DESCRIPTION:27/107 Val. Meziříčí - Kojetín B 3:0 (20\,23\,18)
DTSTART;TZID=Europe/Berlin:20230311T100000
DTEND;TZID=Europe/Berlin:20230311T120000
LOCATION:ZŠ Šafaříkova\, Šafaříkova 726 Valašské Meziříčí
SUMMARY:1-U22M-C: Val. Meziříčí-Kojetín B
END:VEVENT
BEGIN:VEVENT
UID:65633338-6132-4062-a538-326133366662
DTSTAMP:20260422T070133Z
DESCRIPTION:28/111 Val. Meziříčí - Kojetín B 3:0 (14\,12\,20)
DTSTART;TZID=Europe/Berlin:20230311T140000
DTEND;TZID=Europe/Berlin:20230311T160000
LOCATION:ZŠ Šafaříkova\, Šafaříkova 726 Valašské Meziříčí
SUMMARY:1-U22M-C: Val. Meziříčí-Kojetín B
END:VEVENT
BEGIN:VEVENT
UID:37353838-3837-4931-a364-653237386662
DTSTAMP:20260422T070133Z
DESCRIPTION:3/12 Blue Ostrava - Val. Meziříčí 3:0 (20\,20\,17)
DTSTART;TZID=Europe/Berlin:20220925T100000
DTEND;TZID=Europe/Berlin:20220925T120000
LOCATION:MH Svinov\, Stanislavského 1270 Ostrava - Svinov
SUMMARY:1-U22M-C: Blue Ostrava-Val. Meziříčí
END:VEVENT
BEGIN:VEVENT
UID:38366431-3162-4466-b130-306664613931
DTSTAMP:20260422T070133Z
DESCRIPTION:4/16 Blue Ostrava - Val. Meziříčí 3:0 (12\,10\,20)
DTSTART;TZID=Europe/Berlin:20220925T140000
DTEND;TZID=Europe/Berlin:20220925T160000
LOCATION:MH Svinov\, Stanislavského 1270 Ostrava - Svinov
SUMMARY:1-U22M-C: Blue Ostrava-Val. Meziříčí
END:VEVENT
BEGIN:VEVENT
UID:32653830-3538-4632-b430-633830326332
DTSTAMP:20260422T070133Z
DESCRIPTION:9/34 Olomouc - Val. Meziříčí 3:0 (34\,12\,23)
DTSTART;TZID=Europe/Berlin:20221112T100000
DTEND;TZID=Europe/Berlin:20221112T120000
LOCATION:VOŠ a SPŠE Olomouc\, Božetěchova 755 Olomouc - Hodolany
SUMMARY:1-U22M-C: Olomouc-Val. Meziříčí
END:VEVENT
BEGIN:VEVENT
UID:31323536-3064-4330-a462-376530613333
DTSTAMP:20260422T070133Z
DESCRIPTION:10/38 Olomouc - Val. Meziříčí 3:1 (-15\,15\,23\,16)
DTSTART;TZID=Europe/Berlin:20221112T140000
DTEND;TZID=Europe/Berlin:20221112T160000
LOCATION:VOŠ a SPŠE Olomouc\, Božetěchova 755 Olomouc - Hodolany
SUMMARY:1-U22M-C: Olomouc-Val. Meziříčí
END:VEVENT
BEGIN:VEVENT
UID:34373465-6534-4539-a665-653961613835
DTSTAMP:20260422T070133Z
DESCRIPTION:13/51 Kojetín B - Val. Meziříčí 1:3 (23\,-16\,-19\,-23)
DTSTART;TZID=Europe/Berlin:20221217T110000
DTEND;TZID=Europe/Berlin:20221217T130000
LOCATION:Městská sportovní hala\, Hanusíkova 1476 Kojetín - Kojetín I-Město
SUMMARY:1-U22M-C: Kojetín B-Val. Meziříčí
END:VEVENT
BEGIN:VEVENT
UID:31383266-6436-4537-b935-663339633763
DTSTAMP:20260422T070133Z
DESCRIPTION:14/55 Kojetín B - Val. Meziříčí 2:3 (23\,-20\,22\,-19\,-10)
DTSTART;TZID=Europe/Berlin:20221217T150000
DTEND;TZID=Europe/Berlin:20221217T170000
LOCATION:Městská sportovní hala\, Hanusíkova 1476 Kojetín - Kojetín I-Město
SUMMARY:1-U22M-C: Kojetín B-Val. Meziříčí
END:VEVENT
BEGIN:VEVENT
UID:31343238-6233-4366-b566-326234656233
DTSTAMP:20260422T070133Z
DESCRIPTION:15/58 Opava - Val. Meziříčí 3:2 (-22\,19\,-22\,24\,4)
DTSTART;TZID=Europe/Berlin:20230114T110000
DTEND;TZID=Europe/Berlin:20230114T130000
LOCATION:ZŠ Ed. Beneše\, Edvarda Beneše 961 Opava - Kateřinky
SUMMARY:1-U22M-C: Opava-Val. Meziříčí
END:VEVENT
BEGIN:VEVENT
UID:31626563-3166-4364-b866-303635656466
DTSTAMP:20260422T070133Z
DESCRIPTION:16/62 Opava - Val. Meziříčí 2:3 (20\,18\,-17\,-22\,-7)
DTSTART;TZID=Europe/Berlin:20230114T150000
DTEND;TZID=Europe/Berlin:20230114T170000
LOCATION:ZŠ Ed. Beneše\, Edvarda Beneše 961 Opava - Kateřinky
SUMMARY:1-U22M-C: Opava-Val. Meziříčí
END:VEVENT
BEGIN:VEVENT
UID:38613033-3632-4439-b732-613632313334
DTSTAMP:20260422T070133Z
DESCRIPTION:21/84 Šlapanice - Val. Meziříčí 3:1 (13\,25\,-22\,23)
DTSTART;TZID=Europe/Berlin:20230205T110000
DTEND;TZID=Europe/Berlin:20230205T130000
LOCATION:Tělocvična ZŠ Šlapanice\, Masarykovo náměstí 1594 Šlapanice
SUMMARY:1-U22M-C: Šlapanice-Val. Meziříčí
END:VEVENT
BEGIN:VEVENT
UID:30363333-3337-4362-b832-316464633936
DTSTAMP:20260422T070133Z
DESCRIPTION:22/88 Šlapanice - Val. Meziříčí 3:2 (24\,18\,-20\,-20\,7)
DTSTART;TZID=Europe/Berlin:20230205T150000
DTEND;TZID=Europe/Berlin:20230205T170000
LOCATION:Tělocvična ZŠ Šlapanice\, Masarykovo náměstí 1594 Šlapanice
SUMMARY:1-U22M-C: Šlapanice-Val. Meziříčí
END:VEVENT
BEGIN:VEVENT
UID:30613839-3663-4135-a334-343031343936
DTSTAMP:20260422T070133Z
DESCRIPTION:25/99 Havířov - Val. Meziříčí 0:3 (-15\,-14\,-17)
DTSTART;TZID=Europe/Berlin:20230226T120000
DTEND;TZID=Europe/Berlin:20230226T140000
LOCATION:hala SPŠE\, Makarenkova 513 Havířov - Město
SUMMARY:1-U22M-C: Havířov-Val. Meziříčí
END:VEVENT
BEGIN:VEVENT
UID:64356264-6535-4266-b130-323263623034
DTSTAMP:20260422T070133Z
DESCRIPTION:26/103 Havířov - Val. Meziříčí 2:3 (-17\,21\,-15\,22\,-5)
DTSTART;TZID=Europe/Berlin:20230226T140000
DTEND;TZID=Europe/Berlin:20230226T160000
LOCATION:hala SPŠE\, Makarenkova 513 Havířov - Město
SUMMARY:1-U22M-C: Havířov-Val. Meziříčí
END:VEVENT
END:VCALENDAR
