BEGIN:VCALENDAR
VERSION:2.0
PRODID:-//VK České Budějovice B79130//NONSGML kigkonsult.se iCalcreator 2.41.80//
CALSCALE:GREGORIAN
UID:37663237-3236-4133-b132-376634636361
BEGIN:VEVENT
UID:61363435-3133-4437-b837-373161353738
DTSTAMP:20260423T005407Z
DESCRIPTION:5/18 Č. Budějovice B - Polná 3:2 (23\,-15\,-18\,21\,11)
DTSTART;TZID=Europe/Berlin:20221008T100000
DTEND;TZID=Europe/Berlin:20221008T120000
LOCATION:ZŠ Oskara Nedbala České Budějovice\, O. Nedbala 882 České Budějovi
 ce - České Budějovice 2
SUMMARY:1-U22M-B: Č. Budějovice B-Polná
END:VEVENT
BEGIN:VEVENT
UID:39383036-3736-4331-a239-343232613964
DTSTAMP:20260423T005407Z
DESCRIPTION:6/22 Č. Budějovice B - Polná 0:3 (-18\,-21\,-23)
DTSTART;TZID=Europe/Berlin:20221008T140000
DTEND;TZID=Europe/Berlin:20221008T160000
LOCATION:ZŠ Oskara Nedbala České Budějovice\, O. Nedbala 882 České Budějovi
 ce - České Budějovice 2
SUMMARY:1-U22M-B: Č. Budějovice B-Polná
END:VEVENT
BEGIN:VEVENT
UID:37383433-3133-4963-b536-623832313461
DTSTAMP:20260423T005407Z
DESCRIPTION:11/44 Č. Budějovice B - Č. Krumlov 2:3 (-25\,-19\,20\,23\,-11)
DTSTART;TZID=Europe/Berlin:20221113T100000
DTEND;TZID=Europe/Berlin:20221113T120000
LOCATION:ZŠ Oskara Nedbala České Budějovice\, O. Nedbala 882 České Budějovi
 ce - České Budějovice 2
SUMMARY:1-U22M-B: Č. Budějovice B-Č. Krumlov
END:VEVENT
BEGIN:VEVENT
UID:33303561-6638-4262-b537-346630336639
DTSTAMP:20260423T005407Z
DESCRIPTION:12/48 Č. Budějovice B - Č. Krumlov X:3
DTSTART;TZID=Europe/Berlin:20221113T140000
DTEND;TZID=Europe/Berlin:20221113T160000
LOCATION:ZŠ Oskara Nedbala České Budějovice\, O. Nedbala 882 České Budějovi
 ce - České Budějovice 2
SUMMARY:1-U22M-B: Č. Budějovice B-Č. Krumlov
END:VEVENT
BEGIN:VEVENT
UID:36646339-6230-4538-a339-346630323564
DTSTAMP:20260423T005407Z
DESCRIPTION:15/59 Č. Budějovice B - Prosek B 3:1 (-21\,15\,26\,20)
DTSTART;TZID=Europe/Berlin:20230114T100000
DTEND;TZID=Europe/Berlin:20230114T120000
LOCATION:ZŠ Oskara Nedbala České Budějovice\, O. Nedbala 882 České Budějovi
 ce - České Budějovice 2
SUMMARY:1-U22M-B: Č. Budějovice B-Prosek B
END:VEVENT
BEGIN:VEVENT
UID:34356561-3439-4365-b936-346130363839
DTSTAMP:20260423T005407Z
DESCRIPTION:16/63 Č. Budějovice B - Prosek B 3:1 (16\,-20\,20\,21)
DTSTART;TZID=Europe/Berlin:20230114T140000
DTEND;TZID=Europe/Berlin:20230114T160000
LOCATION:ZŠ Oskara Nedbala České Budějovice\, O. Nedbala 882 České Budějovi
 ce - České Budějovice 2
SUMMARY:1-U22M-B: Č. Budějovice B-Prosek B
END:VEVENT
BEGIN:VEVENT
UID:33616434-3861-4833-b933-333236343536
DTSTAMP:20260423T005407Z
DESCRIPTION:17/67 Č. Budějovice B - Rychnov n. K. 3:1 (23\,-25\,21\,26)
DTSTART;TZID=Europe/Berlin:20230115T100000
DTEND;TZID=Europe/Berlin:20230115T120000
LOCATION:ZŠ Oskara Nedbala České Budějovice\, O. Nedbala 882 České Budějovi
 ce - České Budějovice 2
SUMMARY:1-U22M-B: Č. Budějovice B-Rychnov n. K.
END:VEVENT
BEGIN:VEVENT
UID:63303739-3232-4933-b065-323334303337
DTSTAMP:20260423T005407Z
DESCRIPTION:18/71 Č. Budějovice B - Rychnov n. K. 0:3 (-18\,-24\,-20)
DTSTART;TZID=Europe/Berlin:20230115T140000
DTEND;TZID=Europe/Berlin:20230115T160000
LOCATION:ZŠ Oskara Nedbala České Budějovice\, O. Nedbala 882 České Budějovi
 ce - České Budějovice 2
SUMMARY:1-U22M-B: Č. Budějovice B-Rychnov n. K.
END:VEVENT
BEGIN:VEVENT
UID:63326431-6664-4339-a163-353938383034
DTSTAMP:20260423T005407Z
DESCRIPTION:21/84 Č. Budějovice B - Holubice 3:0 (15\,20\,17)
DTSTART;TZID=Europe/Berlin:20230205T100000
DTEND;TZID=Europe/Berlin:20230205T120000
LOCATION:ZŠ Oskara Nedbala České Budějovice\, O. Nedbala 882 České Budějovi
 ce - České Budějovice 2
SUMMARY:1-U22M-B: Č. Budějovice B-Holubice
END:VEVENT
BEGIN:VEVENT
UID:32366232-3165-4632-b665-346235633134
DTSTAMP:20260423T005407Z
DESCRIPTION:22/88 Č. Budějovice B - Holubice 3:0 (16\,17\,19)
DTSTART;TZID=Europe/Berlin:20230205T140000
DTEND;TZID=Europe/Berlin:20230205T160000
LOCATION:ZŠ Oskara Nedbala České Budějovice\, O. Nedbala 882 České Budějovi
 ce - České Budějovice 2
SUMMARY:1-U22M-B: Č. Budějovice B-Holubice
END:VEVENT
BEGIN:VEVENT
UID:65613864-3662-4130-b539-346438663162
DTSTAMP:20260423T005407Z
DESCRIPTION:27/106 Č. Budějovice B - Drásov 3:1 (23\,16\,-22\,13)
DTSTART;TZID=Europe/Berlin:20230107T100000
DTEND;TZID=Europe/Berlin:20230107T120000
LOCATION:ZŠ Oskara Nedbala České Budějovice\, O. Nedbala 882 České Budějovi
 ce - České Budějovice 2
SUMMARY:1-U22M-B: Č. Budějovice B-Drásov
END:VEVENT
BEGIN:VEVENT
UID:37636131-3864-4436-b837-333636663134
DTSTAMP:20260423T005407Z
DESCRIPTION:28/110 Č. Budějovice B - Drásov 2:3 (-21\,15\,-23\,22\,-7)
DTSTART;TZID=Europe/Berlin:20230107T140000
DTEND;TZID=Europe/Berlin:20230107T160000
LOCATION:ZŠ Oskara Nedbala České Budějovice\, O. Nedbala 882 České Budějovi
 ce - České Budějovice 2
SUMMARY:1-U22M-B: Č. Budějovice B-Drásov
END:VEVENT
BEGIN:VEVENT
UID:31643031-3737-4332-a232-366137343032
DTSTAMP:20260423T005407Z
DESCRIPTION:1/3 Prosek B - Č. Budějovice B 3:1 (22\,-20\,19\,17)
DTSTART;TZID=Europe/Berlin:20220924T100000
DTEND;TZID=Europe/Berlin:20220924T120000
LOCATION:SH SK Prosek\, Lovosická 559 Praha - Letňany
SUMMARY:1-U22M-B: Prosek B-Č. Budějovice B
END:VEVENT
BEGIN:VEVENT
UID:38656337-3036-4834-a565-316665313038
DTSTAMP:20260423T005407Z
DESCRIPTION:2/7 Prosek B - Č. Budějovice B 2:3 (-15\,-22\,18\,13\,-12)
DTSTART;TZID=Europe/Berlin:20220924T140000
DTEND;TZID=Europe/Berlin:20220924T160000
LOCATION:SH SK Prosek\, Lovosická 559 Praha - Letňany
SUMMARY:1-U22M-B: Prosek B-Č. Budějovice B
END:VEVENT
BEGIN:VEVENT
UID:36303234-6134-4536-b634-613430323739
DTSTAMP:20260423T005407Z
DESCRIPTION:3/11 Rychnov n. K. - Č. Budějovice B 3:2 (20\,22\,-23\,-18\,8)
DTSTART;TZID=Europe/Berlin:20220925T100000
DTEND;TZID=Europe/Berlin:20220925T120000
LOCATION:Hala VOŠ a SPŠS\, U Stadionu 1166 Rychnov nad Kněžnou
SUMMARY:1-U22M-B: Rychnov n. K.-Č. Budějovice B
END:VEVENT
BEGIN:VEVENT
UID:36333737-6233-4533-b531-373531336434
DTSTAMP:20260423T005407Z
DESCRIPTION:4/15 Rychnov n. K. - Č. Budějovice B 3:1 (16\,-22\,21\,23)
DTSTART;TZID=Europe/Berlin:20220925T140000
DTEND;TZID=Europe/Berlin:20220925T160000
LOCATION:Hala VOŠ a SPŠS\, U Stadionu 1166 Rychnov nad Kněžnou
SUMMARY:1-U22M-B: Rychnov n. K.-Č. Budějovice B
END:VEVENT
BEGIN:VEVENT
UID:36623563-3266-4766-b737-373164646432
DTSTAMP:20260423T005407Z
DESCRIPTION:7/28 Holubice - Č. Budějovice B 2:3 (-13\,23\,-20\,23\,-9)
DTSTART;TZID=Europe/Berlin:20221009T100000
DTEND;TZID=Europe/Berlin:20221009T120000
LOCATION:Sportovní hala Holubice\,  Holubice299
SUMMARY:1-U22M-B: Holubice-Č. Budějovice B
END:VEVENT
BEGIN:VEVENT
UID:36336164-6265-4165-b339-616132643263
DTSTAMP:20260423T005407Z
DESCRIPTION:8/32 Holubice - Č. Budějovice B 2:3 (14\,-18\,15\,-23\,-10)
DTSTART;TZID=Europe/Berlin:20221009T140000
DTEND;TZID=Europe/Berlin:20221009T160000
LOCATION:Sportovní hala Holubice\,  Holubice299
SUMMARY:1-U22M-B: Holubice-Č. Budějovice B
END:VEVENT
BEGIN:VEVENT
UID:32613031-6561-4963-a566-356138343362
DTSTAMP:20260423T005407Z
DESCRIPTION:13/50 Drásov - Č. Budějovice B 0:3 (-10\,-23\,-18)
DTSTART;TZID=Europe/Berlin:20221211T100000
DTEND;TZID=Europe/Berlin:20221211T120000
LOCATION:Hala u ZŠ TGM Drásov\, Školní 167 Drásov
SUMMARY:1-U22M-B: Drásov-Č. Budějovice B
END:VEVENT
BEGIN:VEVENT
UID:35653835-3763-4234-a236-343864303132
DTSTAMP:20260423T005407Z
DESCRIPTION:14/54 Drásov - Č. Budějovice B 2:3 (20\,18\,-15\,-18\,-13)
DTSTART;TZID=Europe/Berlin:20221211T140000
DTEND;TZID=Europe/Berlin:20221211T160000
LOCATION:Hala u ZŠ TGM Drásov\, Školní 167 Drásov
SUMMARY:1-U22M-B: Drásov-Č. Budějovice B
END:VEVENT
BEGIN:VEVENT
UID:30383163-3534-4563-b838-356439373163
DTSTAMP:20260423T005407Z
DESCRIPTION:19/74 Polná - Č. Budějovice B 2:3 (21\,20\,-20\,-21\,-13)
DTSTART;TZID=Europe/Berlin:20230204T100000
DTEND;TZID=Europe/Berlin:20230204T120000
LOCATION:Školní tělocvična\, Poděbradova 76 Polná
SUMMARY:1-U22M-B: Polná-Č. Budějovice B
END:VEVENT
BEGIN:VEVENT
UID:31313735-3438-4839-b437-363530336338
DTSTAMP:20260423T005407Z
DESCRIPTION:20/78 Polná - Č. Budějovice B 3:0 (19\,22\,19)
DTSTART;TZID=Europe/Berlin:20230204T140000
DTEND;TZID=Europe/Berlin:20230204T160000
LOCATION:Školní tělocvična\, Poděbradova 76 Polná
SUMMARY:1-U22M-B: Polná-Č. Budějovice B
END:VEVENT
BEGIN:VEVENT
UID:64363839-3430-4263-b231-616431376639
DTSTAMP:20260423T005407Z
DESCRIPTION:25/100 Č. Krumlov - Č. Budějovice B 3:0 (13\,17\,22)
DTSTART;TZID=Europe/Berlin:20230226T100000
DTEND;TZID=Europe/Berlin:20230226T120000
LOCATION:ZŠ Za Nádražím Český Krumlov\, Za Nádražím 222 Český Krumlov - Nád
 ražní Předměstí
SUMMARY:1-U22M-B: Č. Krumlov-Č. Budějovice B
END:VEVENT
BEGIN:VEVENT
UID:62663162-3834-4234-b065-306561616233
DTSTAMP:20260423T005407Z
DESCRIPTION:26/104 Č. Krumlov - Č. Budějovice B 3:2 (-21\,17\,-22\,23\,12)
DTSTART;TZID=Europe/Berlin:20230226T140000
DTEND;TZID=Europe/Berlin:20230226T160000
LOCATION:ZŠ Za Nádražím Český Krumlov\, Za Nádražím 222 Český Krumlov - Nád
 ražní Předměstí
SUMMARY:1-U22M-B: Č. Krumlov-Č. Budějovice B
END:VEVENT
END:VCALENDAR
