BEGIN:VCALENDAR
VERSION:2.0
PRODID:-//VS Drásov79133//NONSGML kigkonsult.se iCalcreator 2.41.80//
CALSCALE:GREGORIAN
UID:35653834-3564-4138-b463-383265313632
BEGIN:VEVENT
UID:61313266-3232-4463-a237-313861343064
DTSTAMP:20260422T052727Z
DESCRIPTION:5/20 Drásov - Prosek B 3:0 (19\,22\,21)
DTSTART;TZID=Europe/Berlin:20221008T110000
DTEND;TZID=Europe/Berlin:20221008T130000
LOCATION:Hala u ZŠ TGM Drásov\, Školní 167 Drásov
SUMMARY:1-U22M-B: Drásov-Prosek B
END:VEVENT
BEGIN:VEVENT
UID:35353134-6435-4630-a666-356562616330
DTSTAMP:20260422T052727Z
DESCRIPTION:6/24 Drásov - Prosek B 3:0 (22\,24\,19)
DTSTART;TZID=Europe/Berlin:20221008T150000
DTEND;TZID=Europe/Berlin:20221008T170000
LOCATION:Hala u ZŠ TGM Drásov\, Školní 167 Drásov
SUMMARY:1-U22M-B: Drásov-Prosek B
END:VEVENT
BEGIN:VEVENT
UID:31366662-6266-4432-a434-313937363030
DTSTAMP:20260422T052727Z
DESCRIPTION:9/35 Drásov - Polná 3:2 (-15\,19\,-22\,24\,7)
DTSTART;TZID=Europe/Berlin:20221112T110000
DTEND;TZID=Europe/Berlin:20221112T130000
LOCATION:Hala u ZŠ TGM Drásov\, Školní 167 Drásov
SUMMARY:1-U22M-B: Drásov-Polná
END:VEVENT
BEGIN:VEVENT
UID:66636566-3936-4566-b336-303035633135
DTSTAMP:20260422T052727Z
DESCRIPTION:10/39 Drásov - Polná 3:1 (29\,22\,-16\,22)
DTSTART;TZID=Europe/Berlin:20221112T150000
DTEND;TZID=Europe/Berlin:20221112T170000
LOCATION:Hala u ZŠ TGM Drásov\, Školní 167 Drásov
SUMMARY:1-U22M-B: Drásov-Polná
END:VEVENT
BEGIN:VEVENT
UID:61636339-3538-4165-a166-373838656466
DTSTAMP:20260422T052727Z
DESCRIPTION:13/50 Drásov - Č. Budějovice B 0:3 (-10\,-23\,-18)
DTSTART;TZID=Europe/Berlin:20221211T100000
DTEND;TZID=Europe/Berlin:20221211T120000
LOCATION:Hala u ZŠ TGM Drásov\, Školní 167 Drásov
SUMMARY:1-U22M-B: Drásov-Č. Budějovice B
END:VEVENT
BEGIN:VEVENT
UID:30643431-3264-4733-a534-343133383763
DTSTAMP:20260422T052727Z
DESCRIPTION:14/54 Drásov - Č. Budějovice B 2:3 (20\,18\,-15\,-18\,-13)
DTSTART;TZID=Europe/Berlin:20221211T140000
DTEND;TZID=Europe/Berlin:20221211T160000
LOCATION:Hala u ZŠ TGM Drásov\, Školní 167 Drásov
SUMMARY:1-U22M-B: Drásov-Č. Budějovice B
END:VEVENT
BEGIN:VEVENT
UID:34313238-3963-4036-b935-353661386365
DTSTAMP:20260422T052727Z
DESCRIPTION:15/60 Drásov - Č. Krumlov 1:3 (-19\,-16\,24\,-23)
DTSTART;TZID=Europe/Berlin:20230129T100000
DTEND;TZID=Europe/Berlin:20230129T120000
LOCATION:Hala u ZŠ TGM Drásov\, Školní 167 Drásov
SUMMARY:1-U22M-B: Drásov-Č. Krumlov
END:VEVENT
BEGIN:VEVENT
UID:32366261-6139-4564-a134-326539373462
DTSTAMP:20260422T052727Z
DESCRIPTION:16/64 Drásov - Č. Krumlov 1:3 (-20\,-22\,23\,-17)
DTSTART;TZID=Europe/Berlin:20230129T140000
DTEND;TZID=Europe/Berlin:20230129T160000
LOCATION:Hala u ZŠ TGM Drásov\, Školní 167 Drásov
SUMMARY:1-U22M-B: Drásov-Č. Krumlov
END:VEVENT
BEGIN:VEVENT
UID:66383261-3235-4636-b037-373331663637
DTSTAMP:20260422T052727Z
DESCRIPTION:21/82 Drásov - Rychnov n. K. 3:2 (24\,-20\,-19\,22\,10)
DTSTART;TZID=Europe/Berlin:20230205T100000
DTEND;TZID=Europe/Berlin:20230205T120000
LOCATION:Hala u ZŠ TGM Drásov\, Školní 167 Drásov
SUMMARY:1-U22M-B: Drásov-Rychnov n. K.
END:VEVENT
BEGIN:VEVENT
UID:61313237-6362-4666-a139-383836626239
DTSTAMP:20260422T052727Z
DESCRIPTION:22/86 Drásov - Rychnov n. K. 0:3 (-18\,-12\,-21)
DTSTART;TZID=Europe/Berlin:20230205T140000
DTEND;TZID=Europe/Berlin:20230205T160000
LOCATION:Hala u ZŠ TGM Drásov\, Školní 167 Drásov
SUMMARY:1-U22M-B: Drásov-Rychnov n. K.
END:VEVENT
BEGIN:VEVENT
UID:66333561-3465-4530-a434-383736313032
DTSTAMP:20260422T052727Z
DESCRIPTION:25/99 Drásov - Holubice 3:2 (-21\,22\,18\,-18\,7)
DTSTART;TZID=Europe/Berlin:20230226T100000
DTEND;TZID=Europe/Berlin:20230226T120000
LOCATION:Hala u ZŠ TGM Drásov\, Školní 167 Drásov
SUMMARY:1-U22M-B: Drásov-Holubice
END:VEVENT
BEGIN:VEVENT
UID:61616634-6565-4365-b730-363536323332
DTSTAMP:20260422T052727Z
DESCRIPTION:26/103 Drásov - Holubice 2:3 (-14\,-22\,21\,19\,-7)
DTSTART;TZID=Europe/Berlin:20230226T140000
DTEND;TZID=Europe/Berlin:20230226T160000
LOCATION:Hala u ZŠ TGM Drásov\, Školní 167 Drásov
SUMMARY:1-U22M-B: Drásov-Holubice
END:VEVENT
BEGIN:VEVENT
UID:32666530-6433-4462-b732-333731363734
DTSTAMP:20260422T052727Z
DESCRIPTION:1/4 Č. Krumlov - Drásov 3:0 (17\,21\,22)
DTSTART;TZID=Europe/Berlin:20220924T100000
DTEND;TZID=Europe/Berlin:20220924T120000
LOCATION:ZŠ Za Nádražím Český Krumlov\, Za Nádražím 222 Český Krumlov - Nád
 ražní Předměstí
SUMMARY:1-U22M-B: Č. Krumlov-Drásov
END:VEVENT
BEGIN:VEVENT
UID:30363333-6463-4163-a261-353031663934
DTSTAMP:20260422T052727Z
DESCRIPTION:2/8 Č. Krumlov - Drásov 3:1 (23\,26\,-11\,23)
DTSTART;TZID=Europe/Berlin:20220924T140000
DTEND;TZID=Europe/Berlin:20220924T160000
LOCATION:ZŠ Za Nádražím Český Krumlov\, Za Nádražím 222 Český Krumlov - Nád
 ražní Předměstí
SUMMARY:1-U22M-B: Č. Krumlov-Drásov
END:VEVENT
BEGIN:VEVENT
UID:38643138-3437-4339-a665-393533633863
DTSTAMP:20260422T052727Z
DESCRIPTION:7/26 Rychnov n. K. - Drásov 3:0 (18\,21\,21)
DTSTART;TZID=Europe/Berlin:20221009T100000
DTEND;TZID=Europe/Berlin:20221009T120000
LOCATION:Hala VOŠ a SPŠS\, U Stadionu 1166 Rychnov nad Kněžnou
SUMMARY:1-U22M-B: Rychnov n. K.-Drásov
END:VEVENT
BEGIN:VEVENT
UID:32393331-6537-4964-b662-663236323939
DTSTAMP:20260422T052727Z
DESCRIPTION:8/30 Rychnov n. K. - Drásov 3:2 (22\,-19\,17\,-23\,9)
DTSTART;TZID=Europe/Berlin:20221009T140000
DTEND;TZID=Europe/Berlin:20221009T160000
LOCATION:Hala VOŠ a SPŠS\, U Stadionu 1166 Rychnov nad Kněžnou
SUMMARY:1-U22M-B: Rychnov n. K.-Drásov
END:VEVENT
BEGIN:VEVENT
UID:62616663-6161-4532-b334-393838666665
DTSTAMP:20260422T052727Z
DESCRIPTION:11/43 Holubice - Drásov 2:3 (14\,21\,-22\,-19\,-12)
DTSTART;TZID=Europe/Berlin:20221113T090000
DTEND;TZID=Europe/Berlin:20221113T110000
LOCATION:Sportovní hala Holubice\,  Holubice299
SUMMARY:1-U22M-B: Holubice-Drásov
END:VEVENT
BEGIN:VEVENT
UID:32343466-3932-4534-a330-653831633064
DTSTAMP:20260422T052727Z
DESCRIPTION:12/47 Holubice - Drásov 1:3 (16\,-21\,-20\,-24)
DTSTART;TZID=Europe/Berlin:20221113T130000
DTEND;TZID=Europe/Berlin:20221113T150000
LOCATION:Sportovní hala Holubice\,  Holubice299
SUMMARY:1-U22M-B: Holubice-Drásov
END:VEVENT
BEGIN:VEVENT
UID:66656230-6136-4266-a663-346133633865
DTSTAMP:20260422T052727Z
DESCRIPTION:19/76 Prosek B - Drásov 1:3 (21\,-17\,-16\,-19)
DTSTART;TZID=Europe/Berlin:20230204T100000
DTEND;TZID=Europe/Berlin:20230204T120000
LOCATION:SH SK Prosek\, Lovosická 559 Praha - Letňany
SUMMARY:1-U22M-B: Prosek B-Drásov
END:VEVENT
BEGIN:VEVENT
UID:62653436-6236-4136-b262-663330323932
DTSTAMP:20260422T052727Z
DESCRIPTION:20/80 Prosek B - Drásov 0:3 (-14\,-12\,-15)
DTSTART;TZID=Europe/Berlin:20230204T140000
DTEND;TZID=Europe/Berlin:20230204T160000
LOCATION:SH SK Prosek\, Lovosická 559 Praha - Letňany
SUMMARY:1-U22M-B: Prosek B-Drásov
END:VEVENT
BEGIN:VEVENT
UID:33343266-3731-4637-b339-666134326135
DTSTAMP:20260422T052727Z
DESCRIPTION:23/91 Polná - Drásov 3:1 (-22\,17\,12\,21)
DTSTART;TZID=Europe/Berlin:20230312T100000
DTEND;TZID=Europe/Berlin:20230312T120000
LOCATION:Školní tělocvična\, Poděbradova 76 Polná
SUMMARY:1-U22M-B: Polná-Drásov
END:VEVENT
BEGIN:VEVENT
UID:64326431-6334-4938-b362-356238343332
DTSTAMP:20260422T052727Z
DESCRIPTION:24/95 Polná - Drásov 3:0 (20\,26\,20)
DTSTART;TZID=Europe/Berlin:20230312T140000
DTEND;TZID=Europe/Berlin:20230312T160000
LOCATION:Školní tělocvična\, Poděbradova 76 Polná
SUMMARY:1-U22M-B: Polná-Drásov
END:VEVENT
BEGIN:VEVENT
UID:36303462-3363-4064-b962-623061643562
DTSTAMP:20260422T052727Z
DESCRIPTION:27/106 Č. Budějovice B - Drásov 3:1 (23\,16\,-22\,13)
DTSTART;TZID=Europe/Berlin:20230107T100000
DTEND;TZID=Europe/Berlin:20230107T120000
LOCATION:ZŠ Oskara Nedbala České Budějovice\, O. Nedbala 882 České Budějovi
 ce - České Budějovice 2
SUMMARY:1-U22M-B: Č. Budějovice B-Drásov
END:VEVENT
BEGIN:VEVENT
UID:33623565-3432-4137-a334-303739656636
DTSTAMP:20260422T052727Z
DESCRIPTION:28/110 Č. Budějovice B - Drásov 2:3 (-21\,15\,-23\,22\,-7)
DTSTART;TZID=Europe/Berlin:20230107T140000
DTEND;TZID=Europe/Berlin:20230107T160000
LOCATION:ZŠ Oskara Nedbala České Budějovice\, O. Nedbala 882 České Budějovi
 ce - České Budějovice 2
SUMMARY:1-U22M-B: Č. Budějovice B-Drásov
END:VEVENT
END:VCALENDAR
