BEGIN:VCALENDAR
VERSION:2.0
PRODID:-//SK Dansport Praha79134//NONSGML kigkonsult.se iCalcreator 2.41.80//
CALSCALE:GREGORIAN
UID:39323830-6338-4662-a262-663261346135
BEGIN:VEVENT
UID:36613437-3165-4331-a135-653538353733
DTSTAMP:20260422T165854Z
DESCRIPTION:1/2 Dansport - Sokolov 1:3 (-19\,-22\,22\,-17)
DTSTART;TZID=Europe/Berlin:20220924T100000
DTEND;TZID=Europe/Berlin:20220924T120000
LOCATION:Sportovní hala Gymnázia Jana Keplera\, Parléřova 118 Praha - Hradč
 any
SUMMARY:1-U22M-A: Dansport-Sokolov
END:VEVENT
BEGIN:VEVENT
UID:66336532-6439-4432-b632-363031323238
DTSTAMP:20260422T165854Z
DESCRIPTION:2/6 Dansport - Sokolov 3:2 (-25\,22\,20\,-18\,19)
DTSTART;TZID=Europe/Berlin:20220924T140000
DTEND;TZID=Europe/Berlin:20220924T160000
LOCATION:Sportovní hala Gymnázia Jana Keplera\, Parléřova 118 Praha - Hradč
 any
SUMMARY:1-U22M-A: Dansport-Sokolov
END:VEVENT
BEGIN:VEVENT
UID:65363064-6461-4334-a562-316635623466
DTSTAMP:20260422T165854Z
DESCRIPTION:7/28 Dansport - Kladno 0:3 (-22\,-16\,-20)
DTSTART;TZID=Europe/Berlin:20221009T100000
DTEND;TZID=Europe/Berlin:20221009T120000
LOCATION:Sportovní hala Gymnázia Jana Keplera\, Parléřova 118 Praha - Hradč
 any
SUMMARY:1-U22M-A: Dansport-Kladno
END:VEVENT
BEGIN:VEVENT
UID:64626663-6538-4432-b036-363631666637
DTSTAMP:20260422T165854Z
DESCRIPTION:8/32 Dansport - Kladno 0:3 (-19\,-15\,-14)
DTSTART;TZID=Europe/Berlin:20221009T140000
DTEND;TZID=Europe/Berlin:20221009T160000
LOCATION:Sportovní hala Gymnázia Jana Keplera\, Parléřova 118 Praha - Hradč
 any
SUMMARY:1-U22M-A: Dansport-Kladno
END:VEVENT
BEGIN:VEVENT
UID:61303561-6132-4334-a163-343231353663
DTSTAMP:20260422T165854Z
DESCRIPTION:11/43 Dansport - Liberec 2:3 (14\,27\,-22\,-14\,-8)
DTSTART;TZID=Europe/Berlin:20221113T100000
DTEND;TZID=Europe/Berlin:20221113T120000
LOCATION:Sportovní hala Gymnázia Jana Keplera\, Parléřova 118 Praha - Hradč
 any
SUMMARY:1-U22M-A: Dansport-Liberec
END:VEVENT
BEGIN:VEVENT
UID:63396666-3332-4562-b538-373564356363
DTSTAMP:20260422T165854Z
DESCRIPTION:12/47 Dansport - Liberec 3:0 (15\,17\,25)
DTSTART;TZID=Europe/Berlin:20221113T140000
DTEND;TZID=Europe/Berlin:20221113T160000
LOCATION:Sportovní hala Gymnázia Jana Keplera\, Parléřova 118 Praha - Hradč
 any
SUMMARY:1-U22M-A: Dansport-Liberec
END:VEVENT
BEGIN:VEVENT
UID:39356639-3833-4431-a464-643435653136
DTSTAMP:20260422T165854Z
DESCRIPTION:17/68 Dansport - Meteor 3:0 (19\,17\,26)
DTSTART;TZID=Europe/Berlin:20230115T100000
DTEND;TZID=Europe/Berlin:20230115T120000
LOCATION:Sportovní hala Gymnázia Jana Keplera\, Parléřova 118 Praha - Hradč
 any
SUMMARY:1-U22M-A: Dansport-Meteor
END:VEVENT
BEGIN:VEVENT
UID:66363063-3166-4435-b564-653737633762
DTSTAMP:20260422T165854Z
DESCRIPTION:18/72 Dansport - Meteor 3:1 (-14\,19\,25\,16)
DTSTART;TZID=Europe/Berlin:20230115T140000
DTEND;TZID=Europe/Berlin:20230115T160000
LOCATION:Sportovní hala Gymnázia Jana Keplera\, Parléřova 118 Praha - Hradč
 any
SUMMARY:1-U22M-A: Dansport-Meteor
END:VEVENT
BEGIN:VEVENT
UID:34633336-6339-4332-a363-386539313335
DTSTAMP:20260422T165854Z
DESCRIPTION:23/90 Dansport - O. Voda 1:3 (24\,-8\,-15\,-19)
DTSTART;TZID=Europe/Berlin:20230225T100000
DTEND;TZID=Europe/Berlin:20230225T120000
LOCATION:Sportovní hala Gymnázia Jana Keplera\, Parléřova 118 Praha - Hradč
 any
SUMMARY:1-U22M-A: Dansport-O. Voda
END:VEVENT
BEGIN:VEVENT
UID:65356630-6237-4437-a565-643034623363
DTSTAMP:20260422T165854Z
DESCRIPTION:24/94 Dansport - O. Voda 0:3 (-19\,-20\,-17)
DTSTART;TZID=Europe/Berlin:20230225T140000
DTEND;TZID=Europe/Berlin:20230225T160000
LOCATION:Sportovní hala Gymnázia Jana Keplera\, Parléřova 118 Praha - Hradč
 any
SUMMARY:1-U22M-A: Dansport-O. Voda
END:VEVENT
BEGIN:VEVENT
UID:35363633-3031-4563-b431-303233363637
DTSTAMP:20260422T165854Z
DESCRIPTION:27/107 Dansport - Plzeň 0:3 (-22\,-16\,-19)
DTSTART;TZID=Europe/Berlin:20230311T100000
DTEND;TZID=Europe/Berlin:20230311T120000
LOCATION:Sportovní hala Gymnázia Jana Keplera\, Parléřova 118 Praha - Hradč
 any
SUMMARY:1-U22M-A: Dansport-Plzeň
END:VEVENT
BEGIN:VEVENT
UID:38666661-3264-4939-b463-346331316230
DTSTAMP:20260422T165854Z
DESCRIPTION:28/111 Dansport - Plzeň 0:3 (-12\,-18\,-19)
DTSTART;TZID=Europe/Berlin:20230311T140000
DTEND;TZID=Europe/Berlin:20230311T160000
LOCATION:Sportovní hala Gymnázia Jana Keplera\, Parléřova 118 Praha - Hradč
 any
SUMMARY:1-U22M-A: Dansport-Plzeň
END:VEVENT
BEGIN:VEVENT
UID:38623966-6166-4963-b662-623736646263
DTSTAMP:20260422T165854Z
DESCRIPTION:3/12 Meteor - Dansport 0:3 (-23\,-19\,-23)
DTSTART;TZID=Europe/Berlin:20220925T100000
DTEND;TZID=Europe/Berlin:20220925T120000
LOCATION:ZŠ Žernosecká\, Žernosecká 1597 Praha - Kobylisy
SUMMARY:1-U22M-A: Meteor-Dansport
END:VEVENT
BEGIN:VEVENT
UID:37396133-3133-4032-b335-346164666661
DTSTAMP:20260422T165854Z
DESCRIPTION:4/16 Meteor - Dansport 0:3 (-13\,-18\,-14)
DTSTART;TZID=Europe/Berlin:20220925T140000
DTEND;TZID=Europe/Berlin:20220925T160000
LOCATION:ZŠ Žernosecká\, Žernosecká 1597 Praha - Kobylisy
SUMMARY:1-U22M-A: Meteor-Dansport
END:VEVENT
BEGIN:VEVENT
UID:38623965-3538-4237-a435-333631326435
DTSTAMP:20260422T165854Z
DESCRIPTION:9/34 O. Voda - Dansport 3:0 (20\,21\,18)
DTSTART;TZID=Europe/Berlin:20221112T090000
DTEND;TZID=Europe/Berlin:20221112T110000
LOCATION:Sportovní hala\, Ke Stadionu 375 Odolena Voda
SUMMARY:1-U22M-A: O. Voda-Dansport
END:VEVENT
BEGIN:VEVENT
UID:39303439-3566-4633-b963-663132353239
DTSTAMP:20260422T165854Z
DESCRIPTION:10/38 O. Voda - Dansport 3:0 (18\,16\,22)
DTSTART;TZID=Europe/Berlin:20221112T130000
DTEND;TZID=Europe/Berlin:20221112T150000
LOCATION:Sportovní hala\, Ke Stadionu 375 Odolena Voda
SUMMARY:1-U22M-A: O. Voda-Dansport
END:VEVENT
BEGIN:VEVENT
UID:66313265-6132-4261-b239-643331393236
DTSTAMP:20260422T165854Z
DESCRIPTION:13/51 Plzeň - Dansport 3:1 (-20\,25\,24\,26)
DTSTART;TZID=Europe/Berlin:20221217T090000
DTEND;TZID=Europe/Berlin:20221217T110000
LOCATION:Prokopávka Plzeň\, K Prokopávce 1473 Plzeň - Bolevec
SUMMARY:1-U22M-A: Plzeň-Dansport
END:VEVENT
BEGIN:VEVENT
UID:66313063-6665-4365-b735-386461626561
DTSTAMP:20260422T165854Z
DESCRIPTION:14/55 Plzeň - Dansport 3:0 (19\,14\,14)
DTSTART;TZID=Europe/Berlin:20221217T130000
DTEND;TZID=Europe/Berlin:20221217T150000
LOCATION:Prokopávka Plzeň\, K Prokopávce 1473 Plzeň - Bolevec
SUMMARY:1-U22M-A: Plzeň-Dansport
END:VEVENT
BEGIN:VEVENT
UID:35386438-3134-4164-b032-633064316365
DTSTAMP:20260422T165854Z
DESCRIPTION:15/58 Sokolov - Dansport 3:0 (22\,23\,20)
DTSTART;TZID=Europe/Berlin:20230114T110000
DTEND;TZID=Europe/Berlin:20230114T130000
LOCATION:Jiskra\, Maxima Gorkého 280 Sokolov
SUMMARY:1-U22M-A: Sokolov-Dansport
END:VEVENT
BEGIN:VEVENT
UID:38343263-6565-4935-b837-656663636332
DTSTAMP:20260422T165854Z
DESCRIPTION:16/62 Sokolov - Dansport 3:0 (17\,15\,21)
DTSTART;TZID=Europe/Berlin:20230114T150000
DTEND;TZID=Europe/Berlin:20230114T170000
LOCATION:Jiskra\, Maxima Gorkého 280 Sokolov
SUMMARY:1-U22M-A: Sokolov-Dansport
END:VEVENT
BEGIN:VEVENT
UID:36306263-6363-4639-b331-646533356338
DTSTAMP:20260422T165854Z
DESCRIPTION:21/84 Kladno - Dansport 3:1 (13\,19\,-15\,14)
DTSTART;TZID=Europe/Berlin:20230129T100000
DTEND;TZID=Europe/Berlin:20230129T120000
LOCATION:Kladenská sportovní hala\, Sportovců 817 Kladno - Rozdělov
SUMMARY:1-U22M-A: Kladno-Dansport
END:VEVENT
BEGIN:VEVENT
UID:37653662-6131-4130-b238-396436313930
DTSTAMP:20260422T165854Z
DESCRIPTION:22/88 Kladno - Dansport 3:0 (17\,15\,16)
DTSTART;TZID=Europe/Berlin:20230129T140000
DTEND;TZID=Europe/Berlin:20230129T160000
LOCATION:Kladenská sportovní hala\, Sportovců 817 Kladno - Rozdělov
SUMMARY:1-U22M-A: Kladno-Dansport
END:VEVENT
BEGIN:VEVENT
UID:64393237-6437-4236-b063-376665366635
DTSTAMP:20260422T165854Z
DESCRIPTION:25/99 Liberec - Dansport 3:1 (22\,-23\,21\,18)
DTSTART;TZID=Europe/Berlin:20230226T100000
DTEND;TZID=Europe/Berlin:20230226T120000
LOCATION:Základní škola\, Liberec\, Švermova 403/40\, Švermova 403 Liberec 
 - Liberec X-Františkov
SUMMARY:1-U22M-A: Liberec-Dansport
END:VEVENT
BEGIN:VEVENT
UID:30323165-6430-4836-a538-316639393466
DTSTAMP:20260422T165854Z
DESCRIPTION:26/103 Liberec - Dansport 2:3 (23\,11\,-19\,-23\,-10)
DTSTART;TZID=Europe/Berlin:20230226T140000
DTEND;TZID=Europe/Berlin:20230226T160000
LOCATION:Základní škola\, Liberec\, Švermova 403/40\, Švermova 403 Liberec 
 - Liberec X-Františkov
SUMMARY:1-U22M-A: Liberec-Dansport
END:VEVENT
END:VCALENDAR
