BEGIN:VCALENDAR
VERSION:2.0
PRODID:-//Volejbal Sokolov79138//NONSGML kigkonsult.se iCalcreator 2.41.80//
CALSCALE:GREGORIAN
UID:64316664-3866-4139-a239-326464663836
BEGIN:VEVENT
UID:65653830-6135-4138-b534-663131613739
DTSTAMP:20260423T004323Z
DESCRIPTION:3/11 Sokolov - Kladno 1:3 (-15\,-15\,18\,-22)
DTSTART;TZID=Europe/Berlin:20220925T100000
DTEND;TZID=Europe/Berlin:20220925T120000
LOCATION:Jiskra\, Maxima Gorkého 280 Sokolov
SUMMARY:1-U22M-A: Sokolov-Kladno
END:VEVENT
BEGIN:VEVENT
UID:39633631-3336-4630-b135-313136343732
DTSTAMP:20260423T004323Z
DESCRIPTION:4/15 Sokolov - Kladno 1:3 (-13\,-23\,22\,-16)
DTSTART;TZID=Europe/Berlin:20220925T140000
DTEND;TZID=Europe/Berlin:20220925T160000
LOCATION:Jiskra\, Maxima Gorkého 280 Sokolov
SUMMARY:1-U22M-A: Sokolov-Kladno
END:VEVENT
BEGIN:VEVENT
UID:61656338-3138-4537-a262-336166336631
DTSTAMP:20260423T004323Z
DESCRIPTION:7/26 Sokolov - Liberec 2:3 (21\,23\,-13\,-18\,-12)
DTSTART;TZID=Europe/Berlin:20221030T100000
DTEND;TZID=Europe/Berlin:20221030T120000
LOCATION:Jiskra\, Maxima Gorkého 280 Sokolov
SUMMARY:1-U22M-A: Sokolov-Liberec
END:VEVENT
BEGIN:VEVENT
UID:32366336-6233-4539-a561-396564366263
DTSTAMP:20260423T004323Z
DESCRIPTION:8/30 Sokolov - Liberec 3:2 (-19\,16\,-19\,19\,10)
DTSTART;TZID=Europe/Berlin:20221030T140000
DTEND;TZID=Europe/Berlin:20221030T160000
LOCATION:Jiskra\, Maxima Gorkého 280 Sokolov
SUMMARY:1-U22M-A: Sokolov-Liberec
END:VEVENT
BEGIN:VEVENT
UID:39663866-6163-4234-a632-303038643632
DTSTAMP:20260423T004323Z
DESCRIPTION:9/36 Sokolov - Plzeň 3:2 (22\,-17\,23\,-15\,13)
DTSTART;TZID=Europe/Berlin:20230108T100000
DTEND;TZID=Europe/Berlin:20230108T120000
LOCATION:Jiskra\, Maxima Gorkého 280 Sokolov
SUMMARY:1-U22M-A: Sokolov-Plzeň
END:VEVENT
BEGIN:VEVENT
UID:31666133-6134-4430-b865-386365363466
DTSTAMP:20260423T004323Z
DESCRIPTION:10/40 Sokolov - Plzeň 3:0 (20\,16\,19)
DTSTART;TZID=Europe/Berlin:20230108T140000
DTEND;TZID=Europe/Berlin:20230108T160000
LOCATION:Jiskra\, Maxima Gorkého 280 Sokolov
SUMMARY:1-U22M-A: Sokolov-Plzeň
END:VEVENT
BEGIN:VEVENT
UID:36373330-3231-4134-b865-646465336430
DTSTAMP:20260423T004323Z
DESCRIPTION:13/52 Sokolov - Meteor 3:1 (-22\,22\,19\,21)
DTSTART;TZID=Europe/Berlin:20230107T100000
DTEND;TZID=Europe/Berlin:20230107T120000
LOCATION:Jiskra\, Maxima Gorkého 280 Sokolov
SUMMARY:1-U22M-A: Sokolov-Meteor
END:VEVENT
BEGIN:VEVENT
UID:66656432-3566-4139-b934-306439363433
DTSTAMP:20260423T004323Z
DESCRIPTION:14/56 Sokolov - Meteor 3:0 (24\,22\,13)
DTSTART;TZID=Europe/Berlin:20230107T140000
DTEND;TZID=Europe/Berlin:20230107T160000
LOCATION:Jiskra\, Maxima Gorkého 280 Sokolov
SUMMARY:1-U22M-A: Sokolov-Meteor
END:VEVENT
BEGIN:VEVENT
UID:64366662-3732-4434-b430-366330656361
DTSTAMP:20260423T004323Z
DESCRIPTION:15/58 Sokolov - Dansport 3:0 (22\,23\,20)
DTSTART;TZID=Europe/Berlin:20230114T110000
DTEND;TZID=Europe/Berlin:20230114T130000
LOCATION:Jiskra\, Maxima Gorkého 280 Sokolov
SUMMARY:1-U22M-A: Sokolov-Dansport
END:VEVENT
BEGIN:VEVENT
UID:62323738-6261-4333-b261-626562663766
DTSTAMP:20260423T004323Z
DESCRIPTION:16/62 Sokolov - Dansport 3:0 (17\,15\,21)
DTSTART;TZID=Europe/Berlin:20230114T150000
DTEND;TZID=Europe/Berlin:20230114T170000
LOCATION:Jiskra\, Maxima Gorkého 280 Sokolov
SUMMARY:1-U22M-A: Sokolov-Dansport
END:VEVENT
BEGIN:VEVENT
UID:39653165-6435-4634-b731-393563333066
DTSTAMP:20260423T004323Z
DESCRIPTION:19/75 Sokolov - O. Voda 3:0 (25\,20\,16)
DTSTART;TZID=Europe/Berlin:20230212T100000
DTEND;TZID=Europe/Berlin:20230212T120000
LOCATION:Jiskra\, Maxima Gorkého 280 Sokolov
SUMMARY:1-U22M-A: Sokolov-O. Voda
END:VEVENT
BEGIN:VEVENT
UID:37343262-3536-4537-a463-646332626161
DTSTAMP:20260423T004323Z
DESCRIPTION:20/79 Sokolov - O. Voda 3:1 (20\,-26\,11\,21)
DTSTART;TZID=Europe/Berlin:20230212T140000
DTEND;TZID=Europe/Berlin:20230212T160000
LOCATION:Jiskra\, Maxima Gorkého 280 Sokolov
SUMMARY:1-U22M-A: Sokolov-O. Voda
END:VEVENT
BEGIN:VEVENT
UID:65386536-6135-4836-b631-306662306639
DTSTAMP:20260423T004323Z
DESCRIPTION:1/2 Dansport - Sokolov 1:3 (-19\,-22\,22\,-17)
DTSTART;TZID=Europe/Berlin:20220924T100000
DTEND;TZID=Europe/Berlin:20220924T120000
LOCATION:Sportovní hala Gymnázia Jana Keplera\, Parléřova 118 Praha - Hradč
 any
SUMMARY:1-U22M-A: Dansport-Sokolov
END:VEVENT
BEGIN:VEVENT
UID:38303532-3131-4264-a363-386661363630
DTSTAMP:20260423T004323Z
DESCRIPTION:2/6 Dansport - Sokolov 3:2 (-25\,22\,20\,-18\,19)
DTSTART;TZID=Europe/Berlin:20220924T140000
DTEND;TZID=Europe/Berlin:20220924T160000
LOCATION:Sportovní hala Gymnázia Jana Keplera\, Parléřova 118 Praha - Hradč
 any
SUMMARY:1-U22M-A: Dansport-Sokolov
END:VEVENT
BEGIN:VEVENT
UID:33326536-6134-4337-a265-613134646634
DTSTAMP:20260423T004323Z
DESCRIPTION:5/19 O. Voda - Sokolov 2:3 (-22\,-22\,22\,20\,-9)
DTSTART;TZID=Europe/Berlin:20221016T090000
DTEND;TZID=Europe/Berlin:20221016T110000
LOCATION:Sportovní hala\, Ke Stadionu 375 Odolena Voda
SUMMARY:1-U22M-A: O. Voda-Sokolov
END:VEVENT
BEGIN:VEVENT
UID:61623431-3735-4238-b237-303363323164
DTSTAMP:20260423T004323Z
DESCRIPTION:6/23 O. Voda - Sokolov 0:3 (-24\,-18\,-24)
DTSTART;TZID=Europe/Berlin:20221016T130000
DTEND;TZID=Europe/Berlin:20221016T150000
LOCATION:Sportovní hala\, Ke Stadionu 375 Odolena Voda
SUMMARY:1-U22M-A: O. Voda-Sokolov
END:VEVENT
BEGIN:VEVENT
UID:38616234-3230-4430-b165-316333663563
DTSTAMP:20260423T004323Z
DESCRIPTION:17/67 Kladno - Sokolov 3:0 (21\,15\,19)
DTSTART;TZID=Europe/Berlin:20230115T100000
DTEND;TZID=Europe/Berlin:20230115T120000
LOCATION:Kladenská sportovní hala\, Sportovců 817 Kladno - Rozdělov
SUMMARY:1-U22M-A: Kladno-Sokolov
END:VEVENT
BEGIN:VEVENT
UID:63653235-6462-4734-a465-653731386431
DTSTAMP:20260423T004323Z
DESCRIPTION:18/71 Kladno - Sokolov 3:1 (-20\,19\,22\,22)
DTSTART;TZID=Europe/Berlin:20230115T140000
DTEND;TZID=Europe/Berlin:20230115T160000
LOCATION:Kladenská sportovní hala\, Sportovců 817 Kladno - Rozdělov
SUMMARY:1-U22M-A: Kladno-Sokolov
END:VEVENT
BEGIN:VEVENT
UID:33616132-3733-4162-a364-386562666466
DTSTAMP:20260423T004323Z
DESCRIPTION:21/82 Liberec - Sokolov 3:0 (12\,8\,11)
DTSTART;TZID=Europe/Berlin:20230205T100000
DTEND;TZID=Europe/Berlin:20230205T120000
LOCATION:Základní škola\, Liberec\, Švermova 403/40\, Švermova 403 Liberec 
 - Liberec X-Františkov
SUMMARY:1-U22M-A: Liberec-Sokolov
END:VEVENT
BEGIN:VEVENT
UID:64623837-6238-4138-a365-366438353965
DTSTAMP:20260423T004323Z
DESCRIPTION:22/86 Liberec - Sokolov 3:0 (20\,21\,14)
DTSTART;TZID=Europe/Berlin:20230205T140000
DTEND;TZID=Europe/Berlin:20230205T160000
LOCATION:Základní škola\, Liberec\, Švermova 403/40\, Švermova 403 Liberec 
 - Liberec X-Františkov
SUMMARY:1-U22M-A: Liberec-Sokolov
END:VEVENT
BEGIN:VEVENT
UID:31366162-6537-4334-a338-636234353432
DTSTAMP:20260423T004323Z
DESCRIPTION:23/92 Plzeň - Sokolov 3:1 (18\,18\,-22\,20)
DTSTART;TZID=Europe/Berlin:20230312T110000
DTEND;TZID=Europe/Berlin:20230312T130000
LOCATION:Prokopávka Plzeň\, K Prokopávce 1473 Plzeň - Bolevec
SUMMARY:1-U22M-A: Plzeň-Sokolov
END:VEVENT
BEGIN:VEVENT
UID:36666232-3636-4734-b133-396664316566
DTSTAMP:20260423T004323Z
DESCRIPTION:24/96 Plzeň - Sokolov 3:2 (13\,-22\,17\,-20\,10)
DTSTART;TZID=Europe/Berlin:20230312T150000
DTEND;TZID=Europe/Berlin:20230312T170000
LOCATION:Prokopávka Plzeň\, K Prokopávce 1473 Plzeň - Bolevec
SUMMARY:1-U22M-A: Plzeň-Sokolov
END:VEVENT
BEGIN:VEVENT
UID:38616433-3939-4430-b737-656132633162
DTSTAMP:20260423T004323Z
DESCRIPTION:27/108 Meteor - Sokolov 1:3 (24\,-17\,-22\,-23)
DTSTART;TZID=Europe/Berlin:20230311T100000
DTEND;TZID=Europe/Berlin:20230311T120000
LOCATION:ZŠ Žernosecká\, Žernosecká 1597 Praha - Kobylisy
SUMMARY:1-U22M-A: Meteor-Sokolov
END:VEVENT
BEGIN:VEVENT
UID:31666165-3836-4234-a265-613232366637
DTSTAMP:20260423T004323Z
DESCRIPTION:28/112 Meteor - Sokolov 2:3 (-17\,-20\,20\,32\,-7)
DTSTART;TZID=Europe/Berlin:20230311T140000
DTEND;TZID=Europe/Berlin:20230311T160000
LOCATION:ZŠ Žernosecká\, Žernosecká 1597 Praha - Kobylisy
SUMMARY:1-U22M-A: Meteor-Sokolov
END:VEVENT
END:VCALENDAR
