BEGIN:VCALENDAR
VERSION:2.0
PRODID:-//VAM Olomouc79142//NONSGML kigkonsult.se iCalcreator 2.41.80//
CALSCALE:GREGORIAN
UID:31666139-3535-4936-b432-656431333337
BEGIN:VEVENT
UID:38666233-3038-4561-b730-613636653537
DTSTAMP:20260422T165818Z
DESCRIPTION:1/4 Olomouc - Havířov 3:0 (11\,18\,21)
DTSTART;TZID=Europe/Berlin:20220924T100000
DTEND;TZID=Europe/Berlin:20220924T120000
LOCATION:Baluo\, U Letiště 976 Olomouc - Neředín
SUMMARY:1-U22M-C: Olomouc-Havířov
END:VEVENT
BEGIN:VEVENT
UID:37646531-3665-4938-b134-626366653832
DTSTAMP:20260422T165818Z
DESCRIPTION:2/8 Olomouc - Havířov 3:0 (14\,13\,7)
DTSTART;TZID=Europe/Berlin:20220924T140000
DTEND;TZID=Europe/Berlin:20220924T160000
LOCATION:Baluo\, U Letiště 976 Olomouc - Neředín
SUMMARY:1-U22M-C: Olomouc-Havířov
END:VEVENT
BEGIN:VEVENT
UID:62306365-6335-4139-b735-316432333831
DTSTAMP:20260422T165818Z
DESCRIPTION:5/19 Olomouc - Opava 1:3 (19\,-23\,-14\,-24)
DTSTART;TZID=Europe/Berlin:20221008T100000
DTEND;TZID=Europe/Berlin:20221008T120000
LOCATION:VOŠ a SPŠE Olomouc\, Božetěchova 755 Olomouc - Hodolany
SUMMARY:1-U22M-C: Olomouc-Opava
END:VEVENT
BEGIN:VEVENT
UID:30626136-3166-4838-b162-383265396361
DTSTAMP:20260422T165818Z
DESCRIPTION:6/23 Olomouc - Opava 0:3 (-20\,-15\,-18)
DTSTART;TZID=Europe/Berlin:20221008T140000
DTEND;TZID=Europe/Berlin:20221008T160000
LOCATION:VOŠ a SPŠE Olomouc\, Božetěchova 755 Olomouc - Hodolany
SUMMARY:1-U22M-C: Olomouc-Opava
END:VEVENT
BEGIN:VEVENT
UID:35396265-3138-4130-b932-616439326663
DTSTAMP:20260422T165818Z
DESCRIPTION:9/34 Olomouc - Val. Meziříčí 3:0 (34\,12\,23)
DTSTART;TZID=Europe/Berlin:20221112T100000
DTEND;TZID=Europe/Berlin:20221112T120000
LOCATION:VOŠ a SPŠE Olomouc\, Božetěchova 755 Olomouc - Hodolany
SUMMARY:1-U22M-C: Olomouc-Val. Meziříčí
END:VEVENT
BEGIN:VEVENT
UID:38323434-3762-4833-b536-346466623065
DTSTAMP:20260422T165818Z
DESCRIPTION:10/38 Olomouc - Val. Meziříčí 3:1 (-15\,15\,23\,16)
DTSTART;TZID=Europe/Berlin:20221112T140000
DTEND;TZID=Europe/Berlin:20221112T160000
LOCATION:VOŠ a SPŠE Olomouc\, Božetěchova 755 Olomouc - Hodolany
SUMMARY:1-U22M-C: Olomouc-Val. Meziříčí
END:VEVENT
BEGIN:VEVENT
UID:33386637-3036-4162-b737-613362393330
DTSTAMP:20260422T165818Z
DESCRIPTION:17/66 Olomouc - Kojetín B 3:0 (16\,7\,21)
DTSTART;TZID=Europe/Berlin:20230115T100000
DTEND;TZID=Europe/Berlin:20230115T120000
LOCATION:VOŠ a SPŠE Olomouc\, Božetěchova 755 Olomouc - Hodolany
SUMMARY:1-U22M-C: Olomouc-Kojetín B
END:VEVENT
BEGIN:VEVENT
UID:35633763-3363-4534-a138-646330346531
DTSTAMP:20260422T165818Z
DESCRIPTION:18/70 Olomouc - Kojetín B 3:0 (22\,20\,18)
DTSTART;TZID=Europe/Berlin:20230115T140000
DTEND;TZID=Europe/Berlin:20230115T160000
LOCATION:VOŠ a SPŠE Olomouc\, Božetěchova 755 Olomouc - Hodolany
SUMMARY:1-U22M-C: Olomouc-Kojetín B
END:VEVENT
BEGIN:VEVENT
UID:34643735-3932-4464-a537-613238313563
DTSTAMP:20260422T165818Z
DESCRIPTION:21/83 Olomouc - Blue Ostrava 0:3 (-16\,-14\,-18)
DTSTART;TZID=Europe/Berlin:20230205T100000
DTEND;TZID=Europe/Berlin:20230205T120000
LOCATION:VOŠ a SPŠE Olomouc\, Božetěchova 755 Olomouc - Hodolany
SUMMARY:1-U22M-C: Olomouc-Blue Ostrava
END:VEVENT
BEGIN:VEVENT
UID:35633238-3937-4133-b633-356238313138
DTSTAMP:20260422T165818Z
DESCRIPTION:22/87 Olomouc - Blue Ostrava 1:3 (-16\,22\,-13\,-17)
DTSTART;TZID=Europe/Berlin:20230205T140000
DTEND;TZID=Europe/Berlin:20230205T160000
LOCATION:VOŠ a SPŠE Olomouc\, Božetěchova 755 Olomouc - Hodolany
SUMMARY:1-U22M-C: Olomouc-Blue Ostrava
END:VEVENT
BEGIN:VEVENT
UID:38373866-3537-4634-a664-653438623066
DTSTAMP:20260422T165818Z
DESCRIPTION:25/100 Olomouc - Šlapanice 3:2 (-21\,19\,16\,-19\,12)
DTSTART;TZID=Europe/Berlin:20230226T100000
DTEND;TZID=Europe/Berlin:20230226T120000
LOCATION:VOŠ a SPŠE Olomouc\, Božetěchova 755 Olomouc - Hodolany
SUMMARY:1-U22M-C: Olomouc-Šlapanice
END:VEVENT
BEGIN:VEVENT
UID:64646138-6631-4834-b265-353933616666
DTSTAMP:20260422T165818Z
DESCRIPTION:26/104 Olomouc - Šlapanice 1:3 (-15\,23\,-19\,-20)
DTSTART;TZID=Europe/Berlin:20230226T140000
DTEND;TZID=Europe/Berlin:20230226T160000
LOCATION:VOŠ a SPŠE Olomouc\, Božetěchova 755 Olomouc - Hodolany
SUMMARY:1-U22M-C: Olomouc-Šlapanice
END:VEVENT
BEGIN:VEVENT
UID:34343932-3933-4335-b838-363062396563
DTSTAMP:20260422T165818Z
DESCRIPTION:3/10 Kojetín B - Olomouc 2:3 (-23\,17\,22\,-16\,-14)
DTSTART;TZID=Europe/Berlin:20220925T100000
DTEND;TZID=Europe/Berlin:20220925T120000
LOCATION:Městská sportovní hala\, Hanusíkova 1476 Kojetín - Kojetín I-Město
SUMMARY:1-U22M-C: Kojetín B-Olomouc
END:VEVENT
BEGIN:VEVENT
UID:32363238-6634-4534-b530-373238376466
DTSTAMP:20260422T165818Z
DESCRIPTION:4/14 Kojetín B - Olomouc 1:3 (-23\,21\,-18\,-21)
DTSTART;TZID=Europe/Berlin:20220925T140000
DTEND;TZID=Europe/Berlin:20220925T160000
LOCATION:Městská sportovní hala\, Hanusíkova 1476 Kojetín - Kojetín I-Město
SUMMARY:1-U22M-C: Kojetín B-Olomouc
END:VEVENT
BEGIN:VEVENT
UID:37643336-3339-4664-b665-386539363030
DTSTAMP:20260422T165818Z
DESCRIPTION:7/27 Blue Ostrava - Olomouc 3:1 (23\,23\,-18\,23)
DTSTART;TZID=Europe/Berlin:20221009T100000
DTEND;TZID=Europe/Berlin:20221009T120000
LOCATION:MH Svinov\, Stanislavského 1270 Ostrava - Svinov
SUMMARY:1-U22M-C: Blue Ostrava-Olomouc
END:VEVENT
BEGIN:VEVENT
UID:61313461-3065-4761-a632-373262663839
DTSTAMP:20260422T165818Z
DESCRIPTION:8/31 Blue Ostrava - Olomouc 3:0 (17\,22\,17)
DTSTART;TZID=Europe/Berlin:20221009T140000
DTEND;TZID=Europe/Berlin:20221009T160000
LOCATION:MH Svinov\, Stanislavského 1270 Ostrava - Svinov
SUMMARY:1-U22M-C: Blue Ostrava-Olomouc
END:VEVENT
BEGIN:VEVENT
UID:37376666-3935-4364-b936-393333316638
DTSTAMP:20260422T165818Z
DESCRIPTION:11/44 Šlapanice - Olomouc 3:0 (23\,19\,17)
DTSTART;TZID=Europe/Berlin:20221113T090000
DTEND;TZID=Europe/Berlin:20221113T110000
LOCATION:Tělocvična ZŠ Šlapanice\, Masarykovo náměstí 1594 Šlapanice
SUMMARY:1-U22M-C: Šlapanice-Olomouc
END:VEVENT
BEGIN:VEVENT
UID:32323961-3032-4036-b734-643932643833
DTSTAMP:20260422T165818Z
DESCRIPTION:12/48 Šlapanice - Olomouc 3:0 (17\,19\,18)
DTSTART;TZID=Europe/Berlin:20221113T130000
DTEND;TZID=Europe/Berlin:20221113T150000
LOCATION:Tělocvična ZŠ Šlapanice\, Masarykovo náměstí 1594 Šlapanice
SUMMARY:1-U22M-C: Šlapanice-Olomouc
END:VEVENT
BEGIN:VEVENT
UID:38313837-3637-4365-b735-363131333837
DTSTAMP:20260422T165818Z
DESCRIPTION:15/60 Havířov - Olomouc 0:3 (-24\,-14\,-14)
DTSTART;TZID=Europe/Berlin:20230114T100000
DTEND;TZID=Europe/Berlin:20230114T120000
LOCATION:hala SPŠE\, Makarenkova 513 Havířov - Město
SUMMARY:1-U22M-C: Havířov-Olomouc
END:VEVENT
BEGIN:VEVENT
UID:35323530-3564-4731-a137-663637306139
DTSTAMP:20260422T165818Z
DESCRIPTION:16/64 Havířov - Olomouc 0:3 (-14\,-14\,-20)
DTSTART;TZID=Europe/Berlin:20230114T140000
DTEND;TZID=Europe/Berlin:20230114T160000
LOCATION:hala SPŠE\, Makarenkova 513 Havířov - Město
SUMMARY:1-U22M-C: Havířov-Olomouc
END:VEVENT
BEGIN:VEVENT
UID:39616636-3461-4532-b537-646234366436
DTSTAMP:20260422T165818Z
DESCRIPTION:19/75 Opava - Olomouc 1:3 (21\,-16\,-22\,-23)
DTSTART;TZID=Europe/Berlin:20230204T100000
DTEND;TZID=Europe/Berlin:20230204T120000
LOCATION:ZŠ Ed. Beneše\, Edvarda Beneše 961 Opava - Kateřinky
SUMMARY:1-U22M-C: Opava-Olomouc
END:VEVENT
BEGIN:VEVENT
UID:39396435-3738-4965-a333-393336323235
DTSTAMP:20260422T165818Z
DESCRIPTION:20/79 Opava - Olomouc 2:3 (-22\,-20\,29\,22\,-14)
DTSTART;TZID=Europe/Berlin:20230204T140000
DTEND;TZID=Europe/Berlin:20230204T160000
LOCATION:ZŠ Ed. Beneše\, Edvarda Beneše 961 Opava - Kateřinky
SUMMARY:1-U22M-C: Opava-Olomouc
END:VEVENT
BEGIN:VEVENT
UID:65326566-6666-4363-b230-613461303838
DTSTAMP:20260422T165818Z
DESCRIPTION:23/90 Val. Meziříčí - Olomouc 3:1 (16\,16\,-21\,16)
DTSTART;TZID=Europe/Berlin:20230225T100000
DTEND;TZID=Europe/Berlin:20230225T120000
LOCATION:ZŠ Šafaříkova\, Šafaříkova 726 Valašské Meziříčí
SUMMARY:1-U22M-C: Val. Meziříčí-Olomouc
END:VEVENT
BEGIN:VEVENT
UID:65373539-6236-4061-b131-333632373331
DTSTAMP:20260422T165818Z
DESCRIPTION:24/94 Val. Meziříčí - Olomouc 3:1 (-23\,21\,18\,18)
DTSTART;TZID=Europe/Berlin:20230225T140000
DTEND;TZID=Europe/Berlin:20230225T160000
LOCATION:ZŠ Šafaříkova\, Šafaříkova 726 Valašské Meziříčí
SUMMARY:1-U22M-C: Val. Meziříčí-Olomouc
END:VEVENT
END:VCALENDAR
