BEGIN:VCALENDAR
VERSION:2.0
PRODID:-//Volleyball Nymburk79156//NONSGML kigkonsult.se iCalcreator 2.41.80//
CALSCALE:GREGORIAN
UID:64653438-3632-4866-b863-303730326665
BEGIN:VEVENT
UID:34656364-6265-4439-b734-303534333833
DTSTAMP:20260421T175232Z
DESCRIPTION:3/7 Nymburk - Dolní Újezd 3:0 (17\,19\,23)
DTSTART;TZID=Europe/Berlin:20221001T110000
DTEND;TZID=Europe/Berlin:20221001T130000
LOCATION:Zimní stadion\, U Stadionu 12 Nymburk
SUMMARY:1-U22Z-D: Nymburk-Dolní Újezd
END:VEVENT
BEGIN:VEVENT
UID:31353961-3537-4234-b238-323263313939
DTSTAMP:20260421T175232Z
DESCRIPTION:4/10 Nymburk - Dolní Újezd 3:0 (13\,16\,10)
DTSTART;TZID=Europe/Berlin:20221001T150000
DTEND;TZID=Europe/Berlin:20221001T170000
LOCATION:Zimní stadion\, U Stadionu 12 Nymburk
SUMMARY:1-U22Z-D: Nymburk-Dolní Újezd
END:VEVENT
BEGIN:VEVENT
UID:33386530-3136-4838-b434-626135636337
DTSTAMP:20260421T175232Z
DESCRIPTION:7/19 Nymburk - Náchod 3:0 (13\,21\,23)
DTSTART;TZID=Europe/Berlin:20221029T110000
DTEND;TZID=Europe/Berlin:20221029T130000
LOCATION:Zimní stadion\, U Stadionu 12 Nymburk
SUMMARY:1-U22Z-D: Nymburk-Náchod
END:VEVENT
BEGIN:VEVENT
UID:31633161-6539-4138-a538-643136636330
DTSTAMP:20260421T175232Z
DESCRIPTION:8/22 Nymburk - Náchod 3:0 (14\,19\,15)
DTSTART;TZID=Europe/Berlin:20221029T150000
DTEND;TZID=Europe/Berlin:20221029T170000
LOCATION:Zimní stadion\, U Stadionu 12 Nymburk
SUMMARY:1-U22Z-D: Nymburk-Náchod
END:VEVENT
BEGIN:VEVENT
UID:64323565-6332-4565-a139-383839633931
DTSTAMP:20260421T175232Z
DESCRIPTION:11/31 Nymburk - Hronov 3:1 (14\,-19\,17\,11)
DTSTART;TZID=Europe/Berlin:20221112T100000
DTEND;TZID=Europe/Berlin:20221112T120000
LOCATION:Zimní stadion\, U Stadionu 12 Nymburk
SUMMARY:1-U22Z-D: Nymburk-Hronov
END:VEVENT
BEGIN:VEVENT
UID:34396338-6339-4431-b437-626332366337
DTSTAMP:20260421T175232Z
DESCRIPTION:12/34 Nymburk - Hronov 3:0 (9\,8\,15)
DTSTART;TZID=Europe/Berlin:20221112T140000
DTEND;TZID=Europe/Berlin:20221112T160000
LOCATION:Zimní stadion\, U Stadionu 12 Nymburk
SUMMARY:1-U22Z-D: Nymburk-Hronov
END:VEVENT
BEGIN:VEVENT
UID:66646432-3937-4165-b463-633931623537
DTSTAMP:20260421T175232Z
DESCRIPTION:19/55 Nymburk - Pardubice 3:0 (16\,17\,21)
DTSTART;TZID=Europe/Berlin:20221105T100000
DTEND;TZID=Europe/Berlin:20221105T120000
LOCATION:Bios\, V Kolonii 1804 Nymburk
SUMMARY:1-U22Z-D: Nymburk-Pardubice
END:VEVENT
BEGIN:VEVENT
UID:62303438-3233-4237-b063-386339616562
DTSTAMP:20260421T175232Z
DESCRIPTION:20/58 Nymburk - Pardubice 3:1 (11\,14\,-24\,25)
DTSTART;TZID=Europe/Berlin:20221105T140000
DTEND;TZID=Europe/Berlin:20221105T160000
LOCATION:Bios\, V Kolonii 1804 Nymburk
SUMMARY:1-U22Z-D: Nymburk-Pardubice
END:VEVENT
BEGIN:VEVENT
UID:32613764-6164-4764-a661-343831643339
DTSTAMP:20260421T175232Z
DESCRIPTION:1/1 Hronov - Nymburk 0:3 (-23\,-11\,-10)
DTSTART;TZID=Europe/Berlin:20220917T120000
DTEND;TZID=Europe/Berlin:20220917T140000
LOCATION:ZŠ Hronov\, Palackého 162 Hronov
SUMMARY:1-U22Z-D: Hronov-Nymburk
END:VEVENT
BEGIN:VEVENT
UID:31663335-3537-4661-b935-313639303031
DTSTAMP:20260421T175232Z
DESCRIPTION:2/4 Hronov - Nymburk 0:3 (-23\,-18\,-20)
DTSTART;TZID=Europe/Berlin:20220917T160000
DTEND;TZID=Europe/Berlin:20220917T180000
LOCATION:ZŠ Hronov\, Palackého 162 Hronov
SUMMARY:1-U22Z-D: Hronov-Nymburk
END:VEVENT
BEGIN:VEVENT
UID:30383738-6131-4836-b138-366534616539
DTSTAMP:20260421T175232Z
DESCRIPTION:9/25 Pardubice - Nymburk 0:3 (-18\,-16\,-19)
DTSTART;TZID=Europe/Berlin:20230114T100000
DTEND;TZID=Europe/Berlin:20230114T120000
LOCATION:Sokolovna\, Jiráskova 29 Pardubice - Zelené Předměstí
SUMMARY:1-U22Z-D: Pardubice-Nymburk
END:VEVENT
BEGIN:VEVENT
UID:38356666-3865-4633-a334-326338313530
DTSTAMP:20260421T175232Z
DESCRIPTION:10/28 Pardubice - Nymburk 1:3 (-22\,-18\,22\,-12)
DTSTART;TZID=Europe/Berlin:20230114T140000
DTEND;TZID=Europe/Berlin:20230114T160000
LOCATION:Sokolovna\, Jiráskova 29 Pardubice - Zelené Předměstí
SUMMARY:1-U22Z-D: Pardubice-Nymburk
END:VEVENT
BEGIN:VEVENT
UID:31646435-3463-4562-b333-363363353566
DTSTAMP:20260421T175232Z
DESCRIPTION:13/37 Dolní Újezd - Nymburk 0:3 (-14\,-20\,-11)
DTSTART;TZID=Europe/Berlin:20221203T100000
DTEND;TZID=Europe/Berlin:20221203T120000
LOCATION:tělocvična Základní školy\,  Dolní Újezd342
SUMMARY:1-U22Z-D: Dolní Újezd-Nymburk
END:VEVENT
BEGIN:VEVENT
UID:62613563-6664-4139-b136-623232383362
DTSTAMP:20260421T175232Z
DESCRIPTION:14/40 Dolní Újezd - Nymburk 0:3 (-18\,-21\,-15)
DTSTART;TZID=Europe/Berlin:20221203T140000
DTEND;TZID=Europe/Berlin:20221203T160000
LOCATION:tělocvična Základní školy\,  Dolní Újezd342
SUMMARY:1-U22Z-D: Dolní Újezd-Nymburk
END:VEVENT
BEGIN:VEVENT
UID:36643661-3634-4364-b337-636165363038
DTSTAMP:20260421T175232Z
DESCRIPTION:17/49 Náchod - Nymburk 0:3 (-18\,-13\,-9)
DTSTART;TZID=Europe/Berlin:20221217T100000
DTEND;TZID=Europe/Berlin:20221217T120000
LOCATION:SPORT KLUB Náchod\, Pražská 696 Náchod
SUMMARY:1-U22Z-D: Náchod-Nymburk
END:VEVENT
BEGIN:VEVENT
UID:30393837-6234-4934-a333-346539376566
DTSTAMP:20260421T175232Z
DESCRIPTION:18/52 Náchod - Nymburk 0:3 (-14\,-15\,-14)
DTSTART;TZID=Europe/Berlin:20221217T140000
DTEND;TZID=Europe/Berlin:20221217T160000
LOCATION:SPORT KLUB Náchod\, Pražská 696 Náchod
SUMMARY:1-U22Z-D: Náchod-Nymburk
END:VEVENT
BEGIN:VEVENT
UID:64363563-6531-4361-a638-363639366130
DTSTAMP:20260421T175232Z
DESCRIPTION:3/8 Nymburk - Jehnice 3:1 (-25\,9\,16\,14)\nUtkání přeloženo
DTSTART;TZID=Europe/Berlin:20230223T170000
DTEND;TZID=Europe/Berlin:20230223T190000
LOCATION:Zimní stadion\, U Stadionu 12 Nymburk
SUMMARY:1-U22Z-II: Nymburk-Jehnice
END:VEVENT
BEGIN:VEVENT
UID:37643863-3464-4334-a463-623533353138
DTSTAMP:20260421T175232Z
DESCRIPTION:4/11 Nymburk - Jehnice 3:0 (17\,13\,22)\nUtkání přeloženo
DTSTART;TZID=Europe/Berlin:20230223T200000
DTEND;TZID=Europe/Berlin:20230223T220000
LOCATION:Zimní stadion\, U Stadionu 12 Nymburk
SUMMARY:1-U22Z-II: Nymburk-Jehnice
END:VEVENT
BEGIN:VEVENT
UID:36666162-6466-4564-a233-336230376232
DTSTAMP:20260421T175232Z
DESCRIPTION:7/21 Nymburk - Kojetín 3:0 (16\,13\,14)
DTSTART;TZID=Europe/Berlin:20230304T130000
DTEND;TZID=Europe/Berlin:20230304T150000
LOCATION:Zimní stadion\, U Stadionu 12 Nymburk
SUMMARY:1-U22Z-II: Nymburk-Kojetín
END:VEVENT
BEGIN:VEVENT
UID:66383834-6138-4134-b137-653364376534
DTSTAMP:20260421T175232Z
DESCRIPTION:8/24 Nymburk - Kojetín 3:0 (18\,14\,17)
DTSTART;TZID=Europe/Berlin:20230304T170000
DTEND;TZID=Europe/Berlin:20230304T190000
LOCATION:Zimní stadion\, U Stadionu 12 Nymburk
SUMMARY:1-U22Z-II: Nymburk-Kojetín
END:VEVENT
BEGIN:VEVENT
UID:61346161-6432-4466-b237-653462346135
DTSTAMP:20260421T175232Z
DESCRIPTION:11/31 Nymburk - Brno 2:3 (-24\,-23\,21\,24\,-10)
DTSTART;TZID=Europe/Berlin:20230401T110000
DTEND;TZID=Europe/Berlin:20230401T130000
LOCATION:Zimní stadion\, U Stadionu 12 Nymburk
SUMMARY:1-U22Z-II: Nymburk-Brno
END:VEVENT
BEGIN:VEVENT
UID:34626265-3465-4462-b735-613864396634
DTSTAMP:20260421T175232Z
DESCRIPTION:12/34 Nymburk - Brno 0:3 (-19\,-16\,-21)
DTSTART;TZID=Europe/Berlin:20230401T150000
DTEND;TZID=Europe/Berlin:20230401T170000
LOCATION:Zimní stadion\, U Stadionu 12 Nymburk
SUMMARY:1-U22Z-II: Nymburk-Brno
END:VEVENT
BEGIN:VEVENT
UID:35316162-6136-4233-b536-353466353366
DTSTAMP:20260421T175232Z
DESCRIPTION:1/3 Kojetín - Nymburk 0:3 (-20\,-17\,-21)
DTSTART;TZID=Europe/Berlin:20230128T110000
DTEND;TZID=Europe/Berlin:20230128T130000
LOCATION:Městská sportovní hala\, Hanusíkova 1476 Kojetín - Kojetín I-Město
SUMMARY:1-U22Z-II: Kojetín-Nymburk
END:VEVENT
BEGIN:VEVENT
UID:64373430-6431-4761-b437-356437646539
DTSTAMP:20260421T175232Z
DESCRIPTION:2/6 Kojetín - Nymburk 0:3 (-11\,-14\,-18)
DTSTART;TZID=Europe/Berlin:20230128T150000
DTEND;TZID=Europe/Berlin:20230128T170000
LOCATION:Městská sportovní hala\, Hanusíkova 1476 Kojetín - Kojetín I-Město
SUMMARY:1-U22Z-II: Kojetín-Nymburk
END:VEVENT
BEGIN:VEVENT
UID:36343962-3463-4362-b832-373633386137
DTSTAMP:20260421T175232Z
DESCRIPTION:5/13 Brno - Nymburk 3:0 (20\,20\,18)
DTSTART;TZID=Europe/Berlin:20230211T110000
DTEND;TZID=Europe/Berlin:20230211T130000
LOCATION:ZŠ Holzova 1\, Holzova 1461 Brno - Líšeň
SUMMARY:1-U22Z-II: Brno-Nymburk
END:VEVENT
BEGIN:VEVENT
UID:31303964-6537-4236-a562-636365643339
DTSTAMP:20260421T175232Z
DESCRIPTION:6/16 Brno - Nymburk 3:1 (23\,18\,-20\,22)
DTSTART;TZID=Europe/Berlin:20230211T150000
DTEND;TZID=Europe/Berlin:20230211T170000
LOCATION:ZŠ Holzova 1\, Holzova 1461 Brno - Líšeň
SUMMARY:1-U22Z-II: Brno-Nymburk
END:VEVENT
BEGIN:VEVENT
UID:65323064-6535-4462-b535-616263643066
DTSTAMP:20260421T175232Z
DESCRIPTION:9/26 Jehnice - Nymburk 2:3 (-17\,20\,-23\,23\,-9)
DTSTART;TZID=Europe/Berlin:20230311T100000
DTEND;TZID=Europe/Berlin:20230311T120000
LOCATION:TJ Sokol Jehnice\, Blanenská 1 Brno - Jehnice
SUMMARY:1-U22Z-II: Jehnice-Nymburk
END:VEVENT
BEGIN:VEVENT
UID:65376537-6130-4036-a464-636564616639
DTSTAMP:20260421T175232Z
DESCRIPTION:10/29 Jehnice - Nymburk 0:3 (-15\,-21\,-20)
DTSTART;TZID=Europe/Berlin:20230311T140000
DTEND;TZID=Europe/Berlin:20230311T160000
LOCATION:TJ Sokol Jehnice\, Blanenská 1 Brno - Jehnice
SUMMARY:1-U22Z-II: Jehnice-Nymburk
END:VEVENT
BEGIN:VEVENT
UID:61363730-3736-4338-a231-396233356334
DTSTAMP:20260421T175232Z
DESCRIPTION:1/1 Kometa - Nymburk 2:3 (23\,19\,-19\,-23\,-14)
DTSTART;TZID=Europe/Berlin:20230415T170000
DTEND;TZID=Europe/Berlin:20230415T190000
LOCATION:Tělocvična ZŠ Na Šutce\, Na Šutce 440 Praha - Troja
SUMMARY:EX-U22Z-KI: Kometa-Nymburk
END:VEVENT
BEGIN:VEVENT
UID:39323431-3335-4863-b339-386135623734
DTSTAMP:20260421T175232Z
DESCRIPTION:2/3 Kometa - Nymburk 1:3 (18\,-23\,-23\,-17)
DTSTART;TZID=Europe/Berlin:20230416T100000
DTEND;TZID=Europe/Berlin:20230416T120000
LOCATION:Tělocvična ZŠ Na Šutce\, Na Šutce 440 Praha - Troja
SUMMARY:EX-U22Z-KI: Kometa-Nymburk
END:VEVENT
BEGIN:VEVENT
UID:33393165-3939-4537-a139-643636353762
DTSTAMP:20260421T175232Z
DESCRIPTION:1/2 Brno - Nymburk 0:3 (-21\,-17\,-21)
DTSTART;TZID=Europe/Berlin:20230506T133000
DTEND;TZID=Europe/Berlin:20230506T153000
LOCATION:TJ Tatran Střešovice\, Sibeliova 368 Praha - Střešovice
SUMMARY:EX-U22Z-KII: Brno-Nymburk
END:VEVENT
BEGIN:VEVENT
UID:38646163-6537-4864-a465-613532323732
DTSTAMP:20260421T175232Z
DESCRIPTION:1/3 Střešovice - Nymburk 0:3 (-23\,-27\,-20)
DTSTART;TZID=Europe/Berlin:20230506T170000
DTEND;TZID=Europe/Berlin:20230506T190000
LOCATION:TJ Tatran Střešovice\, Sibeliova 368 Praha - Střešovice
SUMMARY:EX-U22Z-KII: Střešovice-Nymburk
END:VEVENT
END:VCALENDAR
