BEGIN:VCALENDAR
VERSION:2.0
PRODID:-//TJ Zikuda Turnov79158//NONSGML kigkonsult.se iCalcreator 2.41.80//
CALSCALE:GREGORIAN
UID:35363830-3162-4033-b036-653631393134
BEGIN:VEVENT
UID:64386461-3533-4666-b138-313933653762
DTSTAMP:20260422T010300Z
DESCRIPTION:5/15 Turnov - Mikulova 3:X
DTSTART;TZID=Europe/Berlin:20221008T100000
DTEND;TZID=Europe/Berlin:20221008T120000
LOCATION:TJ Turnov\, Skálova 207 Turnov
SUMMARY:1-U22Z-B: Turnov-Mikulova
END:VEVENT
BEGIN:VEVENT
UID:61663038-3036-4461-b264-363663393337
DTSTAMP:20260422T010300Z
DESCRIPTION:6/18 Turnov - Mikulova 3:X
DTSTART;TZID=Europe/Berlin:20221008T140000
DTEND;TZID=Europe/Berlin:20221008T160000
LOCATION:TJ Turnov\, Skálova 207 Turnov
SUMMARY:1-U22Z-B: Turnov-Mikulova
END:VEVENT
BEGIN:VEVENT
UID:33643462-6430-4236-b930-326461363832
DTSTAMP:20260422T010300Z
DESCRIPTION:9/26 Turnov - Roztoky 3:0 (17\,23\,11)
DTSTART;TZID=Europe/Berlin:20221105T110000
DTEND;TZID=Europe/Berlin:20221105T130000
LOCATION:TJ Turnov\, Skálova 207 Turnov
SUMMARY:1-U22Z-B: Turnov-Roztoky
END:VEVENT
BEGIN:VEVENT
UID:32333133-3630-4038-b039-646333346233
DTSTAMP:20260422T010300Z
DESCRIPTION:10/29 Turnov - Roztoky 3:0 (24\,14\,16)
DTSTART;TZID=Europe/Berlin:20221105T150000
DTEND;TZID=Europe/Berlin:20221105T170000
LOCATION:TJ Turnov\, Skálova 207 Turnov
SUMMARY:1-U22Z-B: Turnov-Roztoky
END:VEVENT
BEGIN:VEVENT
UID:62393730-6133-4530-a561-666231396232
DTSTAMP:20260422T010300Z
DESCRIPTION:11/33 Turnov - Bižuterie - SG B 0:3 (-16\,-22\,-20)
DTSTART;TZID=Europe/Berlin:20221112T100000
DTEND;TZID=Europe/Berlin:20221112T120000
LOCATION:Základní škola Rovensko pod Troskami\, Revoluční 413 Rovensko pod 
 Troskami
SUMMARY:1-U22Z-B: Turnov-Bižuterie - SG B
END:VEVENT
BEGIN:VEVENT
UID:34633130-6139-4165-b563-333538616531
DTSTAMP:20260422T010300Z
DESCRIPTION:12/36 Turnov - Bižuterie - SG B 0:3 (-18\,-18\,-20)
DTSTART;TZID=Europe/Berlin:20221112T140000
DTEND;TZID=Europe/Berlin:20221112T160000
LOCATION:Základní škola Rovensko pod Troskami\, Revoluční 413 Rovensko pod 
 Troskami
SUMMARY:1-U22Z-B: Turnov-Bižuterie - SG B
END:VEVENT
BEGIN:VEVENT
UID:30326666-3637-4336-b935-623232386362
DTSTAMP:20260422T010300Z
DESCRIPTION:17/50 Turnov - Kometa 2:3 (22\,22\,-16\,-14\,-10)
DTSTART;TZID=Europe/Berlin:20221217T110000
DTEND;TZID=Europe/Berlin:20221217T130000
LOCATION:TJ Turnov\, Skálova 207 Turnov
SUMMARY:1-U22Z-B: Turnov-Kometa
END:VEVENT
BEGIN:VEVENT
UID:33613666-3931-4338-b033-393161393830
DTSTAMP:20260422T010300Z
DESCRIPTION:18/53 Turnov - Kometa 2:3 (-14\,22\,21\,-23\,-8)
DTSTART;TZID=Europe/Berlin:20221217T150000
DTEND;TZID=Europe/Berlin:20221217T170000
LOCATION:TJ Turnov\, Skálova 207 Turnov
SUMMARY:1-U22Z-B: Turnov-Kometa
END:VEVENT
BEGIN:VEVENT
UID:31373832-6132-4565-b162-306130613336
DTSTAMP:20260422T010300Z
DESCRIPTION:1/3 Bižuterie - SG B - Turnov 3:0 (9\,20\,11)
DTSTART;TZID=Europe/Berlin:20220917T100000
DTEND;TZID=Europe/Berlin:20220917T120000
LOCATION:Městská sportovní hala\, U Přehrady 4747 Jablonec nad Nisou
SUMMARY:1-U22Z-B: Bižuterie - SG B-Turnov
END:VEVENT
BEGIN:VEVENT
UID:62653831-3134-4539-a238-316638643862
DTSTAMP:20260422T010300Z
DESCRIPTION:2/6 Bižuterie - SG B - Turnov 3:0 (10\,12\,14)
DTSTART;TZID=Europe/Berlin:20220917T140000
DTEND;TZID=Europe/Berlin:20220917T160000
LOCATION:Městská sportovní hala\, U Přehrady 4747 Jablonec nad Nisou
SUMMARY:1-U22Z-B: Bižuterie - SG B-Turnov
END:VEVENT
BEGIN:VEVENT
UID:33643661-3333-4435-b036-633362303465
DTSTAMP:20260422T010300Z
DESCRIPTION:7/20 Kometa - Turnov 3:1 (-26\,15\,18\,17)
DTSTART;TZID=Europe/Berlin:20221029T100000
DTEND;TZID=Europe/Berlin:20221029T120000
LOCATION:Tělocvična ZŠ Na Šutce\, Na Šutce 440 Praha - Troja
SUMMARY:1-U22Z-B: Kometa-Turnov
END:VEVENT
BEGIN:VEVENT
UID:65383530-3662-4234-a134-613635323561
DTSTAMP:20260422T010300Z
DESCRIPTION:8/23 Kometa - Turnov 3:1 (25\,-18\,17\,17)
DTSTART;TZID=Europe/Berlin:20221029T140000
DTEND;TZID=Europe/Berlin:20221029T160000
LOCATION:Tělocvična ZŠ Na Šutce\, Na Šutce 440 Praha - Troja
SUMMARY:1-U22Z-B: Kometa-Turnov
END:VEVENT
BEGIN:VEVENT
UID:37326463-3339-4464-b162-346462633438
DTSTAMP:20260422T010300Z
DESCRIPTION:15/45 Mikulova - Turnov 3:0 (24\,17\,18)
DTSTART;TZID=Europe/Berlin:20221210T100000
DTEND;TZID=Europe/Berlin:20221210T120000
LOCATION:Sportovní hala Čestlice\, Průhonická 305 Čestlice
SUMMARY:1-U22Z-B: Mikulova-Turnov
END:VEVENT
BEGIN:VEVENT
UID:62623738-3035-4238-a338-383135636238
DTSTAMP:20260422T010300Z
DESCRIPTION:16/48 Mikulova - Turnov 3:0 (16\,9\,13)
DTSTART;TZID=Europe/Berlin:20221210T140000
DTEND;TZID=Europe/Berlin:20221210T160000
LOCATION:Sportovní hala Čestlice\, Průhonická 305 Čestlice
SUMMARY:1-U22Z-B: Mikulova-Turnov
END:VEVENT
BEGIN:VEVENT
UID:64323936-6164-4461-b135-633531383333
DTSTAMP:20260422T010300Z
DESCRIPTION:19/56 Roztoky - Turnov 0:3 (-19\,-22\,-16)
DTSTART;TZID=Europe/Berlin:20230115T100000
DTEND;TZID=Europe/Berlin:20230115T120000
LOCATION:Tělocvična ZŠ Roztoky\, Školní nám. 470 Roztoky
SUMMARY:1-U22Z-B: Roztoky-Turnov
END:VEVENT
BEGIN:VEVENT
UID:63646633-3337-4132-b863-373332353666
DTSTAMP:20260422T010300Z
DESCRIPTION:20/59 Roztoky - Turnov 0:3 (-19\,-19\,-22)
DTSTART;TZID=Europe/Berlin:20230115T140000
DTEND;TZID=Europe/Berlin:20230115T160000
LOCATION:Tělocvična ZŠ Roztoky\, Školní nám. 470 Roztoky
SUMMARY:1-U22Z-B: Roztoky-Turnov
END:VEVENT
BEGIN:VEVENT
UID:65363431-3633-4862-b031-396366323839
DTSTAMP:20260422T010300Z
DESCRIPTION:3/8 Turnov - Plzeň 1:3 (-14\,-22\,25\,-16)
DTSTART;TZID=Europe/Berlin:20230311T123000
DTEND;TZID=Europe/Berlin:20230311T143000
LOCATION:TJ Turnov\, Skálova 207 Turnov
SUMMARY:1-U22Z-M: Turnov-Plzeň
END:VEVENT
BEGIN:VEVENT
UID:64643063-6639-4135-b064-383931356666
DTSTAMP:20260422T010300Z
DESCRIPTION:4/11 Turnov - Plzeň 1:3 (-20\,-22\,23\,-22)
DTSTART;TZID=Europe/Berlin:20230311T153000
DTEND;TZID=Europe/Berlin:20230311T173000
LOCATION:TJ Turnov\, Skálova 207 Turnov
SUMMARY:1-U22Z-M: Turnov-Plzeň
END:VEVENT
BEGIN:VEVENT
UID:61373437-6232-4464-a134-373061313161
DTSTAMP:20260422T010300Z
DESCRIPTION:7/21 Turnov - Dansport 3:1 (15\,25\,-21\,11)
DTSTART;TZID=Europe/Berlin:20230304T110000
DTEND;TZID=Europe/Berlin:20230304T130000
LOCATION:TJ Turnov\, Skálova 207 Turnov
SUMMARY:1-U22Z-M: Turnov-Dansport
END:VEVENT
BEGIN:VEVENT
UID:32346238-6361-4439-a139-303461626539
DTSTAMP:20260422T010300Z
DESCRIPTION:8/24 Turnov - Dansport 3:2 (18\,-12\,23\,-19\,10)
DTSTART;TZID=Europe/Berlin:20230304T150000
DTEND;TZID=Europe/Berlin:20230304T170000
LOCATION:TJ Turnov\, Skálova 207 Turnov
SUMMARY:1-U22Z-M: Turnov-Dansport
END:VEVENT
BEGIN:VEVENT
UID:38386262-6333-4533-b035-656630343665
DTSTAMP:20260422T010300Z
DESCRIPTION:11/31 Turnov - Kladno 3:0 (19\,19\,13)
DTSTART;TZID=Europe/Berlin:20230402T100000
DTEND;TZID=Europe/Berlin:20230402T120000
LOCATION:TJ Turnov\, Skálova 207 Turnov
SUMMARY:1-U22Z-M: Turnov-Kladno
END:VEVENT
BEGIN:VEVENT
UID:36316138-6463-4163-a631-656465366231
DTSTAMP:20260422T010300Z
DESCRIPTION:12/34 Turnov - Kladno 2:3 (17\,-13\,12\,-20\,-12)
DTSTART;TZID=Europe/Berlin:20230402T140000
DTEND;TZID=Europe/Berlin:20230402T160000
LOCATION:TJ Turnov\, Skálova 207 Turnov
SUMMARY:1-U22Z-M: Turnov-Kladno
END:VEVENT
BEGIN:VEVENT
UID:63623831-3233-4232-b237-653637393735
DTSTAMP:20260422T010300Z
DESCRIPTION:1/3 Dansport - Turnov 3:0 (15\,21\,17)
DTSTART;TZID=Europe/Berlin:20230226T100000
DTEND;TZID=Europe/Berlin:20230226T120000
LOCATION:Sportovní hala Gymnázia Jana Keplera\, Parléřova 118 Praha - Hradč
 any
SUMMARY:1-U22Z-M: Dansport-Turnov
END:VEVENT
BEGIN:VEVENT
UID:63623435-3434-4231-b034-373064333738
DTSTAMP:20260422T010300Z
DESCRIPTION:2/6 Dansport - Turnov 3:0 (19\,14\,18)
DTSTART;TZID=Europe/Berlin:20230226T140000
DTEND;TZID=Europe/Berlin:20230226T160000
LOCATION:Sportovní hala Gymnázia Jana Keplera\, Parléřova 118 Praha - Hradč
 any
SUMMARY:1-U22Z-M: Dansport-Turnov
END:VEVENT
BEGIN:VEVENT
UID:36333934-3837-4939-b438-303361656535
DTSTAMP:20260422T010300Z
DESCRIPTION:5/13 Kladno - Turnov 3:1 (25\,25\,-20\,24)
DTSTART;TZID=Europe/Berlin:20230211T090000
DTEND;TZID=Europe/Berlin:20230211T110000
LOCATION:Kladenská sportovní hala\, Sportovců 817 Kladno - Rozdělov
SUMMARY:1-U22Z-M: Kladno-Turnov
END:VEVENT
BEGIN:VEVENT
UID:62616334-6335-4865-a435-363263656233
DTSTAMP:20260422T010300Z
DESCRIPTION:6/16 Kladno - Turnov 3:1 (15\,16\,-21\,19)
DTSTART;TZID=Europe/Berlin:20230211T130000
DTEND;TZID=Europe/Berlin:20230211T150000
LOCATION:Kladenská sportovní hala\, Sportovců 817 Kladno - Rozdělov
SUMMARY:1-U22Z-M: Kladno-Turnov
END:VEVENT
BEGIN:VEVENT
UID:61643135-6139-4234-a134-313162343430
DTSTAMP:20260422T010300Z
DESCRIPTION:9/26 Plzeň - Turnov 1:3 (-16\,-20\,20\,-23)
DTSTART;TZID=Europe/Berlin:20230204T100000
DTEND;TZID=Europe/Berlin:20230204T120000
LOCATION:Sportovní hala - SG Plzeň\, Vejprnická 663 Plzeň - Skvrňany
SUMMARY:1-U22Z-M: Plzeň-Turnov
END:VEVENT
BEGIN:VEVENT
UID:64363530-6634-4636-b133-343038396361
DTSTAMP:20260422T010300Z
DESCRIPTION:10/29 Plzeň - Turnov 0:3 (-16\,-16\,-23)
DTSTART;TZID=Europe/Berlin:20230204T140000
DTEND;TZID=Europe/Berlin:20230204T160000
LOCATION:Sportovní hala - SG Plzeň\, Vejprnická 663 Plzeň - Skvrňany
SUMMARY:1-U22Z-M: Plzeň-Turnov
END:VEVENT
END:VCALENDAR
