BEGIN:VCALENDAR
VERSION:2.0
PRODID:-//TJ Orion Praha79159//NONSGML kigkonsult.se iCalcreator 2.41.80//
CALSCALE:GREGORIAN
UID:64663933-3930-4335-a634-313638303831
BEGIN:VEVENT
UID:33363833-3837-4534-a634-623136313239
DTSTAMP:20260422T205159Z
DESCRIPTION:1/2 Orion - Kladno 3:2 (23\,-26\,22\,-21\,13)
DTSTART;TZID=Europe/Berlin:20220917T090000
DTEND;TZID=Europe/Berlin:20220917T110000
LOCATION:ZŠ Dolní Břežany\, Na Vršku 290 Dolní Břežany
SUMMARY:1-U22Z-A: Orion-Kladno
END:VEVENT
BEGIN:VEVENT
UID:39366132-3239-4363-a262-393437663631
DTSTAMP:20260422T205159Z
DESCRIPTION:2/5 Orion - Kladno 3:0 (21\,21\,23)
DTSTART;TZID=Europe/Berlin:20220917T130000
DTEND;TZID=Europe/Berlin:20220917T150000
LOCATION:ZŠ Dolní Břežany\, Na Vršku 290 Dolní Břežany
SUMMARY:1-U22Z-A: Orion-Kladno
END:VEVENT
BEGIN:VEVENT
UID:30643361-3139-4463-a364-323562316334
DTSTAMP:20260422T205159Z
DESCRIPTION:5/13 Orion - Žatec 3:2 (19\,-22\,-17\,17\,12)
DTSTART;TZID=Europe/Berlin:20221119T100000
DTEND;TZID=Europe/Berlin:20221119T120000
LOCATION:ZŠ Dolní Břežany\, Na Vršku 290 Dolní Břežany
SUMMARY:1-U22Z-A: Orion-Žatec
END:VEVENT
BEGIN:VEVENT
UID:62616533-6265-4238-b737-383666333064
DTSTAMP:20260422T205159Z
DESCRIPTION:6/16 Orion - Žatec 3:0 (21\,17\,18)
DTSTART;TZID=Europe/Berlin:20221119T140000
DTEND;TZID=Europe/Berlin:20221119T160000
LOCATION:ZŠ Dolní Břežany\, Na Vršku 290 Dolní Břežany
SUMMARY:1-U22Z-A: Orion-Žatec
END:VEVENT
BEGIN:VEVENT
UID:61306138-6366-4466-a138-646630343261
DTSTAMP:20260422T205159Z
DESCRIPTION:7/21 Orion - Plzeň 3:0 (15\,17\,13)
DTSTART;TZID=Europe/Berlin:20221106T110000
DTEND;TZID=Europe/Berlin:20221106T130000
LOCATION:ZŠ Dolní Břežany\, Na Vršku 290 Dolní Břežany
SUMMARY:1-U22Z-A: Orion-Plzeň
END:VEVENT
BEGIN:VEVENT
UID:32326237-6534-4433-b230-316365616130
DTSTAMP:20260422T205159Z
DESCRIPTION:8/24 Orion - Plzeň 3:0 (17\,20\,13)
DTSTART;TZID=Europe/Berlin:20221106T150000
DTEND;TZID=Europe/Berlin:20221106T170000
LOCATION:ZŠ Dolní Břežany\, Na Vršku 290 Dolní Břežany
SUMMARY:1-U22Z-A: Orion-Plzeň
END:VEVENT
BEGIN:VEVENT
UID:38323732-3732-4735-b330-613833646430
DTSTAMP:20260422T205159Z
DESCRIPTION:13/39 Orion - Teplice 3:0 (24\,24\,22)
DTSTART;TZID=Europe/Berlin:20230108T100000
DTEND;TZID=Europe/Berlin:20230108T120000
LOCATION:ZŠ Dolní Břežany\, Na Vršku 290 Dolní Břežany
SUMMARY:1-U22Z-A: Orion-Teplice
END:VEVENT
BEGIN:VEVENT
UID:39313131-3066-4930-a266-353534316663
DTSTAMP:20260422T205159Z
DESCRIPTION:14/42 Orion - Teplice 3:0 (11\,21\,14)
DTSTART;TZID=Europe/Berlin:20230108T140000
DTEND;TZID=Europe/Berlin:20230108T160000
LOCATION:ZŠ Dolní Břežany\, Na Vršku 290 Dolní Břežany
SUMMARY:1-U22Z-A: Orion-Teplice
END:VEVENT
BEGIN:VEVENT
UID:39306337-3766-4132-b630-633435613138
DTSTAMP:20260422T205159Z
DESCRIPTION:19/56 Orion - Dansport 3:0 (11\,10\,22)
DTSTART;TZID=Europe/Berlin:20230114T100000
DTEND;TZID=Europe/Berlin:20230114T120000
LOCATION:ZŠ Dolní Břežany\, Na Vršku 290 Dolní Břežany
SUMMARY:1-U22Z-A: Orion-Dansport
END:VEVENT
BEGIN:VEVENT
UID:36373338-3565-4231-b130-666663396363
DTSTAMP:20260422T205159Z
DESCRIPTION:20/59 Orion - Dansport 3:0 (10\,24\,17)
DTSTART;TZID=Europe/Berlin:20230114T140000
DTEND;TZID=Europe/Berlin:20230114T160000
LOCATION:ZŠ Dolní Břežany\, Na Vršku 290 Dolní Břežany
SUMMARY:1-U22Z-A: Orion-Dansport
END:VEVENT
BEGIN:VEVENT
UID:66343236-3539-4462-b435-396363326535
DTSTAMP:20260422T205159Z
DESCRIPTION:3/9 Teplice - Orion 0:3 (-24\,-20\,-21)
DTSTART;TZID=Europe/Berlin:20221001T110000
DTEND;TZID=Europe/Berlin:20221001T130000
LOCATION:Hotelová škola\, Smetanovo náměstí 786 Teplice - Trnovany
SUMMARY:1-U22Z-A: Teplice-Orion
END:VEVENT
BEGIN:VEVENT
UID:61346364-6136-4062-a139-613761643262
DTSTAMP:20260422T205159Z
DESCRIPTION:4/12 Teplice - Orion 3:1 (19\,-22\,20\,24)
DTSTART;TZID=Europe/Berlin:20221001T150000
DTEND;TZID=Europe/Berlin:20221001T170000
LOCATION:Hotelová škola\, Smetanovo náměstí 786 Teplice - Trnovany
SUMMARY:1-U22Z-A: Teplice-Orion
END:VEVENT
BEGIN:VEVENT
UID:37363261-3236-4433-b866-653038316432
DTSTAMP:20260422T205159Z
DESCRIPTION:9/26 Dansport - Orion 0:3 (-6\,-22\,-13)
DTSTART;TZID=Europe/Berlin:20221105T100000
DTEND;TZID=Europe/Berlin:20221105T120000
LOCATION:Sportovní hala Gymnázia Jana Keplera\, Parléřova 118 Praha - Hradč
 any
SUMMARY:1-U22Z-A: Dansport-Orion
END:VEVENT
BEGIN:VEVENT
UID:31666138-3938-4365-b762-313263373262
DTSTAMP:20260422T205159Z
DESCRIPTION:10/29 Dansport - Orion 0:3 (-9\,-20\,-17)
DTSTART;TZID=Europe/Berlin:20221105T140000
DTEND;TZID=Europe/Berlin:20221105T160000
LOCATION:Sportovní hala Gymnázia Jana Keplera\, Parléřova 118 Praha - Hradč
 any
SUMMARY:1-U22Z-A: Dansport-Orion
END:VEVENT
BEGIN:VEVENT
UID:66663764-3631-4239-a436-356532346164
DTSTAMP:20260422T205159Z
DESCRIPTION:11/32 Kladno - Orion 2:3 (17\,-11\,-14\,21\,-8)
DTSTART;TZID=Europe/Berlin:20221112T110000
DTEND;TZID=Europe/Berlin:20221112T130000
LOCATION:Kladenská sportovní hala\, Sportovců 817 Kladno - Rozdělov
SUMMARY:1-U22Z-A: Kladno-Orion
END:VEVENT
BEGIN:VEVENT
UID:30326239-6336-4534-b062-316332623566
DTSTAMP:20260422T205159Z
DESCRIPTION:12/35 Kladno - Orion 3:1 (-22\,26\,23\,23)
DTSTART;TZID=Europe/Berlin:20221112T150000
DTEND;TZID=Europe/Berlin:20221112T170000
LOCATION:Kladenská sportovní hala\, Sportovců 817 Kladno - Rozdělov
SUMMARY:1-U22Z-A: Kladno-Orion
END:VEVENT
BEGIN:VEVENT
UID:31616366-3866-4366-b836-653433376331
DTSTAMP:20260422T205159Z
DESCRIPTION:15/43 Žatec - Orion 0:3 (-31\,-18\,-14)
DTSTART;TZID=Europe/Berlin:20221008T110000
DTEND;TZID=Europe/Berlin:20221008T130000
LOCATION:Sportovní hala TJ Sever Žatec\, Plzeňská 2787 Žatec
SUMMARY:1-U22Z-A: Žatec-Orion
END:VEVENT
BEGIN:VEVENT
UID:39616539-3832-4938-b832-333562313732
DTSTAMP:20260422T205159Z
DESCRIPTION:16/46 Žatec - Orion 3:1 (13\,18\,-19\,26)
DTSTART;TZID=Europe/Berlin:20221008T150000
DTEND;TZID=Europe/Berlin:20221008T170000
LOCATION:Sportovní hala TJ Sever Žatec\, Plzeňská 2787 Žatec
SUMMARY:1-U22Z-A: Žatec-Orion
END:VEVENT
BEGIN:VEVENT
UID:34633933-3162-4166-b133-373165303037
DTSTAMP:20260422T205159Z
DESCRIPTION:17/51 Plzeň - Orion 0:3 (-13\,-23\,-15)
DTSTART;TZID=Europe/Berlin:20221217T110000
DTEND;TZID=Europe/Berlin:20221217T130000
LOCATION:Sportovní hala - SG Plzeň\, Vejprnická 663 Plzeň - Skvrňany
SUMMARY:1-U22Z-A: Plzeň-Orion
END:VEVENT
BEGIN:VEVENT
UID:65656538-6566-4038-b866-316634303635
DTSTAMP:20260422T205159Z
DESCRIPTION:18/54 Plzeň - Orion 0:3 (-14\,-16\,-9)
DTSTART;TZID=Europe/Berlin:20221217T150000
DTEND;TZID=Europe/Berlin:20221217T170000
LOCATION:Sportovní hala - SG Plzeň\, Vejprnická 663 Plzeň - Skvrňany
SUMMARY:1-U22Z-A: Plzeň-Orion
END:VEVENT
BEGIN:VEVENT
UID:63396430-6432-4833-a532-313233393738
DTSTAMP:20260422T205159Z
DESCRIPTION:1/1 Orion - Mikulova 2:3 (23\,-23\,-19\,22\,-13)
DTSTART;TZID=Europe/Berlin:20230128T090000
DTEND;TZID=Europe/Berlin:20230128T110000
LOCATION:ZŠ Dolní Břežany\, Na Vršku 290 Dolní Břežany
SUMMARY:1-U22Z-I: Orion-Mikulova
END:VEVENT
BEGIN:VEVENT
UID:35393839-3762-4135-b665-643834353233
DTSTAMP:20260422T205159Z
DESCRIPTION:2/4 Orion - Mikulova 1:3 (7\,-18\,-20\,-18)
DTSTART;TZID=Europe/Berlin:20230128T130000
DTEND;TZID=Europe/Berlin:20230128T150000
LOCATION:ZŠ Dolní Břežany\, Na Vršku 290 Dolní Břežany
SUMMARY:1-U22Z-I: Orion-Mikulova
END:VEVENT
BEGIN:VEVENT
UID:62343132-6163-4035-a236-376138343538
DTSTAMP:20260422T205159Z
DESCRIPTION:5/13 Orion - Kometa 2:3 (20\,-14\,-21\,23\,-10)
DTSTART;TZID=Europe/Berlin:20230211T090000
DTEND;TZID=Europe/Berlin:20230211T110000
LOCATION:ZŠ Dolní Břežany\, Na Vršku 290 Dolní Břežany
SUMMARY:1-U22Z-I: Orion-Kometa
END:VEVENT
BEGIN:VEVENT
UID:33656430-3733-4137-a539-353265653036
DTSTAMP:20260422T205159Z
DESCRIPTION:6/16 Orion - Kometa 1:3 (23\,-24\,-22\,-16)
DTSTART;TZID=Europe/Berlin:20230211T130000
DTEND;TZID=Europe/Berlin:20230211T150000
LOCATION:ZŠ Dolní Břežany\, Na Vršku 290 Dolní Břežany
SUMMARY:1-U22Z-I: Orion-Kometa
END:VEVENT
BEGIN:VEVENT
UID:63393932-6635-4066-b164-666135656239
DTSTAMP:20260422T205159Z
DESCRIPTION:9/25 Orion - Bižuterie - SG B 3:0 (15\,17\,20)
DTSTART;TZID=Europe/Berlin:20230311T100000
DTEND;TZID=Europe/Berlin:20230311T120000
LOCATION:ZŠ Dolní Břežany\, Na Vršku 290 Dolní Břežany
SUMMARY:1-U22Z-I: Orion-Bižuterie - SG B
END:VEVENT
BEGIN:VEVENT
UID:66323033-6465-4131-a666-396632326464
DTSTAMP:20260422T205159Z
DESCRIPTION:10/28 Orion - Bižuterie - SG B 3:0 (16\,20\,13)
DTSTART;TZID=Europe/Berlin:20230311T140000
DTEND;TZID=Europe/Berlin:20230311T160000
LOCATION:ZŠ Dolní Břežany\, Na Vršku 290 Dolní Břežany
SUMMARY:1-U22Z-I: Orion-Bižuterie - SG B
END:VEVENT
BEGIN:VEVENT
UID:31353531-3663-4639-a134-653836636535
DTSTAMP:20260422T205159Z
DESCRIPTION:3/7 Bižuterie - SG B - Orion 3:0 (28\,16\,21)
DTSTART;TZID=Europe/Berlin:20230204T100000
DTEND;TZID=Europe/Berlin:20230204T120000
LOCATION:Městská sportovní hala\, U Přehrady 4747 Jablonec nad Nisou
SUMMARY:1-U22Z-I: Bižuterie - SG B-Orion
END:VEVENT
BEGIN:VEVENT
UID:34356538-3235-4433-a165-643835623634
DTSTAMP:20260422T205159Z
DESCRIPTION:4/10 Bižuterie - SG B - Orion 3:0 (19\,13\,22)
DTSTART;TZID=Europe/Berlin:20230204T140000
DTEND;TZID=Europe/Berlin:20230204T160000
LOCATION:Městská sportovní hala\, U Přehrady 4747 Jablonec nad Nisou
SUMMARY:1-U22Z-I: Bižuterie - SG B-Orion
END:VEVENT
BEGIN:VEVENT
UID:64613363-6464-4832-b162-636538326439
DTSTAMP:20260422T205159Z
DESCRIPTION:7/19 Mikulova - Orion 2:3 (20\,14\,-21\,-10\,-5)
DTSTART;TZID=Europe/Berlin:20230304T100000
DTEND;TZID=Europe/Berlin:20230304T120000
LOCATION:Sportovní hala Čestlice\, Průhonická 305 Čestlice
SUMMARY:1-U22Z-I: Mikulova-Orion
END:VEVENT
BEGIN:VEVENT
UID:30636138-3365-4632-a139-643839363362
DTSTAMP:20260422T205159Z
DESCRIPTION:8/22 Mikulova - Orion 3:0 (22\,22\,23)
DTSTART;TZID=Europe/Berlin:20230304T140000
DTEND;TZID=Europe/Berlin:20230304T160000
LOCATION:Sportovní hala Čestlice\, Průhonická 305 Čestlice
SUMMARY:1-U22Z-I: Mikulova-Orion
END:VEVENT
BEGIN:VEVENT
UID:30663235-3163-4839-a136-343565623261
DTSTAMP:20260422T205159Z
DESCRIPTION:11/31 Kometa - Orion 2:3 (15\,-18\,17\,-23\,-9)
DTSTART;TZID=Europe/Berlin:20230225T100000
DTEND;TZID=Europe/Berlin:20230225T120000
LOCATION:Tělocvična ZŠ Na Šutce\, Na Šutce 440 Praha - Troja
SUMMARY:1-U22Z-I: Kometa-Orion
END:VEVENT
BEGIN:VEVENT
UID:36363831-3737-4534-b665-366439333636
DTSTAMP:20260422T205159Z
DESCRIPTION:12/34 Kometa - Orion 3:2 (18\,-25\,24\,-20\,14)
DTSTART;TZID=Europe/Berlin:20230225T140000
DTEND;TZID=Europe/Berlin:20230225T160000
LOCATION:Tělocvična ZŠ Na Šutce\, Na Šutce 440 Praha - Troja
SUMMARY:1-U22Z-I: Kometa-Orion
END:VEVENT
END:VCALENDAR
