BEGIN:VCALENDAR
VERSION:2.0
PRODID:-//VK Šanov Teplice79163//NONSGML kigkonsult.se iCalcreator 2.41.80//
CALSCALE:GREGORIAN
UID:38373862-3039-4435-b862-386134316530
BEGIN:VEVENT
UID:37666433-3532-4334-b730-363030313430
DTSTAMP:20260422T154813Z
DESCRIPTION:1/1 Teplice - Žatec 3:1 (-18\,17\,19\,12)
DTSTART;TZID=Europe/Berlin:20221015T100000
DTEND;TZID=Europe/Berlin:20221015T120000
LOCATION:Hotelová škola\, Smetanovo náměstí 786 Teplice - Trnovany
SUMMARY:1-U22Z-A: Teplice-Žatec
END:VEVENT
BEGIN:VEVENT
UID:66323333-6230-4939-b137-346432623232
DTSTAMP:20260422T154813Z
DESCRIPTION:2/4 Teplice - Žatec 0:3 (-21\,-12\,-19)
DTSTART;TZID=Europe/Berlin:20221015T140000
DTEND;TZID=Europe/Berlin:20221015T160000
LOCATION:Hotelová škola\, Smetanovo náměstí 786 Teplice - Trnovany
SUMMARY:1-U22Z-A: Teplice-Žatec
END:VEVENT
BEGIN:VEVENT
UID:38336230-6236-4865-b366-643261616132
DTSTAMP:20260422T154813Z
DESCRIPTION:3/9 Teplice - Orion 0:3 (-24\,-20\,-21)
DTSTART;TZID=Europe/Berlin:20221001T110000
DTEND;TZID=Europe/Berlin:20221001T130000
LOCATION:Hotelová škola\, Smetanovo náměstí 786 Teplice - Trnovany
SUMMARY:1-U22Z-A: Teplice-Orion
END:VEVENT
BEGIN:VEVENT
UID:34663939-3239-4237-b264-396363366531
DTSTAMP:20260422T154813Z
DESCRIPTION:4/12 Teplice - Orion 3:1 (19\,-22\,20\,24)
DTSTART;TZID=Europe/Berlin:20221001T150000
DTEND;TZID=Europe/Berlin:20221001T170000
LOCATION:Hotelová škola\, Smetanovo náměstí 786 Teplice - Trnovany
SUMMARY:1-U22Z-A: Teplice-Orion
END:VEVENT
BEGIN:VEVENT
UID:30653538-6634-4531-b466-346562616364
DTSTAMP:20260422T154813Z
DESCRIPTION:7/20 Teplice - Dansport 2:3 (21\,23\,-23\,-15\,-5)
DTSTART;TZID=Europe/Berlin:20230107T100000
DTEND;TZID=Europe/Berlin:20230107T120000
LOCATION:Hotelová škola\, Smetanovo náměstí 786 Teplice - Trnovany
SUMMARY:1-U22Z-A: Teplice-Dansport
END:VEVENT
BEGIN:VEVENT
UID:37386432-3561-4530-b966-326534666333
DTSTAMP:20260422T154813Z
DESCRIPTION:8/23 Teplice - Dansport 3:0 (20\,25\,13)
DTSTART;TZID=Europe/Berlin:20230107T140000
DTEND;TZID=Europe/Berlin:20230107T160000
LOCATION:Hotelová škola\, Smetanovo náměstí 786 Teplice - Trnovany
SUMMARY:1-U22Z-A: Teplice-Dansport
END:VEVENT
BEGIN:VEVENT
UID:62303930-6435-4666-b363-363565663538
DTSTAMP:20260422T154813Z
DESCRIPTION:15/44 Teplice - Plzeň 3:1 (17\,-19\,14\,14)
DTSTART;TZID=Europe/Berlin:20221210T110000
DTEND;TZID=Europe/Berlin:20221210T130000
LOCATION:Hotelová škola\, Smetanovo náměstí 786 Teplice - Trnovany
SUMMARY:1-U22Z-A: Teplice-Plzeň
END:VEVENT
BEGIN:VEVENT
UID:66383163-3530-4531-a464-306666396434
DTSTAMP:20260422T154813Z
DESCRIPTION:16/47 Teplice - Plzeň 3:0 (21\,21\,23)
DTSTART;TZID=Europe/Berlin:20221210T150000
DTEND;TZID=Europe/Berlin:20221210T170000
LOCATION:Hotelová škola\, Smetanovo náměstí 786 Teplice - Trnovany
SUMMARY:1-U22Z-A: Teplice-Plzeň
END:VEVENT
BEGIN:VEVENT
UID:64633965-3139-4430-a633-663134386362
DTSTAMP:20260422T154813Z
DESCRIPTION:19/57 Teplice - Kladno 0:3 (-18\,-13\,-18)
DTSTART;TZID=Europe/Berlin:20230114T090000
DTEND;TZID=Europe/Berlin:20230114T110000
LOCATION:Hotelová škola\, Smetanovo náměstí 786 Teplice - Trnovany
SUMMARY:1-U22Z-A: Teplice-Kladno
END:VEVENT
BEGIN:VEVENT
UID:38656639-6666-4563-a637-386164653135
DTSTAMP:20260422T154813Z
DESCRIPTION:20/60 Teplice - Kladno 0:3 (-15\,-24\,-25)
DTSTART;TZID=Europe/Berlin:20230114T130000
DTEND;TZID=Europe/Berlin:20230114T150000
LOCATION:Hotelová škola\, Smetanovo náměstí 786 Teplice - Trnovany
SUMMARY:1-U22Z-A: Teplice-Kladno
END:VEVENT
BEGIN:VEVENT
UID:36393837-6630-4565-a638-393637666561
DTSTAMP:20260422T154813Z
DESCRIPTION:5/14 Plzeň - Teplice 1:3 (-22\,-12\,23\,-18)
DTSTART;TZID=Europe/Berlin:20221008T110000
DTEND;TZID=Europe/Berlin:20221008T130000
LOCATION:Městská sportovní hala  -  hala 2\, Úslavská 2357 Plzeň - Východní
  Předměstí
SUMMARY:1-U22Z-A: Plzeň-Teplice
END:VEVENT
BEGIN:VEVENT
UID:66653462-6339-4663-b539-373761663064
DTSTAMP:20260422T154813Z
DESCRIPTION:6/17 Plzeň - Teplice 2:3 (-13\,19\,-22\,20\,-7)
DTSTART;TZID=Europe/Berlin:20221008T150000
DTEND;TZID=Europe/Berlin:20221008T170000
LOCATION:Městská sportovní hala  -  hala 2\, Úslavská 2357 Plzeň - Východní
  Předměstí
SUMMARY:1-U22Z-A: Plzeň-Teplice
END:VEVENT
BEGIN:VEVENT
UID:31633961-3463-4463-b038-383837386661
DTSTAMP:20260422T154813Z
DESCRIPTION:9/27 Kladno - Teplice 0:3 (-18\,-13\,-22)
DTSTART;TZID=Europe/Berlin:20221105T110000
DTEND;TZID=Europe/Berlin:20221105T130000
LOCATION:Kladenská sportovní hala\, Sportovců 817 Kladno - Rozdělov
SUMMARY:1-U22Z-A: Kladno-Teplice
END:VEVENT
BEGIN:VEVENT
UID:30366664-6331-4663-b338-633064336537
DTSTAMP:20260422T154813Z
DESCRIPTION:10/30 Kladno - Teplice 0:3 (-19\,-16\,-16)
DTSTART;TZID=Europe/Berlin:20221105T150000
DTEND;TZID=Europe/Berlin:20221105T170000
LOCATION:Kladenská sportovní hala\, Sportovců 817 Kladno - Rozdělov
SUMMARY:1-U22Z-A: Kladno-Teplice
END:VEVENT
BEGIN:VEVENT
UID:39333339-6435-4335-a337-326531656166
DTSTAMP:20260422T154813Z
DESCRIPTION:11/31 Žatec - Teplice 3:1 (26\,16\,-21\,19)
DTSTART;TZID=Europe/Berlin:20221112T110000
DTEND;TZID=Europe/Berlin:20221112T130000
LOCATION:Sportovní hala TJ Sever Žatec\, Plzeňská 2787 Žatec
SUMMARY:1-U22Z-A: Žatec-Teplice
END:VEVENT
BEGIN:VEVENT
UID:39343038-3333-4636-b837-393564653134
DTSTAMP:20260422T154813Z
DESCRIPTION:12/34 Žatec - Teplice 3:0 (20\,15\,14)
DTSTART;TZID=Europe/Berlin:20221112T150000
DTEND;TZID=Europe/Berlin:20221112T170000
LOCATION:Sportovní hala TJ Sever Žatec\, Plzeňská 2787 Žatec
SUMMARY:1-U22Z-A: Žatec-Teplice
END:VEVENT
BEGIN:VEVENT
UID:64343839-3037-4439-b336-316639396261
DTSTAMP:20260422T154813Z
DESCRIPTION:13/39 Orion - Teplice 3:0 (24\,24\,22)
DTSTART;TZID=Europe/Berlin:20230108T100000
DTEND;TZID=Europe/Berlin:20230108T120000
LOCATION:ZŠ Dolní Břežany\, Na Vršku 290 Dolní Břežany
SUMMARY:1-U22Z-A: Orion-Teplice
END:VEVENT
BEGIN:VEVENT
UID:31313164-3365-4365-a138-666433666134
DTSTAMP:20260422T154813Z
DESCRIPTION:14/42 Orion - Teplice 3:0 (11\,21\,14)
DTSTART;TZID=Europe/Berlin:20230108T140000
DTEND;TZID=Europe/Berlin:20230108T160000
LOCATION:ZŠ Dolní Břežany\, Na Vršku 290 Dolní Břežany
SUMMARY:1-U22Z-A: Orion-Teplice
END:VEVENT
BEGIN:VEVENT
UID:64653462-6432-4039-b532-353164356133
DTSTAMP:20260422T154813Z
DESCRIPTION:17/50 Dansport - Teplice 0:3 (-17\,-14\,-17)
DTSTART;TZID=Europe/Berlin:20221217T100000
DTEND;TZID=Europe/Berlin:20221217T120000
LOCATION:Sportovní hala Gymnázia Jana Keplera\, Parléřova 118 Praha - Hradč
 any
SUMMARY:1-U22Z-A: Dansport-Teplice
END:VEVENT
BEGIN:VEVENT
UID:37643637-3631-4037-b338-313462356435
DTSTAMP:20260422T154813Z
DESCRIPTION:18/53 Dansport - Teplice 0:3 (-14\,-12\,-14)
DTSTART;TZID=Europe/Berlin:20221217T140000
DTEND;TZID=Europe/Berlin:20221217T160000
LOCATION:Sportovní hala Gymnázia Jana Keplera\, Parléřova 118 Praha - Hradč
 any
SUMMARY:1-U22Z-A: Dansport-Teplice
END:VEVENT
BEGIN:VEVENT
UID:30653938-6538-4862-b534-323361626436
DTSTAMP:20260422T154813Z
DESCRIPTION:1/3 Teplice - Kometa 1:3 (-20\,23\,-17\,-16)
DTSTART;TZID=Europe/Berlin:20230325T100000
DTEND;TZID=Europe/Berlin:20230325T120000
LOCATION:Hotelová škola\, Smetanovo náměstí 786 Teplice - Trnovany
SUMMARY:1-U22Z-I: Teplice-Kometa
END:VEVENT
BEGIN:VEVENT
UID:38333730-3730-4562-b630-343732366261
DTSTAMP:20260422T154813Z
DESCRIPTION:2/6 Teplice - Kometa 0:3 (-23\,-14\,-18)
DTSTART;TZID=Europe/Berlin:20230325T140000
DTEND;TZID=Europe/Berlin:20230325T160000
LOCATION:Hotelová škola\, Smetanovo náměstí 786 Teplice - Trnovany
SUMMARY:1-U22Z-I: Teplice-Kometa
END:VEVENT
BEGIN:VEVENT
UID:33623232-3562-4630-b436-316233616363
DTSTAMP:20260422T154813Z
DESCRIPTION:5/15 Teplice - Bižuterie - SG B 1:3 (-17\,-15\,33\,-20)
DTSTART;TZID=Europe/Berlin:20230319T100000
DTEND;TZID=Europe/Berlin:20230319T120000
LOCATION:Hotelová škola\, Smetanovo náměstí 786 Teplice - Trnovany
SUMMARY:1-U22Z-I: Teplice-Bižuterie - SG B
END:VEVENT
BEGIN:VEVENT
UID:33386438-3536-4166-b333-623864383561
DTSTAMP:20260422T154813Z
DESCRIPTION:6/18 Teplice - Bižuterie - SG B 2:3 (21\,26\,-20\,-13\,-10)
DTSTART;TZID=Europe/Berlin:20230319T140000
DTEND;TZID=Europe/Berlin:20230319T160000
LOCATION:Hotelová škola\, Smetanovo náměstí 786 Teplice - Trnovany
SUMMARY:1-U22Z-I: Teplice-Bižuterie - SG B
END:VEVENT
BEGIN:VEVENT
UID:62646462-3739-4636-b531-303666363361
DTSTAMP:20260422T154813Z
DESCRIPTION:9/27 Teplice - Mikulova 0:3 (-10\,-19\,-15)
DTSTART;TZID=Europe/Berlin:20230311T100000
DTEND;TZID=Europe/Berlin:20230311T120000
LOCATION:Hotelová škola\, Smetanovo náměstí 786 Teplice - Trnovany
SUMMARY:1-U22Z-I: Teplice-Mikulova
END:VEVENT
BEGIN:VEVENT
UID:33616133-6431-4038-b930-363130613061
DTSTAMP:20260422T154813Z
DESCRIPTION:10/30 Teplice - Mikulova 2:3 (16\,-23\,16\,-17\,-13)
DTSTART;TZID=Europe/Berlin:20230311T140000
DTEND;TZID=Europe/Berlin:20230311T160000
LOCATION:Hotelová škola\, Smetanovo náměstí 786 Teplice - Trnovany
SUMMARY:1-U22Z-I: Teplice-Mikulova
END:VEVENT
BEGIN:VEVENT
UID:32323938-3933-4931-b630-393835366637
DTSTAMP:20260422T154813Z
DESCRIPTION:3/9 Mikulova - Teplice 3:0 (20\,16\,15)
DTSTART;TZID=Europe/Berlin:20230204T100000
DTEND;TZID=Europe/Berlin:20230204T120000
LOCATION:Sportovní hala Čestlice\, Průhonická 305 Čestlice
SUMMARY:1-U22Z-I: Mikulova-Teplice
END:VEVENT
BEGIN:VEVENT
UID:30303830-3762-4339-b632-616235366537
DTSTAMP:20260422T154813Z
DESCRIPTION:4/12 Mikulova - Teplice 3:0 (15\,20\,17)
DTSTART;TZID=Europe/Berlin:20230204T140000
DTEND;TZID=Europe/Berlin:20230204T160000
LOCATION:Sportovní hala Čestlice\, Průhonická 305 Čestlice
SUMMARY:1-U22Z-I: Mikulova-Teplice
END:VEVENT
BEGIN:VEVENT
UID:37383564-6633-4264-a138-346333636636
DTSTAMP:20260422T154813Z
DESCRIPTION:7/21 Kometa - Teplice 3:0 (18\,22\,14)
DTSTART;TZID=Europe/Berlin:20230326T100000
DTEND;TZID=Europe/Berlin:20230326T120000
LOCATION:Tělocvična ZŠ Na Šutce\, Na Šutce 440 Praha - Troja
SUMMARY:1-U22Z-I: Kometa-Teplice
END:VEVENT
BEGIN:VEVENT
UID:39313237-3637-4264-a430-316435373330
DTSTAMP:20260422T154813Z
DESCRIPTION:8/24 Kometa - Teplice 3:0 (23\,14\,18)
DTSTART;TZID=Europe/Berlin:20230326T140000
DTEND;TZID=Europe/Berlin:20230326T160000
LOCATION:Tělocvična ZŠ Na Šutce\, Na Šutce 440 Praha - Troja
SUMMARY:1-U22Z-I: Kometa-Teplice
END:VEVENT
BEGIN:VEVENT
UID:35303361-3334-4631-a139-306265353535
DTSTAMP:20260422T154813Z
DESCRIPTION:11/33 Bižuterie - SG B - Teplice 3:0 (12\,21\,22)
DTSTART;TZID=Europe/Berlin:20230402T100000
DTEND;TZID=Europe/Berlin:20230402T120000
LOCATION:Městská sportovní hala\, U Přehrady 4747 Jablonec nad Nisou
SUMMARY:1-U22Z-I: Bižuterie - SG B-Teplice
END:VEVENT
BEGIN:VEVENT
UID:32393666-3036-4365-a134-343366633963
DTSTAMP:20260422T154813Z
DESCRIPTION:12/36 Bižuterie - SG B - Teplice 3:0 (11\,20\,20)
DTSTART;TZID=Europe/Berlin:20230402T140000
DTEND;TZID=Europe/Berlin:20230402T160000
LOCATION:Městská sportovní hala\, U Přehrady 4747 Jablonec nad Nisou
SUMMARY:1-U22Z-I: Bižuterie - SG B-Teplice
END:VEVENT
END:VCALENDAR
