BEGIN:VCALENDAR
VERSION:2.0
PRODID:-//SK Kojetín 201679164//NONSGML kigkonsult.se iCalcreator 2.41.80//
CALSCALE:GREGORIAN
UID:66306262-6131-4065-b838-353338656637
BEGIN:VEVENT
UID:30626438-3462-4530-a333-303431393630
DTSTAMP:20260421T192720Z
DESCRIPTION:3/7 Kojetín - Jehnice 3:0 (29\,18\,23)
DTSTART;TZID=Europe/Berlin:20221001T100000
DTEND;TZID=Europe/Berlin:20221001T120000
LOCATION:Městská sportovní hala\, Hanusíkova 1476 Kojetín - Kojetín I-Město
SUMMARY:1-U22Z-C: Kojetín-Jehnice
END:VEVENT
BEGIN:VEVENT
UID:36643565-3765-4638-b131-613030343166
DTSTAMP:20260421T192720Z
DESCRIPTION:4/10 Kojetín - Jehnice 1:3 (23\,-23\,-22\,-20)
DTSTART;TZID=Europe/Berlin:20221001T140000
DTEND;TZID=Europe/Berlin:20221001T160000
LOCATION:Městská sportovní hala\, Hanusíkova 1476 Kojetín - Kojetín I-Město
SUMMARY:1-U22Z-C: Kojetín-Jehnice
END:VEVENT
BEGIN:VEVENT
UID:65383231-3063-4161-b032-663437643536
DTSTAMP:20260421T192720Z
DESCRIPTION:7/19 Kojetín - Ostrava B 3:0 (22\,16\,18)
DTSTART;TZID=Europe/Berlin:20221029T090000
DTEND;TZID=Europe/Berlin:20221029T110000
LOCATION:Městská sportovní hala\, Hanusíkova 1476 Kojetín - Kojetín I-Město
SUMMARY:1-U22Z-C: Kojetín-Ostrava B
END:VEVENT
BEGIN:VEVENT
UID:64343338-3065-4033-a463-643038623866
DTSTAMP:20260421T192720Z
DESCRIPTION:8/22 Kojetín - Ostrava B 3:1 (15\,-22\,23\,13)
DTSTART;TZID=Europe/Berlin:20221029T130000
DTEND;TZID=Europe/Berlin:20221029T150000
LOCATION:Městská sportovní hala\, Hanusíkova 1476 Kojetín - Kojetín I-Město
SUMMARY:1-U22Z-C: Kojetín-Ostrava B
END:VEVENT
BEGIN:VEVENT
UID:65383662-6232-4034-a239-326533383533
DTSTAMP:20260421T192720Z
DESCRIPTION:11/31 Kojetín - Frenštát p. R. 3:1 (15\,-20\,11\,19)
DTSTART;TZID=Europe/Berlin:20221113T100000
DTEND;TZID=Europe/Berlin:20221113T120000
LOCATION:Městská sportovní hala\, Hanusíkova 1476 Kojetín - Kojetín I-Město
SUMMARY:1-U22Z-C: Kojetín-Frenštát p. R.
END:VEVENT
BEGIN:VEVENT
UID:63613936-6439-4239-a330-303730346432
DTSTAMP:20260421T192720Z
DESCRIPTION:12/34 Kojetín - Frenštát p. R. 3:0 (11\,7\,15)
DTSTART;TZID=Europe/Berlin:20221113T140000
DTEND;TZID=Europe/Berlin:20221113T160000
LOCATION:Městská sportovní hala\, Hanusíkova 1476 Kojetín - Kojetín I-Město
SUMMARY:1-U22Z-C: Kojetín-Frenštát p. R.
END:VEVENT
BEGIN:VEVENT
UID:31336432-3239-4431-a465-333239616265
DTSTAMP:20260421T192720Z
DESCRIPTION:15/43 Kojetín - Brno 1:3 (-6\,19\,-11\,-21)
DTSTART;TZID=Europe/Berlin:20221210T100000
DTEND;TZID=Europe/Berlin:20221210T120000
LOCATION:Městská sportovní hala\, Hanusíkova 1476 Kojetín - Kojetín I-Město
SUMMARY:1-U22Z-C: Kojetín-Brno
END:VEVENT
BEGIN:VEVENT
UID:39323964-3065-4237-b534-636264366438
DTSTAMP:20260421T192720Z
DESCRIPTION:16/46 Kojetín - Brno 0:3 (-13\,-11\,-9)
DTSTART;TZID=Europe/Berlin:20221210T140000
DTEND;TZID=Europe/Berlin:20221210T160000
LOCATION:Městská sportovní hala\, Hanusíkova 1476 Kojetín - Kojetín I-Město
SUMMARY:1-U22Z-C: Kojetín-Brno
END:VEVENT
BEGIN:VEVENT
UID:66383238-6566-4538-b362-626464303235
DTSTAMP:20260421T192720Z
DESCRIPTION:1/1 Frenštát p. R. - Kojetín 0:3 (-17\,-17\,-16)
DTSTART;TZID=Europe/Berlin:20220917T110000
DTEND;TZID=Europe/Berlin:20220917T130000
LOCATION:Tělocvična ZŠ Tyršova\, Frenštát\, Tyršova 913 Frenštát pod Radhoš
 těm
SUMMARY:1-U22Z-C: Frenštát p. R.-Kojetín
END:VEVENT
BEGIN:VEVENT
UID:36656336-3132-4637-b162-323833663833
DTSTAMP:20260421T192720Z
DESCRIPTION:2/4 Frenštát p. R. - Kojetín 0:3 (-15\,-11\,-6)
DTSTART;TZID=Europe/Berlin:20220917T150000
DTEND;TZID=Europe/Berlin:20220917T170000
LOCATION:Tělocvična ZŠ Tyršova\, Frenštát\, Tyršova 913 Frenštát pod Radhoš
 těm
SUMMARY:1-U22Z-C: Frenštát p. R.-Kojetín
END:VEVENT
BEGIN:VEVENT
UID:31613633-3238-4331-a266-353634663666
DTSTAMP:20260421T192720Z
DESCRIPTION:5/13 Brno - Kojetín 3:1 (17\,-22\,22\,21)
DTSTART;TZID=Europe/Berlin:20221008T110000
DTEND;TZID=Europe/Berlin:20221008T130000
LOCATION:ZŠ Holzova 1\, Holzova 1461 Brno - Líšeň
SUMMARY:1-U22Z-C: Brno-Kojetín
END:VEVENT
BEGIN:VEVENT
UID:33616333-6462-4832-a662-346266396438
DTSTAMP:20260421T192720Z
DESCRIPTION:6/16 Brno - Kojetín 3:0 (13\,16\,16)
DTSTART;TZID=Europe/Berlin:20221008T160000
DTEND;TZID=Europe/Berlin:20221008T180000
LOCATION:ZŠ Holzova 1\, Holzova 1461 Brno - Líšeň
SUMMARY:1-U22Z-C: Brno-Kojetín
END:VEVENT
BEGIN:VEVENT
UID:63626364-6332-4365-a266-353062333836
DTSTAMP:20260421T192720Z
DESCRIPTION:13/37 Jehnice - Kojetín 3:1 (24\,-20\,20\,10)
DTSTART;TZID=Europe/Berlin:20221203T100000
DTEND;TZID=Europe/Berlin:20221203T120000
LOCATION:TJ Sokol Jehnice\, Blanenská 1 Brno - Jehnice
SUMMARY:1-U22Z-C: Jehnice-Kojetín
END:VEVENT
BEGIN:VEVENT
UID:64656437-3663-4235-b632-363238393133
DTSTAMP:20260421T192720Z
DESCRIPTION:14/40 Jehnice - Kojetín 3:1 (23\,16\,-19\,16)
DTSTART;TZID=Europe/Berlin:20221203T140000
DTEND;TZID=Europe/Berlin:20221203T160000
LOCATION:TJ Sokol Jehnice\, Blanenská 1 Brno - Jehnice
SUMMARY:1-U22Z-C: Jehnice-Kojetín
END:VEVENT
BEGIN:VEVENT
UID:63643236-3332-4039-a333-303266376136
DTSTAMP:20260421T192720Z
DESCRIPTION:17/49 Ostrava B - Kojetín 2:3 (17\,-22\,15\,-27\,-11)
DTSTART;TZID=Europe/Berlin:20221217T100000
DTEND;TZID=Europe/Berlin:20221217T120000
LOCATION:Hala míčových sportů\, Varenská 3098 Ostrava - Moravská Ostrava
SUMMARY:1-U22Z-C: Ostrava B-Kojetín
END:VEVENT
BEGIN:VEVENT
UID:31313532-3162-4633-b666-313466646462
DTSTAMP:20260421T192720Z
DESCRIPTION:18/52 Ostrava B - Kojetín 3:1 (15\,-21\,20\,21)
DTSTART;TZID=Europe/Berlin:20221217T140000
DTEND;TZID=Europe/Berlin:20221217T160000
LOCATION:Hala míčových sportů\, Varenská 3098 Ostrava - Moravská Ostrava
SUMMARY:1-U22Z-C: Ostrava B-Kojetín
END:VEVENT
BEGIN:VEVENT
UID:39623035-3335-4335-b331-646637643430
DTSTAMP:20260421T192720Z
DESCRIPTION:1/3 Kojetín - Nymburk 0:3 (-20\,-17\,-21)
DTSTART;TZID=Europe/Berlin:20230128T110000
DTEND;TZID=Europe/Berlin:20230128T130000
LOCATION:Městská sportovní hala\, Hanusíkova 1476 Kojetín - Kojetín I-Město
SUMMARY:1-U22Z-II: Kojetín-Nymburk
END:VEVENT
BEGIN:VEVENT
UID:31323431-3239-4135-b234-616166613862
DTSTAMP:20260421T192720Z
DESCRIPTION:2/6 Kojetín - Nymburk 0:3 (-11\,-14\,-18)
DTSTART;TZID=Europe/Berlin:20230128T150000
DTEND;TZID=Europe/Berlin:20230128T170000
LOCATION:Městská sportovní hala\, Hanusíkova 1476 Kojetín - Kojetín I-Město
SUMMARY:1-U22Z-II: Kojetín-Nymburk
END:VEVENT
BEGIN:VEVENT
UID:37653234-6538-4366-a364-356333633336
DTSTAMP:20260421T192720Z
DESCRIPTION:3/9 Kojetín - Dolní Újezd 0:3 (-23\,-19\,-19)
DTSTART;TZID=Europe/Berlin:20230204T110000
DTEND;TZID=Europe/Berlin:20230204T130000
LOCATION:Městská sportovní hala\, Hanusíkova 1476 Kojetín - Kojetín I-Město
SUMMARY:1-U22Z-II: Kojetín-Dolní Újezd
END:VEVENT
BEGIN:VEVENT
UID:31383361-6661-4136-a239-633166323930
DTSTAMP:20260421T192720Z
DESCRIPTION:4/12 Kojetín - Dolní Újezd 0:3 (-21\,-14\,-23)
DTSTART;TZID=Europe/Berlin:20230204T150000
DTEND;TZID=Europe/Berlin:20230204T170000
LOCATION:Městská sportovní hala\, Hanusíkova 1476 Kojetín - Kojetín I-Město
SUMMARY:1-U22Z-II: Kojetín-Dolní Újezd
END:VEVENT
BEGIN:VEVENT
UID:36356431-3162-4537-a266-313738373264
DTSTAMP:20260421T192720Z
DESCRIPTION:5/15 Kojetín - Pardubice 0:3 (-19\,-17\,-14)
DTSTART;TZID=Europe/Berlin:20230226T100000
DTEND;TZID=Europe/Berlin:20230226T120000
LOCATION:Městská sportovní hala\, Hanusíkova 1476 Kojetín - Kojetín I-Město
SUMMARY:1-U22Z-II: Kojetín-Pardubice
END:VEVENT
BEGIN:VEVENT
UID:32396465-3962-4665-b332-626137626436
DTSTAMP:20260421T192720Z
DESCRIPTION:6/18 Kojetín - Pardubice 0:3 (-21\,-22\,-25)
DTSTART;TZID=Europe/Berlin:20230226T140000
DTEND;TZID=Europe/Berlin:20230226T160000
LOCATION:Městská sportovní hala\, Hanusíkova 1476 Kojetín - Kojetín I-Město
SUMMARY:1-U22Z-II: Kojetín-Pardubice
END:VEVENT
BEGIN:VEVENT
UID:30653565-3863-4266-b561-373465306530
DTSTAMP:20260421T192720Z
DESCRIPTION:7/21 Nymburk - Kojetín 3:0 (16\,13\,14)
DTSTART;TZID=Europe/Berlin:20230304T130000
DTEND;TZID=Europe/Berlin:20230304T150000
LOCATION:Zimní stadion\, U Stadionu 12 Nymburk
SUMMARY:1-U22Z-II: Nymburk-Kojetín
END:VEVENT
BEGIN:VEVENT
UID:33626233-6334-4666-b961-663765376239
DTSTAMP:20260421T192720Z
DESCRIPTION:8/24 Nymburk - Kojetín 3:0 (18\,14\,17)
DTSTART;TZID=Europe/Berlin:20230304T170000
DTEND;TZID=Europe/Berlin:20230304T190000
LOCATION:Zimní stadion\, U Stadionu 12 Nymburk
SUMMARY:1-U22Z-II: Nymburk-Kojetín
END:VEVENT
BEGIN:VEVENT
UID:65383963-3435-4466-b761-653230383233
DTSTAMP:20260421T192720Z
DESCRIPTION:9/27 Dolní Újezd - Kojetín 3:2 (15\,20\,-21\,-24\,8)
DTSTART;TZID=Europe/Berlin:20230326T100000
DTEND;TZID=Europe/Berlin:20230326T120000
LOCATION:tělocvična Základní školy\,  Dolní Újezd342
SUMMARY:1-U22Z-II: Dolní Újezd-Kojetín
END:VEVENT
BEGIN:VEVENT
UID:36323762-3635-4637-b866-333239373439
DTSTAMP:20260421T192720Z
DESCRIPTION:10/30 Dolní Újezd - Kojetín 3:0 (15\,17\,17)
DTSTART;TZID=Europe/Berlin:20230326T140000
DTEND;TZID=Europe/Berlin:20230326T160000
LOCATION:tělocvična Základní školy\,  Dolní Újezd342
SUMMARY:1-U22Z-II: Dolní Újezd-Kojetín
END:VEVENT
BEGIN:VEVENT
UID:35393333-3733-4538-b931-316633623239
DTSTAMP:20260421T192720Z
DESCRIPTION:11/33 Pardubice - Kojetín 3:0 (22\,19\,20)
DTSTART;TZID=Europe/Berlin:20230402T100000
DTEND;TZID=Europe/Berlin:20230402T120000
LOCATION:Sokolovna\, Jiráskova 29 Pardubice - Zelené Předměstí
SUMMARY:1-U22Z-II: Pardubice-Kojetín
END:VEVENT
BEGIN:VEVENT
UID:65343737-3332-4262-b561-373338386432
DTSTAMP:20260421T192720Z
DESCRIPTION:12/36 Pardubice - Kojetín 3:0 (22\,19\,20)
DTSTART;TZID=Europe/Berlin:20230402T140000
DTEND;TZID=Europe/Berlin:20230402T160000
LOCATION:Sokolovna\, Jiráskova 29 Pardubice - Zelené Předměstí
SUMMARY:1-U22Z-II: Pardubice-Kojetín
END:VEVENT
END:VCALENDAR
