BEGIN:VCALENDAR
VERSION:2.0
PRODID:-//Tělovýchovná jednota Jiskra Nový Bor, z.s.79168//NONSGML kigkonsult.se iCalcreator 2.41.80//
CALSCALE:GREGORIAN
UID:62363166-3830-4234-b363-663036323833
BEGIN:VEVENT
UID:34343264-3534-4738-a563-373436356562
DTSTAMP:20260425T153058Z
DESCRIPTION:1/3 TJ Jiskra Nový Bor - SK Kometa Praha 0:2 (-19\,-9)
DTSTART;TZID=Europe/Berlin:20220924T090000
DTEND;TZID=Europe/Berlin:20220924T110000
LOCATION:Sportovní hala Františka Arnošta Nový Bor\, U hřiště 1391 Nový Bor
SUMMARY:CP-U16Z-Z1B: TJ Jiskra Nový Bor-SK Kometa Praha
END:VEVENT
BEGIN:VEVENT
UID:64343564-3961-4038-b939-623662343333
DTSTAMP:20260425T153058Z
DESCRIPTION:2/5 TJ Sokol Mnichovo Hradiště - TJ Jiskra Nový Bor 2:1 (-16\,1
 4\,12)
DTSTART;TZID=Europe/Berlin:20220924T100000
DTEND;TZID=Europe/Berlin:20220924T120000
LOCATION:Sportovní hala BIOS\, Sokolovská 254 Mnichovo Hradiště
SUMMARY:CP-U16Z-Z1B: TJ Sokol Mnichovo Hradiště-TJ Jiskra Nový Bor
END:VEVENT
BEGIN:VEVENT
UID:31373638-3432-4666-a534-626338316232
DTSTAMP:20260425T153058Z
DESCRIPTION:4/9 VSK Český Krumlov - TJ Jiskra Nový Bor 2:0 (14\,13)
DTSTART;TZID=Europe/Berlin:20220924T120000
DTEND;TZID=Europe/Berlin:20220924T140000
LOCATION:ZŠ Za Nádražím Český Krumlov\, Za Nádražím 222 Český Krumlov - Nád
 ražní Předměstí
SUMMARY:CP-U16Z-Z1B: VSK Český Krumlov-TJ Jiskra Nový Bor
END:VEVENT
BEGIN:VEVENT
UID:63623039-6663-4530-a531-316639643832
DTSTAMP:20260425T153058Z
DESCRIPTION:6/12 Kladno volejbal - TJ Jiskra Nový Bor 2:1 (5\,-21\,11)
DTSTART;TZID=Europe/Berlin:20220924T140000
DTEND;TZID=Europe/Berlin:20220924T160000
LOCATION:Kladenská sportovní hala\, Sportovců 817 Kladno - Rozdělov
SUMMARY:CP-U16Z-Z1B: Kladno volejbal-TJ Jiskra Nový Bor
END:VEVENT
BEGIN:VEVENT
UID:37376234-6465-4236-b232-613534373135
DTSTAMP:20260425T153058Z
DESCRIPTION:8/17 SK Dansport Praha - TJ Jiskra Nový Bor 2:1 (23\,-22\,8)
DTSTART;TZID=Europe/Berlin:20220924T160000
DTEND;TZID=Europe/Berlin:20220924T180000
LOCATION:Sportovní hala Gymnázia Jana Keplera\, Parléřova 118 Praha - Hradč
 any
SUMMARY:CP-U16Z-Z1B: SK Dansport Praha-TJ Jiskra Nový Bor
END:VEVENT
BEGIN:VEVENT
UID:35373237-3335-4736-b334-333237303638
DTSTAMP:20260425T153058Z
DESCRIPTION:10/21 Říčany - TJ Jiskra Nový Bor 0:2 (-19\,-18)
DTSTART;TZID=Europe/Berlin:20220925T090000
DTEND;TZID=Europe/Berlin:20220925T110000
LOCATION:Sportovní hala Světice\, U Hřiště 151 Světice
SUMMARY:CP-U16Z-Z1B: Říčany-TJ Jiskra Nový Bor
END:VEVENT
BEGIN:VEVENT
UID:32363861-6531-4665-b063-653831393062
DTSTAMP:20260425T153058Z
DESCRIPTION:13/27 TJ EMĚ Mělník B - TJ Jiskra Nový Bor 2:0 (11\,7)
DTSTART;TZID=Europe/Berlin:20220925T120000
DTEND;TZID=Europe/Berlin:20220925T140000
LOCATION:Tělocvična ZŠ J. Matiegky\, Pražská 2817 Mělník
SUMMARY:CP-U16Z-Z1B: TJ EMĚ Mělník B-TJ Jiskra Nový Bor
END:VEVENT
BEGIN:VEVENT
UID:31386265-3931-4433-b331-346465336465
DTSTAMP:20260425T153058Z
DESCRIPTION:3/7 TJ Jiskra Nový Bor - TJ Orion Praha B 2:1 (-23\,23\,7)
DTSTART;TZID=Europe/Berlin:20221015T140000
DTEND;TZID=Europe/Berlin:20221015T160000
LOCATION:Sportovní hala Františka Arnošta Nový Bor\, U hřiště 1391 Nový Bor
SUMMARY:CP-U16Z-Z2E: TJ Jiskra Nový Bor-TJ Orion Praha B
END:VEVENT
BEGIN:VEVENT
UID:39616534-6237-4632-b565-636366353664
DTSTAMP:20260425T153058Z
DESCRIPTION:6/14 TJ Jiskra Nový Bor - TJ ABC Braník 1:2 (25\,-20\,-10)
DTSTART;TZID=Europe/Berlin:20221016T090000
DTEND;TZID=Europe/Berlin:20221016T110000
LOCATION:Sportovní hala Františka Arnošta Nový Bor\, U hřiště 1391 Nový Bor
SUMMARY:CP-U16Z-Z2E: TJ Jiskra Nový Bor-TJ ABC Braník
END:VEVENT
BEGIN:VEVENT
UID:64666266-3937-4266-b666-383866306663
DTSTAMP:20260425T153058Z
DESCRIPTION:8/20 TJ Jiskra Nový Bor - TJ EMĚ Mělník A 2:0 (17\,11)
DTSTART;TZID=Europe/Berlin:20221016T120000
DTEND;TZID=Europe/Berlin:20221016T140000
LOCATION:Sportovní hala Františka Arnošta Nový Bor\, U hřiště 1391 Nový Bor
SUMMARY:CP-U16Z-Z2E: TJ Jiskra Nový Bor-TJ EMĚ Mělník A
END:VEVENT
BEGIN:VEVENT
UID:30393663-3234-4337-b035-386437336565
DTSTAMP:20260425T153058Z
DESCRIPTION:1/1 Říčany - TJ Jiskra Nový Bor 1:2 (-11\,12\,-10)
DTSTART;TZID=Europe/Berlin:20221015T093000
DTEND;TZID=Europe/Berlin:20221015T113000
LOCATION:Sportovní hala Světice\, U Hřiště 151 Světice
SUMMARY:CP-U16Z-Z2E: Říčany-TJ Jiskra Nový Bor
END:VEVENT
BEGIN:VEVENT
UID:37656461-6337-4661-a461-313062316638
DTSTAMP:20260425T153058Z
DESCRIPTION:2/5 SK TŘEBÍN\, z.s. - TJ Jiskra Nový Bor 2:0 (22\,19)
DTSTART;TZID=Europe/Berlin:20221015T110000
DTEND;TZID=Europe/Berlin:20221015T130000
LOCATION:ZŠ Máj I\, M. Chlajna 1319 České Budějovice - České Budějovice 2
SUMMARY:CP-U16Z-Z2E: SK TŘEBÍN\, z.s.-TJ Jiskra Nový Bor
END:VEVENT
BEGIN:VEVENT
UID:61333034-3435-4263-b231-643034626666
DTSTAMP:20260425T153058Z
DESCRIPTION:5/12 SK Volejbal Kolín - TJ Jiskra Nový Bor 0:2 (-24\,-22)
DTSTART;TZID=Europe/Berlin:20221015T170000
DTEND;TZID=Europe/Berlin:20221015T190000
LOCATION:hala STAV\, SOŠ Kolín\, Brankovická 1417 Kolín - Kolín V
SUMMARY:CP-U16Z-Z2E: SK Volejbal Kolín-TJ Jiskra Nový Bor
END:VEVENT
BEGIN:VEVENT
UID:35333933-3964-4731-b535-386331343933
DTSTAMP:20260425T153058Z
DESCRIPTION:1/1 TJ Jiskra Nový Bor - TJ Orion Praha B 2:0 (18\,18)
DTSTART;TZID=Europe/Berlin:20221119T093000
DTEND;TZID=Europe/Berlin:20221119T113000
LOCATION:Sportovní hala Františka Arnošta Nový Bor\, U hřiště 1391 Nový Bor
SUMMARY:CP-U16Z-Z3E: TJ Jiskra Nový Bor-TJ Orion Praha B
END:VEVENT
BEGIN:VEVENT
UID:39336334-3663-4433-a339-356431636132
DTSTAMP:20260425T153058Z
DESCRIPTION:8/16 TJ Jiskra Nový Bor - TJ Sokol Mnichovo Hradiště 0:2 (-17\,
 -8)
DTSTART;TZID=Europe/Berlin:20221120T090000
DTEND;TZID=Europe/Berlin:20221120T110000
LOCATION:Sportovní hala Františka Arnošta Nový Bor\, U hřiště 1391 Nový Bor
SUMMARY:CP-U16Z-Z3E: TJ Jiskra Nový Bor-TJ Sokol Mnichovo Hradiště
END:VEVENT
BEGIN:VEVENT
UID:32643430-6334-4732-b330-373161323966
DTSTAMP:20260425T153058Z
DESCRIPTION:9/17 TJ Jiskra Nový Bor - SK TŘEBÍN\, z.s. 2:0 (13\,20)
DTSTART;TZID=Europe/Berlin:20221120T101500
DTEND;TZID=Europe/Berlin:20221120T121500
LOCATION:Sportovní hala Františka Arnošta Nový Bor\, U hřiště 1391 Nový Bor
SUMMARY:CP-U16Z-Z3E: TJ Jiskra Nový Bor-SK TŘEBÍN\, z.s.
END:VEVENT
BEGIN:VEVENT
UID:35613863-3336-4336-a364-373766333535
DTSTAMP:20260425T153058Z
DESCRIPTION:2/3 SK Volejbal Kolín - TJ Jiskra Nový Bor 1:2 (-22\,24\,-10)
DTSTART;TZID=Europe/Berlin:20221119T104500
DTEND;TZID=Europe/Berlin:20221119T124500
LOCATION:hala STAV\, SOŠ Kolín\, Brankovická 1417 Kolín - Kolín V
SUMMARY:CP-U16Z-Z3E: SK Volejbal Kolín-TJ Jiskra Nový Bor
END:VEVENT
BEGIN:VEVENT
UID:64333563-3239-4664-a439-336363366331
DTSTAMP:20260425T153058Z
DESCRIPTION:4/8 Volejbal Tábor - TJ Jiskra Nový Bor 1:2 (-13\,18\,-9)
DTSTART;TZID=Europe/Berlin:20221119T131500
DTEND;TZID=Europe/Berlin:20221119T151500
LOCATION:Sportovní Hala Mír\, U Stadionu Míru 1579 Tábor
SUMMARY:CP-U16Z-Z3E: Volejbal Tábor-TJ Jiskra Nový Bor
END:VEVENT
BEGIN:VEVENT
UID:33653931-3933-4432-b164-636430623139
DTSTAMP:20260425T153058Z
DESCRIPTION:6/11 TJ EMĚ Mělník A - TJ Jiskra Nový Bor 0:2 (-21\,-19)
DTSTART;TZID=Europe/Berlin:20221119T154500
DTEND;TZID=Europe/Berlin:20221119T174500
LOCATION:Tělocvična ZŠ J. Matiegky\, Pražská 2817 Mělník
SUMMARY:CP-U16Z-Z3E: TJ EMĚ Mělník A-TJ Jiskra Nový Bor
END:VEVENT
BEGIN:VEVENT
UID:39656564-6137-4462-b236-323239636132
DTSTAMP:20260425T153058Z
DESCRIPTION:6/10 TJ Jiskra Nový Bor - TJ Orion Praha B 2:1 (-17\,13\,13)
DTSTART;TZID=Europe/Berlin:20230121T153000
DTEND;TZID=Europe/Berlin:20230121T173000
LOCATION:Sportovní hala Františka Arnošta Nový Bor\, U hřiště 1391 Nový Bor
SUMMARY:CP-U16Z-F1I: TJ Jiskra Nový Bor-TJ Orion Praha B
END:VEVENT
BEGIN:VEVENT
UID:31656536-3665-4161-b763-623435663638
DTSTAMP:20260425T153058Z
DESCRIPTION:9/17 TJ Jiskra Nový Bor - SK TŘEBÍN\, z.s. 2:0 (10\,20)
DTSTART;TZID=Europe/Berlin:20230122T103000
DTEND;TZID=Europe/Berlin:20230122T123000
LOCATION:Sportovní hala Františka Arnošta Nový Bor\, U hřiště 1391 Nový Bor
SUMMARY:CP-U16Z-F1I: TJ Jiskra Nový Bor-SK TŘEBÍN\, z.s.
END:VEVENT
BEGIN:VEVENT
UID:31643234-3161-4530-b430-666633346335
DTSTAMP:20260425T153058Z
DESCRIPTION:10/19 TJ Jiskra Nový Bor - VK Napajedla 2:0 (16\,15)
DTSTART;TZID=Europe/Berlin:20230122T114500
DTEND;TZID=Europe/Berlin:20230122T134500
LOCATION:Sportovní hala Františka Arnošta Nový Bor\, U hřiště 1391 Nový Bor
SUMMARY:CP-U16Z-F1I: TJ Jiskra Nový Bor-VK Napajedla
END:VEVENT
BEGIN:VEVENT
UID:63336437-3038-4563-a335-343865313733
DTSTAMP:20260425T153058Z
DESCRIPTION:1/1 VK Brno\, Vejrostova - TJ Jiskra Nový Bor 0:2 (-13\,-19)
DTSTART;TZID=Europe/Berlin:20230121T091500
DTEND;TZID=Europe/Berlin:20230121T111500
LOCATION:ZŠ Vejrostova\, Vejrostova 1066 Brno - Bystrc
SUMMARY:CP-U16Z-F1I: VK Brno\, Vejrostova-TJ Jiskra Nový Bor
END:VEVENT
BEGIN:VEVENT
UID:39343137-3538-4535-b465-343663373337
DTSTAMP:20260425T153058Z
DESCRIPTION:2/4 TJ Žďár nad Sázavou - TJ Jiskra Nový Bor 0:2 (-21\,-20)
DTSTART;TZID=Europe/Berlin:20230121T103000
DTEND;TZID=Europe/Berlin:20230121T123000
LOCATION:ZŠ Palachova\, Palachova 1757 Žďár nad Sázavou - Žďár nad Sázavou 
 6
SUMMARY:CP-U16Z-F1I: TJ Žďár nad Sázavou-TJ Jiskra Nový Bor
END:VEVENT
BEGIN:VEVENT
UID:61336431-3863-4662-b533-336630373136
DTSTAMP:20260425T153058Z
DESCRIPTION:12/21 TJ EMĚ Mělník A - TJ Jiskra Nový Bor 1:2 (-12\,18\,-7)
DTSTART;TZID=Europe/Berlin:20230122T141500
DTEND;TZID=Europe/Berlin:20230122T161500
LOCATION:Tělocvična ZŠ J. Matiegky\, Pražská 2817 Mělník
SUMMARY:CP-U16Z-F1I: TJ EMĚ Mělník A-TJ Jiskra Nový Bor
END:VEVENT
BEGIN:VEVENT
UID:66373135-6236-4665-a432-336230376363
DTSTAMP:20260425T153058Z
DESCRIPTION:7/10 TJ Jiskra Nový Bor - Mikulova B 1:2 (18\,-22\,-9)\nPospíši
 lová J.
DTSTART;TZID=Europe/Berlin:20230218T163000
DTEND;TZID=Europe/Berlin:20230218T183000
LOCATION:Sportovní hala Františka Arnošta Nový Bor\, U hřiště 1391 Nový Bor
SUMMARY:CP-U16Z-F2H: TJ Jiskra Nový Bor-Mikulova B
END:VEVENT
BEGIN:VEVENT
UID:32613230-6530-4437-a163-306266366163
DTSTAMP:20260425T153058Z
DESCRIPTION:10/17 TJ Jiskra Nový Bor - Volejbal Tábor 2:1 (-22\,16\,11)\nUr
 bančík\, Šůchová
DTSTART;TZID=Europe/Berlin:20230219T113000
DTEND;TZID=Europe/Berlin:20230219T133000
LOCATION:Sportovní hala Františka Arnošta Nový Bor\, U hřiště 1391 Nový Bor
SUMMARY:CP-U16Z-F2H: TJ Jiskra Nový Bor-Volejbal Tábor
END:VEVENT
BEGIN:VEVENT
UID:33363536-3432-4335-b235-383331323966
DTSTAMP:20260425T153058Z
DESCRIPTION:11/19 TJ Jiskra Nový Bor - TJ ABC Braník 2:1 (22\,-21\,13)\nUrb
 ančík\, Šůchová
DTSTART;TZID=Europe/Berlin:20230219T124500
DTEND;TZID=Europe/Berlin:20230219T144500
LOCATION:Sportovní hala Františka Arnošta Nový Bor\, U hřiště 1391 Nový Bor
SUMMARY:CP-U16Z-F2H: TJ Jiskra Nový Bor-TJ ABC Braník
END:VEVENT
BEGIN:VEVENT
UID:35333230-3832-4530-a636-613837666162
DTSTAMP:20260425T153058Z
DESCRIPTION:2/2 TJ Sokol Mnichovo Hradiště - TJ Jiskra Nový Bor 1:2 (23\,-2
 1\,-12)\nUrbančík\, Šůchová
DTSTART;TZID=Europe/Berlin:20230218T101500
DTEND;TZID=Europe/Berlin:20230218T121500
LOCATION:Sportovní hala BIOS\, Sokolovská 254 Mnichovo Hradiště
SUMMARY:CP-U16Z-F2H: TJ Sokol Mnichovo Hradiště-TJ Jiskra Nový Bor
END:VEVENT
BEGIN:VEVENT
UID:62383563-6432-4765-a666-633063656665
DTSTAMP:20260425T153058Z
DESCRIPTION:4/4 SK TŘEBÍN\, z.s. - TJ Jiskra Nový Bor 1:2 (-16\,20\,-13)\nP
 ospíšilová J.
DTSTART;TZID=Europe/Berlin:20230218T124500
DTEND;TZID=Europe/Berlin:20230218T144500
LOCATION:ZŠ Máj I\, M. Chlajna 1319 České Budějovice - České Budějovice 2
SUMMARY:CP-U16Z-F2H: SK TŘEBÍN\, z.s.-TJ Jiskra Nový Bor
END:VEVENT
BEGIN:VEVENT
UID:64363131-3635-4231-a464-396234626563
DTSTAMP:20260425T153058Z
DESCRIPTION:9/14 VK AUSTIN Vsetín - TJ Jiskra Nový Bor 0:2 (-19\,-23)\nPosp
 íšilová J.
DTSTART;TZID=Europe/Berlin:20230219T101500
DTEND;TZID=Europe/Berlin:20230219T121500
LOCATION:Sportovní hala Na Lapači\, Na Lapači 247 Vsetín - Rokytnice
SUMMARY:CP-U16Z-F2H: VK AUSTIN Vsetín-TJ Jiskra Nový Bor
END:VEVENT
BEGIN:VEVENT
UID:31613437-6430-4635-b530-623532366565
DTSTAMP:20260425T153058Z
DESCRIPTION:1/2 TJ Jiskra Nový Bor - Říčany 0:2 (-17\,-20)
DTSTART;TZID=Europe/Berlin:20230318T100000
DTEND;TZID=Europe/Berlin:20230318T120000
LOCATION:Sportovní hala Františka Arnošta Nový Bor\, U hřiště 1391 Nový Bor
SUMMARY:CP-U16Z-F3G: TJ Jiskra Nový Bor-Říčany
END:VEVENT
BEGIN:VEVENT
UID:37383430-6463-4135-a333-333963623930
DTSTAMP:20260425T153058Z
DESCRIPTION:3/7 TJ Jiskra Nový Bor - VK Slavia Plzeň 0:2 (-14\,-15)
DTSTART;TZID=Europe/Berlin:20230318T130000
DTEND;TZID=Europe/Berlin:20230318T150000
LOCATION:Sportovní hala Františka Arnošta Nový Bor\, U hřiště 1391 Nový Bor
SUMMARY:CP-U16Z-F3G: TJ Jiskra Nový Bor-VK Slavia Plzeň
END:VEVENT
BEGIN:VEVENT
UID:32633334-3036-4566-a566-316338373565
DTSTAMP:20260425T153058Z
DESCRIPTION:6/16 TJ Jiskra Nový Bor - Střešovice 2:0 (23\,21)
DTSTART;TZID=Europe/Berlin:20230319T090000
DTEND;TZID=Europe/Berlin:20230319T110000
LOCATION:Sportovní hala Františka Arnošta Nový Bor\, U hřiště 1391 Nový Bor
SUMMARY:CP-U16Z-F3G: TJ Jiskra Nový Bor-Střešovice
END:VEVENT
BEGIN:VEVENT
UID:65636334-3032-4362-a362-306366363131
DTSTAMP:20260425T153058Z
DESCRIPTION:9/21 TJ Jiskra Nový Bor - VSK Spartak Děčín 1:2 (-19\,18\,-13)
DTSTART;TZID=Europe/Berlin:20230319T133000
DTEND;TZID=Europe/Berlin:20230319T153000
LOCATION:Sportovní hala Františka Arnošta Nový Bor\, U hřiště 1391 Nový Bor
SUMMARY:CP-U16Z-F3G: TJ Jiskra Nový Bor-VSK Spartak Děčín
END:VEVENT
BEGIN:VEVENT
UID:61346231-3064-4439-a630-363362303838
DTSTAMP:20260425T153058Z
DESCRIPTION:2/5 TJ Kunice - TJ Jiskra Nový Bor 2:1 (12\,-24\,11)
DTSTART;TZID=Europe/Berlin:20230318T113000
DTEND;TZID=Europe/Berlin:20230318T133000
LOCATION:ZŠ Kunice\, Na Návsi 60 Kunice
SUMMARY:CP-U16Z-F3G: TJ Kunice-TJ Jiskra Nový Bor
END:VEVENT
BEGIN:VEVENT
UID:62393831-3139-4432-a263-323661383662
DTSTAMP:20260425T153058Z
DESCRIPTION:5/14 Mikulova B - TJ Jiskra Nový Bor 0:2 (-17\,-24)
DTSTART;TZID=Europe/Berlin:20230318T160000
DTEND;TZID=Europe/Berlin:20230318T180000
LOCATION:tělocvičny ZŠ Mikulova\, Mikulova 1594 Praha - Chodov
SUMMARY:CP-U16Z-F3G: Mikulova B-TJ Jiskra Nový Bor
END:VEVENT
END:VCALENDAR
