BEGIN:VCALENDAR
VERSION:2.0
PRODID:-//VK České Budějovice79180//NONSGML kigkonsult.se iCalcreator 2.41.80//
CALSCALE:GREGORIAN
UID:39396264-3631-4262-b464-356433303165
BEGIN:VEVENT
UID:39303666-6466-4031-b231-366536666634
DTSTAMP:20260421T125023Z
DESCRIPTION:1/1 Č. Budějovice - Znojmo 3:0 (14\,16\,20)
DTSTART;TZID=Europe/Berlin:20221001T100000
DTEND;TZID=Europe/Berlin:20221001T120000
LOCATION:ZŠ Oskara Nedbala České Budějovice\, O. Nedbala 882 České Budějovi
 ce - České Budějovice 2
SUMMARY:EX-U20M-1D: Č. Budějovice-Znojmo
END:VEVENT
BEGIN:VEVENT
UID:33663464-6439-4436-a234-376332376166
DTSTAMP:20260421T125023Z
DESCRIPTION:1/4 Č. Budějovice - Nymburk 3:0 (17\,23\,9)
DTSTART;TZID=Europe/Berlin:20221001T180000
DTEND;TZID=Europe/Berlin:20221001T200000
LOCATION:ZŠ Oskara Nedbala České Budějovice\, O. Nedbala 882 České Budějovi
 ce - České Budějovice 2
SUMMARY:EX-U20M-1D: Č. Budějovice-Nymburk
END:VEVENT
BEGIN:VEVENT
UID:63646330-3165-4533-a332-396363396236
DTSTAMP:20260421T125023Z
DESCRIPTION:2/7 Č. Budějovice - VK Ostrava 3:0 (16\,8\,20)
DTSTART;TZID=Europe/Berlin:20221002T110000
DTEND;TZID=Europe/Berlin:20221002T130000
LOCATION:ZŠ Oskara Nedbala České Budějovice\, O. Nedbala 882 České Budějovi
 ce - České Budějovice 2
SUMMARY:EX-U20M-1D: Č. Budějovice-VK Ostrava
END:VEVENT
BEGIN:VEVENT
UID:39376564-6630-4962-a339-666261653630
DTSTAMP:20260421T125023Z
DESCRIPTION:2/10 Kladno - Č. Budějovice 0:3 (-21\,-22\,-16)
DTSTART;TZID=Europe/Berlin:20221002T170000
DTEND;TZID=Europe/Berlin:20221002T190000
LOCATION:ZŠ Oskara Nedbala České Budějovice\, O. Nedbala 882 České Budějovi
 ce - České Budějovice 2
SUMMARY:EX-U20M-1D: Kladno-Č. Budějovice
END:VEVENT
BEGIN:VEVENT
UID:34333733-6531-4138-a637-666263306133
DTSTAMP:20260421T125023Z
DESCRIPTION:1/3 Č. Budějovice - Kojetín 3:0 (18\,20\,19)
DTSTART;TZID=Europe/Berlin:20221105T140000
DTEND;TZID=Europe/Berlin:20221105T160000
LOCATION:Sportovní gymnázium Ludvíka Daňka\, Botanická 63 Brno - Ponava
SUMMARY:EX-U20M-2A: Č. Budějovice-Kojetín
END:VEVENT
BEGIN:VEVENT
UID:36666132-6661-4331-b766-643266303662
DTSTAMP:20260421T125023Z
DESCRIPTION:1/5 Č. Budějovice - H. Králové 3:0 (18\,14\,26)
DTSTART;TZID=Europe/Berlin:20221105T180000
DTEND;TZID=Europe/Berlin:20221105T200000
LOCATION:Sportovní gymnázium Ludvíka Daňka\, Botanická 63 Brno - Ponava
SUMMARY:EX-U20M-2A: Č. Budějovice-H. Králové
END:VEVENT
BEGIN:VEVENT
UID:36656432-3462-4539-a130-666630313535
DTSTAMP:20260421T125023Z
DESCRIPTION:2/7 Brno - Č. Budějovice 2:3 (-18\,19\,21\,-14\,-14)
DTSTART;TZID=Europe/Berlin:20221106T110000
DTEND;TZID=Europe/Berlin:20221106T130000
LOCATION:Sportovní gymnázium Ludvíka Daňka\, Botanická 63 Brno - Ponava
SUMMARY:EX-U20M-2A: Brno-Č. Budějovice
END:VEVENT
BEGIN:VEVENT
UID:64363539-3439-4636-b963-373330656237
DTSTAMP:20260421T125023Z
DESCRIPTION:2/9 Blue Ostrava - Č. Budějovice 3:1 (-22\,19\,17\,24)
DTSTART;TZID=Europe/Berlin:20221106T150000
DTEND;TZID=Europe/Berlin:20221106T170000
LOCATION:Sportovní gymnázium Ludvíka Daňka\, Botanická 63 Brno - Ponava
SUMMARY:EX-U20M-2A: Blue Ostrava-Č. Budějovice
END:VEVENT
BEGIN:VEVENT
UID:63643334-3133-4532-b464-663837393464
DTSTAMP:20260421T125023Z
DESCRIPTION:1/3 Č. Budějovice - Green F-M 3:1 (25\,-23\,16\,23)
DTSTART;TZID=Europe/Berlin:20221203T110000
DTEND;TZID=Europe/Berlin:20221203T130000
LOCATION:SC Dubina\, Horní 287 Ostrava - Dubina
SUMMARY:EX-U20M-3A: Č. Budějovice-Green F-M
END:VEVENT
BEGIN:VEVENT
UID:31643863-6466-4865-b233-343261356630
DTSTAMP:20260421T125023Z
DESCRIPTION:1/5 Č. Budějovice - Brno 0:3 (-16\,-23\,-23)
DTSTART;TZID=Europe/Berlin:20221203T140000
DTEND;TZID=Europe/Berlin:20221203T160000
LOCATION:SC Dubina\, Horní 287 Ostrava - Dubina
SUMMARY:EX-U20M-3A: Č. Budějovice-Brno
END:VEVENT
BEGIN:VEVENT
UID:38363763-3362-4364-a337-343735333735
DTSTAMP:20260421T125023Z
DESCRIPTION:2/7 Blue Ostrava - Č. Budějovice 3:1 (23\,20\,-23\,16)\nNH- Spo
 rtovní hala VŠB-TUO\, Studentská 6175 Ostrava - Poruba
DTSTART;TZID=Europe/Berlin:20221204T110000
DTEND;TZID=Europe/Berlin:20221204T130000
LOCATION:SC Dubina\, Horní 287 Ostrava - Dubina
SUMMARY:EX-U20M-3A: Blue Ostrava-Č. Budějovice
END:VEVENT
BEGIN:VEVENT
UID:36386630-6466-4236-b333-313539663234
DTSTAMP:20260421T125023Z
DESCRIPTION:2/9 Lvi - Č. Budějovice 3:0 (23\,20\,20)\nNH- Sportovní hala VŠ
 B-TUO\, Studentská 6175 Ostrava - Poruba
DTSTART;TZID=Europe/Berlin:20221204T150000
DTEND;TZID=Europe/Berlin:20221204T170000
LOCATION:SC Dubina\, Horní 287 Ostrava - Dubina
SUMMARY:EX-U20M-3A: Lvi-Č. Budějovice
END:VEVENT
BEGIN:VEVENT
UID:32306263-6233-4531-b761-326166643065
DTSTAMP:20260421T125023Z
DESCRIPTION:2/6 Č. Budějovice - Green F-M 3:0 (10\,16\,23)
DTSTART;TZID=Europe/Berlin:20230212T090000
DTEND;TZID=Europe/Berlin:20230212T110000
LOCATION:Gymnázium Dr. Karla Polesného\, náměstí Komenského 945 Znojmo
SUMMARY:EX-U20M-4B: Č. Budějovice-Green F-M
END:VEVENT
BEGIN:VEVENT
UID:38633939-3462-4231-a131-363365323733
DTSTAMP:20260421T125023Z
DESCRIPTION:1/1 Znojmo - Č. Budějovice 0:3 (-19\,-24\,-16)
DTSTART;TZID=Europe/Berlin:20230211T100000
DTEND;TZID=Europe/Berlin:20230211T120000
LOCATION:Gymnázium Dr. Karla Polesného\, náměstí Komenského 945 Znojmo
SUMMARY:EX-U20M-4B: Znojmo-Č. Budějovice
END:VEVENT
BEGIN:VEVENT
UID:39653061-3964-4130-b731-636432366465
DTSTAMP:20260421T125023Z
DESCRIPTION:1/3 Kladno - Č. Budějovice 0:3 (-17\,-18\,-17)
DTSTART;TZID=Europe/Berlin:20230211T140000
DTEND;TZID=Europe/Berlin:20230211T160000
LOCATION:Gymnázium Dr. Karla Polesného\, náměstí Komenského 945 Znojmo
SUMMARY:EX-U20M-4B: Kladno-Č. Budějovice
END:VEVENT
BEGIN:VEVENT
UID:35623833-3366-4464-a232-303364396662
DTSTAMP:20260421T125023Z
DESCRIPTION:2/8 Zlín - Č. Budějovice 2:3 (23\,23\,-20\,-21\,-12)
DTSTART;TZID=Europe/Berlin:20230212T130000
DTEND;TZID=Europe/Berlin:20230212T150000
LOCATION:Gymnázium Dr. Karla Polesného\, náměstí Komenského 945 Znojmo
SUMMARY:EX-U20M-4B: Zlín-Č. Budějovice
END:VEVENT
BEGIN:VEVENT
UID:30343262-3931-4561-a337-626133666336
DTSTAMP:20260421T125023Z
DESCRIPTION:1/3 Č. Budějovice - Brno 1:3 (22\,-23\,-11\,-23)\nhala SZŠ Brou
 čková 372
DTSTART;TZID=Europe/Berlin:20230304T130000
DTEND;TZID=Europe/Berlin:20230304T150000
LOCATION:Tělocvična střední zdravotnické školy Zlín\, Broučkova 372 Zlín - 
 Příluky
SUMMARY:EX-U20M-5A: Č. Budějovice-Brno
END:VEVENT
BEGIN:VEVENT
UID:36353333-3135-4436-b562-373061653736
DTSTAMP:20260421T125023Z
DESCRIPTION:1/5 Č. Budějovice - Blue Ostrava 3:0 (21\,24\,22)\nhala SZŠ Bro
 učková 372
DTSTART;TZID=Europe/Berlin:20230304T170000
DTEND;TZID=Europe/Berlin:20230304T190000
LOCATION:Tělocvična střední zdravotnické školy Zlín\, Broučkova 372 Zlín - 
 Příluky
SUMMARY:EX-U20M-5A: Č. Budějovice-Blue Ostrava
END:VEVENT
BEGIN:VEVENT
UID:38343962-6433-4338-b063-373039643963
DTSTAMP:20260421T125023Z
DESCRIPTION:2/7 Zlín - Č. Budějovice 0:3 (-25\,-17\,-19)\nNH: Sportovní hal
 a Datart\; U Zimního stadionu 4286 Zlín
DTSTART;TZID=Europe/Berlin:20230305T090000
DTEND;TZID=Europe/Berlin:20230305T110000
LOCATION:Tělocvična střední zdravotnické školy Zlín\, Broučkova 372 Zlín - 
 Příluky
SUMMARY:EX-U20M-5A: Zlín-Č. Budějovice
END:VEVENT
BEGIN:VEVENT
UID:64353138-6261-4064-b630-643036353335
DTSTAMP:20260421T125023Z
DESCRIPTION:2/9 Lvi - Č. Budějovice 2:3 (-19\,17\,19\,-18\,-10)
DTSTART;TZID=Europe/Berlin:20230305T120000
DTEND;TZID=Europe/Berlin:20230305T140000
LOCATION:Tělocvična střední zdravotnické školy Zlín\, Broučkova 372 Zlín - 
 Příluky
SUMMARY:EX-U20M-5A: Lvi-Č. Budějovice
END:VEVENT
BEGIN:VEVENT
UID:36633161-3063-4930-a230-373761343637
DTSTAMP:20260421T125023Z
DESCRIPTION:2/8 Č. Budějovice - Lvi 3:2 (22\,-24\,-21\,24\,9)
DTSTART;TZID=Europe/Berlin:20230430T130000
DTEND;TZID=Europe/Berlin:20230430T150000
LOCATION:SH SK Prosek\, Lovosická 559 Praha - Letňany
SUMMARY:EX-U20M-6A: Č. Budějovice-Lvi
END:VEVENT
BEGIN:VEVENT
UID:65333366-3437-4864-b332-383461356532
DTSTAMP:20260421T125023Z
DESCRIPTION:2/10 Č. Budějovice - Prosek 0:3 (-10\,-11\,-18)
DTSTART;TZID=Europe/Berlin:20230430T170000
DTEND;TZID=Europe/Berlin:20230430T190000
LOCATION:SH SK Prosek\, Lovosická 559 Praha - Letňany
SUMMARY:EX-U20M-6A: Č. Budějovice-Prosek
END:VEVENT
BEGIN:VEVENT
UID:39376463-3463-4636-a565-363132366336
DTSTAMP:20260421T125023Z
DESCRIPTION:1/2 Brno - Č. Budějovice 3:1 (18\,-19\,24\,27)
DTSTART;TZID=Europe/Berlin:20230429T120000
DTEND;TZID=Europe/Berlin:20230429T140000
LOCATION:SH SK Prosek\, Lovosická 559 Praha - Letňany
SUMMARY:EX-U20M-6A: Brno-Č. Budějovice
END:VEVENT
BEGIN:VEVENT
UID:36326435-3435-4535-b037-393131643437
DTSTAMP:20260421T125023Z
DESCRIPTION:1/5 Blue Ostrava - Č. Budějovice 0:3 (-22\,-22\,-23)
DTSTART;TZID=Europe/Berlin:20230429T180000
DTEND;TZID=Europe/Berlin:20230429T200000
LOCATION:SH SK Prosek\, Lovosická 559 Praha - Letňany
SUMMARY:EX-U20M-6A: Blue Ostrava-Č. Budějovice
END:VEVENT
BEGIN:VEVENT
UID:33383930-3637-4361-a137-393130643234
DTSTAMP:20260421T125023Z
DESCRIPTION:2/8 Č. Budějovice - Blue Ostrava 2:3 (-21\,18\,20\,-14\,-9)\nfi
 nále
DTSTART;TZID=Europe/Berlin:20230604T150000
DTEND;TZID=Europe/Berlin:20230604T170000
LOCATION:ZŠ Oskara Nedbala České Budějovice\, O. Nedbala 882 České Budějovi
 ce - České Budějovice 2
SUMMARY:EX-U20M-F: Č. Budějovice-Blue Ostrava
END:VEVENT
BEGIN:VEVENT
UID:39383530-6230-4637-b464-346365363966
DTSTAMP:20260421T125023Z
DESCRIPTION:1/3 Lvi - Č. Budějovice 2:3 (-14\,25\,-13\,21\,-11)\n1F1-2F2
DTSTART;TZID=Europe/Berlin:20230603T140000
DTEND;TZID=Europe/Berlin:20230603T160000
LOCATION:Sportovní hala Lužiny\, Bellušova 1877 Praha - Stodůlky
SUMMARY:EX-U20M-F: Lvi-Č. Budějovice
END:VEVENT
BEGIN:VEVENT
UID:38383061-3266-4533-b731-653066373939
DTSTAMP:20260421T125023Z
DESCRIPTION:2/12 Č. Budějovice - Blue Ostrava 1:3 (-18\,-23\,20\,-22)
DTSTART;TZID=Europe/Berlin:20230602T170000
DTEND;TZID=Europe/Berlin:20230602T190000
LOCATION:ZŠ Oskara Nedbala České Budějovice\, O. Nedbala 882 České Budějovi
 ce - České Budějovice 2
SUMMARY:EX-U20M-F2: Č. Budějovice-Blue Ostrava
END:VEVENT
BEGIN:VEVENT
UID:61636565-6261-4134-b033-633136653965
DTSTAMP:20260421T125023Z
DESCRIPTION:1/2 Zlín - Č. Budějovice 0:3 (-21\,-19\,-13)
DTSTART;TZID=Europe/Berlin:20230601T150000
DTEND;TZID=Europe/Berlin:20230601T170000
LOCATION:ZŠ Oskara Nedbala České Budějovice\, O. Nedbala 882 České Budějovi
 ce - České Budějovice 2
SUMMARY:EX-U20M-F2: Zlín-Č. Budějovice
END:VEVENT
BEGIN:VEVENT
UID:34316466-3330-4634-b432-623534643835
DTSTAMP:20260421T125023Z
DESCRIPTION:2/8 Olomouc - Č. Budějovice 0:3 (-19\,-16\,-13)
DTSTART;TZID=Europe/Berlin:20230602T120000
DTEND;TZID=Europe/Berlin:20230602T140000
LOCATION:ZŠ Oskara Nedbala České Budějovice\, O. Nedbala 882 České Budějovi
 ce - České Budějovice 2
SUMMARY:EX-U20M-F2: Olomouc-Č. Budějovice
END:VEVENT
END:VCALENDAR
